BEGIN:VCALENDAR
VERSION:2.0
PRODID:-//JayceLand - ECPv6.15.20//NONSGML v1.0//EN
CALSCALE:GREGORIAN
METHOD:PUBLISH
X-WR-CALNAME:JayceLand
X-ORIGINAL-URL:https://jayceland.com/blog
X-WR-CALDESC:Events for JayceLand
REFRESH-INTERVAL;VALUE=DURATION:PT1H
X-Robots-Tag:noindex
X-PUBLISHED-TTL:PT1H
BEGIN:VTIMEZONE
TZID:America/New_York
BEGIN:DAYLIGHT
TZOFFSETFROM:-0500
TZOFFSETTO:-0400
TZNAME:EDT
DTSTART:20180311T070000
END:DAYLIGHT
BEGIN:STANDARD
TZOFFSETFROM:-0400
TZOFFSETTO:-0500
TZNAME:EST
DTSTART:20181104T060000
END:STANDARD
BEGIN:DAYLIGHT
TZOFFSETFROM:-0500
TZOFFSETTO:-0400
TZNAME:EDT
DTSTART:20190310T070000
END:DAYLIGHT
BEGIN:STANDARD
TZOFFSETFROM:-0400
TZOFFSETTO:-0500
TZNAME:EST
DTSTART:20191103T060000
END:STANDARD
BEGIN:DAYLIGHT
TZOFFSETFROM:-0500
TZOFFSETTO:-0400
TZNAME:EDT
DTSTART:20200308T070000
END:DAYLIGHT
BEGIN:STANDARD
TZOFFSETFROM:-0400
TZOFFSETTO:-0500
TZNAME:EST
DTSTART:20201101T060000
END:STANDARD
END:VTIMEZONE
BEGIN:VEVENT
DTSTART;TZID=America/New_York:20190123T190000
DTEND;TZID=America/New_York:20190123T205300
DTSTAMP:20260422T003003
CREATED:20190116T184855Z
LAST-MODIFIED:20190116T184855Z
UID:22305-1548270000-1548276780@jayceland.com
SUMMARY:The Front Runner screening (2019-Jan-23 @ 7 p.m.)
DESCRIPTION:The Cinema will screen The Front Runner (Jason Reitman\, U.S. 2018\, 113 min.) "American Senator Gary Hart's presidential campaign in 1988 is derailed when he's caught in a scandalous love affair." [source: Cinema Theater coming soon page\, 2019-Jan-16]
URL:https://jayceland.com/blog/event/the-front-runner-screening-2019-jan-23-7-p-m/
LOCATION:Cinema Theatre\, 957 S. Clinton Ave.\, Rochester\, New York\, 14620\, United States
CATEGORIES:JayceLand 2019-Jan-17
END:VEVENT
BEGIN:VEVENT
DTSTART;TZID=America/New_York:20190123T193000
DTEND;TZID=America/New_York:20190123T205300
DTSTAMP:20260422T003003
CREATED:20190116T184854Z
LAST-MODIFIED:20190116T184854Z
UID:22295-1548271800-1548276780@jayceland.com
SUMMARY:The Dead screening
DESCRIPTION:The Dryden will screen The Dead (John Huston\, U.S. 1987\, 83 min.\, 35mm) as part of the Filmmaking at 80 series.  \nRenowned director\, screenwriter\, and actor John Huston added two more Oscar nominations to his previous thirteen with his final film\, The Dead. An adaptation of a short story by James Joyce\, The Dead is a comedy-drama starring Anjelica Huston (John's daughter)\, as Gretta Conroy\, alongside Donal McCann as her husband\, Gabriel Conroy\, in Dublin in 1904. Attending an Epiphany party\, the two have epiphanies of their own\, as Gretta reveals memories of a dead lover from her youth. John Huston directed The Dead from a wheelchair\, and the film was released posthumously in a final and poignant contemplation of life and love. \n [source: George Eastman Museum calendar\, 2019-Jan-14]
URL:https://jayceland.com/blog/event/the-dead-screening/
LOCATION:Dryden Theatre at George Eastman Museum (formerly George Eastman House)\, 900 East Ave.\, Rochester\, New York\, 14607\, United States
CATEGORIES:JayceLand 2019-Jan-17
END:VEVENT
BEGIN:VEVENT
DTSTART;TZID=America/New_York:20190123T205500
DTEND;TZID=America/New_York:20190123T230400
DTSTAMP:20260422T003003
CREATED:20190116T184855Z
LAST-MODIFIED:20190116T184855Z
UID:22312-1548276900-1548284640@jayceland.com
SUMMARY:Widows screening (2019-Jan-23 @ 8:55 p.m.)
DESCRIPTION:The Cinema will screen Widows (Steve McQueen\, U.K. / U.S. 2018\, 129 min.) "Set in contemporary Chicago\, amid a time of turmoil\, four women with nothing in common except a debt left behind by their dead husbands' criminal activities\, take fate into their own hands\, and conspire to forge a future on their own terms." [source: Cinema Theater coming soon page\, 2019-Jan-16]
URL:https://jayceland.com/blog/event/widows-screening-2019-jan-23-855-p-m/
LOCATION:Cinema Theatre\, 957 S. Clinton Ave.\, Rochester\, New York\, 14620\, United States
CATEGORIES:JayceLand 2019-Jan-17
END:VEVENT
END:VCALENDAR