BEGIN:VCALENDAR
VERSION:2.0
PRODID:-//JayceLand - ECPv6.15.20//NONSGML v1.0//EN
CALSCALE:GREGORIAN
METHOD:PUBLISH
X-ORIGINAL-URL:https://jayceland.com/blog
X-WR-CALDESC:Events for JayceLand
REFRESH-INTERVAL;VALUE=DURATION:PT1H
X-Robots-Tag:noindex
X-PUBLISHED-TTL:PT1H
BEGIN:VTIMEZONE
TZID:America/New_York
BEGIN:DAYLIGHT
TZOFFSETFROM:-0500
TZOFFSETTO:-0400
TZNAME:EDT
DTSTART:20180311T070000
END:DAYLIGHT
BEGIN:STANDARD
TZOFFSETFROM:-0400
TZOFFSETTO:-0500
TZNAME:EST
DTSTART:20181104T060000
END:STANDARD
BEGIN:DAYLIGHT
TZOFFSETFROM:-0500
TZOFFSETTO:-0400
TZNAME:EDT
DTSTART:20190310T070000
END:DAYLIGHT
BEGIN:STANDARD
TZOFFSETFROM:-0400
TZOFFSETTO:-0500
TZNAME:EST
DTSTART:20191103T060000
END:STANDARD
BEGIN:DAYLIGHT
TZOFFSETFROM:-0500
TZOFFSETTO:-0400
TZNAME:EDT
DTSTART:20200308T070000
END:DAYLIGHT
BEGIN:STANDARD
TZOFFSETFROM:-0400
TZOFFSETTO:-0500
TZNAME:EST
DTSTART:20201101T060000
END:STANDARD
END:VTIMEZONE
BEGIN:VEVENT
DTSTART;TZID=America/New_York:20190121T154500
DTEND;TZID=America/New_York:20190121T180000
DTSTAMP:20260421T160836
CREATED:20190116T184855Z
LAST-MODIFIED:20190120T193949Z
UID:22314-1548085500-1548093600@jayceland.com
SUMMARY:Roma screening (2019-Jan-21 @ 3:45 p.m.)
DESCRIPTION:Since the Cinema was closed the last two days due to weather\, they will screen Roma (Alfonso Cuarón\, Mexico / U.S. 2018\, 135 min.) as a matinée today instead. "A year in the life of a middle-class family's maid in Mexico City in the early 1970s. Golden Globe winner for Best Director and Best Foreign Language Film." [source: [source: Cinema Theatre e-mail\, 2019-Jan-16]
URL:https://jayceland.com/blog/event/roma-screening-2019-jan-20-345-p-m/
LOCATION:Cinema Theatre\, 957 S. Clinton Ave.\, Rochester\, New York\, 14620\, United States
CATEGORIES:JayceLand 2019-Jan-17
END:VEVENT
BEGIN:VEVENT
DTSTART;TZID=America/New_York:20190121T190000
DTEND;TZID=America/New_York:20190121T205300
DTSTAMP:20260421T160836
CREATED:20190116T184855Z
LAST-MODIFIED:20190116T184855Z
UID:22303-1548097200-1548103980@jayceland.com
SUMMARY:The Front Runner screening (2019-Jan-21 @ 7 p.m.)
DESCRIPTION:The Cinema will screen The Front Runner (Jason Reitman\, U.S. 2018\, 113 min.) "American Senator Gary Hart's presidential campaign in 1988 is derailed when he's caught in a scandalous love affair." [source: Cinema Theater coming soon page\, 2019-Jan-16]
URL:https://jayceland.com/blog/event/the-front-runner-screening-2019-jan-21-7-p-m/
LOCATION:Cinema Theatre\, 957 S. Clinton Ave.\, Rochester\, New York\, 14620\, United States
CATEGORIES:JayceLand 2019-Jan-17
END:VEVENT
BEGIN:VEVENT
DTSTART;TZID=America/New_York:20190121T205500
DTEND;TZID=America/New_York:20190121T230400
DTSTAMP:20260421T160836
CREATED:20190116T184855Z
LAST-MODIFIED:20190116T184855Z
UID:22310-1548104100-1548111840@jayceland.com
SUMMARY:Widows screening (2019-Jan-21 @ 8:55 p.m.)
DESCRIPTION:The Cinema will screen Widows (Steve McQueen\, U.K. / U.S. 2018\, 129 min.) "Set in contemporary Chicago\, amid a time of turmoil\, four women with nothing in common except a debt left behind by their dead husbands' criminal activities\, take fate into their own hands\, and conspire to forge a future on their own terms." [source: Cinema Theater coming soon page\, 2019-Jan-16]
URL:https://jayceland.com/blog/event/widows-screening-2019-jan-21-855-p-m/
LOCATION:Cinema Theatre\, 957 S. Clinton Ave.\, Rochester\, New York\, 14620\, United States
CATEGORIES:JayceLand 2019-Jan-17
END:VEVENT
END:VCALENDAR