BEGIN:VCALENDAR
VERSION:2.0
PRODID:-//JayceLand - ECPv6.15.20//NONSGML v1.0//EN
CALSCALE:GREGORIAN
METHOD:PUBLISH
X-WR-CALNAME:JayceLand
X-ORIGINAL-URL:https://jayceland.com/blog
X-WR-CALDESC:Events for JayceLand
REFRESH-INTERVAL;VALUE=DURATION:PT1H
X-Robots-Tag:noindex
X-PUBLISHED-TTL:PT1H
BEGIN:VTIMEZONE
TZID:America/New_York
BEGIN:DAYLIGHT
TZOFFSETFROM:-0500
TZOFFSETTO:-0400
TZNAME:EDT
DTSTART:20180311T070000
END:DAYLIGHT
BEGIN:STANDARD
TZOFFSETFROM:-0400
TZOFFSETTO:-0500
TZNAME:EST
DTSTART:20181104T060000
END:STANDARD
BEGIN:DAYLIGHT
TZOFFSETFROM:-0500
TZOFFSETTO:-0400
TZNAME:EDT
DTSTART:20190310T070000
END:DAYLIGHT
BEGIN:STANDARD
TZOFFSETFROM:-0400
TZOFFSETTO:-0500
TZNAME:EST
DTSTART:20191103T060000
END:STANDARD
BEGIN:DAYLIGHT
TZOFFSETFROM:-0500
TZOFFSETTO:-0400
TZNAME:EDT
DTSTART:20200308T070000
END:DAYLIGHT
BEGIN:STANDARD
TZOFFSETFROM:-0400
TZOFFSETTO:-0500
TZNAME:EST
DTSTART:20201101T060000
END:STANDARD
END:VTIMEZONE
BEGIN:VEVENT
DTSTART;TZID=America/New_York:20190116T193000
DTEND;TZID=America/New_York:20190116T214400
DTSTAMP:20260423T200348
CREATED:20190109T173943Z
LAST-MODIFIED:20190109T173943Z
UID:22213-1547667000-1547675040@jayceland.com
SUMMARY:Jersey Boys screening
DESCRIPTION:The Dryden will screen Jersey Boys (Clint Eastwood\, U.S. 2014\, 134 min.\, 35mm) as part of the Filmmaking at 80 series.  \nAfter turning eighty in 2010\, Eastwood turned his lens to American historical stories\, including this musical biography of Frankie Valli and the Four Seasons\, based on the stage play of the same name. Tommy and Frankie have three passions: music\, girls\, and crime. From the wrong side of the tracks\, and in the mafia's heavy shadow\, they spend their nights stealing and playing. Lacking a unique look or sound\, they are relegated to backup vocals—that is\, until the group writes a song that highlights Frankie's falsetto. Amid a whirlwind rise to fame\, the group has to deal with mounting pressures and ultimately decide what it is that makes them happy. One of Eastwood's most surprising films\, it demonstrates that even at this point in his career\, he is willing to take risks by stepping out of his typical genres. \n [source: George Eastman Museum calendar\, 2019-Jan-7]
URL:https://jayceland.com/blog/event/jersey-boys-screening/
LOCATION:Dryden Theatre at George Eastman Museum (formerly George Eastman House)\, 900 East Ave.\, Rochester\, New York\, 14607\, United States
CATEGORIES:JayceLand 2019-Jan-10
END:VEVENT
BEGIN:VEVENT
DTSTART;TZID=America/New_York:20190116T193000
DTEND;TZID=America/New_York:20190116T214500
DTSTAMP:20260423T200348
CREATED:20190109T173945Z
LAST-MODIFIED:20190109T173945Z
UID:22223-1547667000-1547675100@jayceland.com
SUMMARY:Roma screening (2019-Jan-16 @ 7:30 p.m.)
DESCRIPTION:The Cinema will screen Roma (Alfonso Cuarón\, Mexico / U.S. 2018\, 135 min.) "A year in the life of a middle-class family's maid in Mexico City in the early 1970s. Golden Globe winner for Best Director and Best Foreign Language Film." [source: Cinema Theater coming soon page\, 2019-Jan-9]
URL:https://jayceland.com/blog/event/roma-screening-2019-jan-16-730-p-m/
LOCATION:Cinema Theatre\, 957 S. Clinton Ave.\, Rochester\, New York\, 14620\, United States
CATEGORIES:JayceLand 2019-Jan-10
END:VEVENT
BEGIN:VEVENT
DTSTART;TZID=America/New_York:20190116T211500
DTEND;TZID=America/New_York:20190116T230600
DTSTAMP:20260423T200348
CREATED:20190109T173945Z
LAST-MODIFIED:20190109T173945Z
UID:22230-1547673300-1547679960@jayceland.com
SUMMARY:At Eternity's Gate screening (2019-Jan-16 @ 9:15 p.m.)
DESCRIPTION:The Cinema will screen At Eternity's Gate (Julian Schnabel\, Switzerland / United Kingdom / France / United States / Ireland 2018\, 111 min.) "A look at the life of painter Vincent van Gogh during the time he lived in Arles and Auvers-sur-Oise\, France." [source: Cinema Theater coming soon page\, 2019-Jan-9]
URL:https://jayceland.com/blog/event/at-eternitys-gate-screening-2019-jan-16-915-p-m/
LOCATION:Cinema Theatre\, 957 S. Clinton Ave.\, Rochester\, New York\, 14620\, United States
CATEGORIES:JayceLand 2019-Jan-10
END:VEVENT
END:VCALENDAR