BEGIN:VCALENDAR
VERSION:2.0
PRODID:-//JayceLand - ECPv6.15.20//NONSGML v1.0//EN
CALSCALE:GREGORIAN
METHOD:PUBLISH
X-WR-CALNAME:JayceLand
X-ORIGINAL-URL:https://jayceland.com/blog
X-WR-CALDESC:Events for JayceLand
REFRESH-INTERVAL;VALUE=DURATION:PT1H
X-Robots-Tag:noindex
X-PUBLISHED-TTL:PT1H
BEGIN:VTIMEZONE
TZID:America/New_York
BEGIN:DAYLIGHT
TZOFFSETFROM:-0500
TZOFFSETTO:-0400
TZNAME:EDT
DTSTART:20180311T070000
END:DAYLIGHT
BEGIN:STANDARD
TZOFFSETFROM:-0400
TZOFFSETTO:-0500
TZNAME:EST
DTSTART:20181104T060000
END:STANDARD
BEGIN:DAYLIGHT
TZOFFSETFROM:-0500
TZOFFSETTO:-0400
TZNAME:EDT
DTSTART:20190310T070000
END:DAYLIGHT
BEGIN:STANDARD
TZOFFSETFROM:-0400
TZOFFSETTO:-0500
TZNAME:EST
DTSTART:20191103T060000
END:STANDARD
BEGIN:DAYLIGHT
TZOFFSETFROM:-0500
TZOFFSETTO:-0400
TZNAME:EDT
DTSTART:20200308T070000
END:DAYLIGHT
BEGIN:STANDARD
TZOFFSETFROM:-0400
TZOFFSETTO:-0500
TZNAME:EST
DTSTART:20201101T060000
END:STANDARD
END:VTIMEZONE
BEGIN:VEVENT
DTSTART;TZID=America/New_York:20190109T190000
DTEND;TZID=America/New_York:20190109T205800
DTSTAMP:20260423T020552
CREATED:20190102T190140Z
LAST-MODIFIED:20190102T190140Z
UID:22140-1547060400-1547067480@jayceland.com
SUMMARY:Instant Family screening (2019-Jan-9 @ 7 p.m.)
DESCRIPTION:The Cinema will screen Instant Family (Sean Anders\, U.S. 2018\, 118 min.) "A couple find themselves in over their heads when they foster three children." [source: Cinema Theater coming soon page\, 2019-Jan-2]
URL:https://jayceland.com/blog/event/instant-family-screening-2019-jan-9-7-p-m/
LOCATION:Cinema Theatre\, 957 S. Clinton Ave.\, Rochester\, New York\, 14620\, United States
CATEGORIES:JayceLand 2019-Jan-3
END:VEVENT
BEGIN:VEVENT
DTSTART;TZID=America/New_York:20190109T193000
DTEND;TZID=America/New_York:20190109T214400
DTSTAMP:20260423T020552
CREATED:20190102T190139Z
LAST-MODIFIED:20190102T190139Z
UID:22122-1547062200-1547070240@jayceland.com
SUMMARY:Madadayo screening
DESCRIPTION:The Dryden will screen Madadayo (Akira Kurosawa\, Japan 1993\, 134 min.\, 35mm\, Japanese w/subtitles) as part of the Filmmaking at 80 series.  \nA poignant finale by Kurosawa portraying an author in the autumn years of his life\, the film is perhaps closest to his masterwork Ikiru than any of his other films. Utilizing a very still camera and a muted color palette\, Kurosawa adapts the autobiographical writings of author Hyakken Uchida (played by Tatsuo Matsumura) after his retirement from academia in post-Wwii Tokyo. Each year\, Uchida celebrates his birthday with adoring former students\, who ask him if he is ready for death\, to which he replies "Mada dayo\," or "Not yet!" Madadayo was selected as the Japanese entry for the Best Foreign Language Film at the Academy Awards in 1994. \n [source: George Eastman Museum calendar\, 2018-Dec-31]
URL:https://jayceland.com/blog/event/madadayo-screening/
LOCATION:Dryden Theatre at George Eastman Museum (formerly George Eastman House)\, 900 East Ave.\, Rochester\, New York\, 14607\, United States
CATEGORIES:JayceLand 2019-Jan-3
END:VEVENT
BEGIN:VEVENT
DTSTART;TZID=America/New_York:20190109T210000
DTEND;TZID=America/New_York:20190109T230000
DTSTAMP:20260423T020552
CREATED:20190102T190137Z
LAST-MODIFIED:20190102T190137Z
UID:22110-1547067600-1547074800@jayceland.com
SUMMARY:Discount Face Tattoos\, Jake Wolman\, Asa Pilbeam musical performances
DESCRIPTION:[source: Facebook\, 2018-Dec-31]
URL:https://jayceland.com/blog/event/discount-face-tattoos-jake-wolman-asa-pilbeam-musical-performances/
LOCATION:Bug Jar\, 219 Monroe Ave\, Rochester\, New York\, 14607\, United States
CATEGORIES:JayceLand 2019-Jan-3
END:VEVENT
BEGIN:VEVENT
DTSTART;TZID=America/New_York:20190109T210000
DTEND;TZID=America/New_York:20190109T231300
DTSTAMP:20260423T020552
CREATED:20190102T190140Z
LAST-MODIFIED:20190102T190140Z
UID:22146-1547067600-1547075580@jayceland.com
SUMMARY:The Hate U Give screening (2019-Jan-9 @ 9 p.m.)
DESCRIPTION:The Cinema will screen The Hate U Give (George Tillman Jr.\, U.S. 2018\, 133 min.) "Starr witnesses the fatal shooting of her childhood best friend Khalil at the hands of a police officer. Now\, facing pressure from all sides of the community\, Starr must find her voice and stand up for what's right." [source: Cinema Theater coming soon page\, 2019-Jan-2]
URL:https://jayceland.com/blog/event/the-hate-u-give-screening-2019-jan-9-9-p-m/
LOCATION:Cinema Theatre\, 957 S. Clinton Ave.\, Rochester\, New York\, 14620\, United States
CATEGORIES:JayceLand 2019-Jan-3
END:VEVENT
END:VCALENDAR