BEGIN:VCALENDAR
VERSION:2.0
PRODID:-//JayceLand - ECPv6.15.20//NONSGML v1.0//EN
CALSCALE:GREGORIAN
METHOD:PUBLISH
X-WR-CALNAME:JayceLand
X-ORIGINAL-URL:https://jayceland.com/blog
X-WR-CALDESC:Events for JayceLand
REFRESH-INTERVAL;VALUE=DURATION:PT1H
X-Robots-Tag:noindex
X-PUBLISHED-TTL:PT1H
BEGIN:VTIMEZONE
TZID:America/New_York
BEGIN:DAYLIGHT
TZOFFSETFROM:-0500
TZOFFSETTO:-0400
TZNAME:EDT
DTSTART:20180311T070000
END:DAYLIGHT
BEGIN:STANDARD
TZOFFSETFROM:-0400
TZOFFSETTO:-0500
TZNAME:EST
DTSTART:20181104T060000
END:STANDARD
BEGIN:DAYLIGHT
TZOFFSETFROM:-0500
TZOFFSETTO:-0400
TZNAME:EDT
DTSTART:20190310T070000
END:DAYLIGHT
BEGIN:STANDARD
TZOFFSETFROM:-0400
TZOFFSETTO:-0500
TZNAME:EST
DTSTART:20191103T060000
END:STANDARD
BEGIN:DAYLIGHT
TZOFFSETFROM:-0500
TZOFFSETTO:-0400
TZNAME:EDT
DTSTART:20200308T070000
END:DAYLIGHT
BEGIN:STANDARD
TZOFFSETFROM:-0400
TZOFFSETTO:-0500
TZNAME:EST
DTSTART:20201101T060000
END:STANDARD
END:VTIMEZONE
BEGIN:VEVENT
DTSTART;TZID=America/New_York:20190107T190000
DTEND;TZID=America/New_York:20190107T203000
DTSTAMP:20260423T002220
CREATED:20190102T190139Z
LAST-MODIFIED:20190102T190139Z
UID:22124-1546887600-1546893000@jayceland.com
SUMMARY:Moving Beyond Racism: "How Democracies Die\," by Steven Levinsky and Daniel Zablatt
DESCRIPTION:Barnes and Noble will host a Moving Beyond Racism discussion on the book How democracies die by Steven Levinsky\, and Daniel Zablatt. [source: Rochester City Newspaper events calendar\, 2018-Dec-31]
URL:https://jayceland.com/blog/event/moving-beyond-racism-how-democracies-die-by-steven-levinsky-and-daniel-zablatt/
LOCATION:Barnes and Noble\, 3349 Monroe Ave.\, Pittsford\, New York\, 14618\, United States
CATEGORIES:JayceLand 2019-Jan-3
END:VEVENT
BEGIN:VEVENT
DTSTART;TZID=America/New_York:20190107T190000
DTEND;TZID=America/New_York:20190107T205800
DTSTAMP:20260423T002220
CREATED:20190102T190140Z
LAST-MODIFIED:20190102T190140Z
UID:22138-1546887600-1546894680@jayceland.com
SUMMARY:Instant Family screening (2019-Jan-7 @ 7 p.m.)
DESCRIPTION:The Cinema will screen Instant Family (Sean Anders\, U.S. 2018\, 118 min.) "A couple find themselves in over their heads when they foster three children." [source: Cinema Theater coming soon page\, 2019-Jan-2]
URL:https://jayceland.com/blog/event/instant-family-screening-2019-jan-7-7-p-m/
LOCATION:Cinema Theatre\, 957 S. Clinton Ave.\, Rochester\, New York\, 14620\, United States
CATEGORIES:JayceLand 2019-Jan-3
END:VEVENT
BEGIN:VEVENT
DTSTART;TZID=America/New_York:20190107T210000
DTEND;TZID=America/New_York:20190107T231300
DTSTAMP:20260423T002221
CREATED:20190102T190140Z
LAST-MODIFIED:20190102T190140Z
UID:22144-1546894800-1546902780@jayceland.com
SUMMARY:The Hate U Give screening (2019-Jan-7 @ 9 p.m.)
DESCRIPTION:The Cinema will screen The Hate U Give (George Tillman Jr.\, U.S. 2018\, 133 min.) "Starr witnesses the fatal shooting of her childhood best friend Khalil at the hands of a police officer. Now\, facing pressure from all sides of the community\, Starr must find her voice and stand up for what's right." [source: Cinema Theater coming soon page\, 2019-Jan-2]
URL:https://jayceland.com/blog/event/the-hate-u-give-screening-2019-jan-7-9-p-m/
LOCATION:Cinema Theatre\, 957 S. Clinton Ave.\, Rochester\, New York\, 14620\, United States
CATEGORIES:JayceLand 2019-Jan-3
END:VEVENT
END:VCALENDAR