BEGIN:VCALENDAR
VERSION:2.0
PRODID:-//JayceLand - ECPv6.15.20//NONSGML v1.0//EN
CALSCALE:GREGORIAN
METHOD:PUBLISH
X-WR-CALNAME:JayceLand
X-ORIGINAL-URL:https://jayceland.com/blog
X-WR-CALDESC:Events for JayceLand
REFRESH-INTERVAL;VALUE=DURATION:PT1H
X-Robots-Tag:noindex
X-PUBLISHED-TTL:PT1H
BEGIN:VTIMEZONE
TZID:America/New_York
BEGIN:DAYLIGHT
TZOFFSETFROM:-0500
TZOFFSETTO:-0400
TZNAME:EDT
DTSTART:20170312T070000
END:DAYLIGHT
BEGIN:STANDARD
TZOFFSETFROM:-0400
TZOFFSETTO:-0500
TZNAME:EST
DTSTART:20171105T060000
END:STANDARD
BEGIN:DAYLIGHT
TZOFFSETFROM:-0500
TZOFFSETTO:-0400
TZNAME:EDT
DTSTART:20180311T070000
END:DAYLIGHT
BEGIN:STANDARD
TZOFFSETFROM:-0400
TZOFFSETTO:-0500
TZNAME:EST
DTSTART:20181104T060000
END:STANDARD
BEGIN:DAYLIGHT
TZOFFSETFROM:-0500
TZOFFSETTO:-0400
TZNAME:EDT
DTSTART:20190310T070000
END:DAYLIGHT
BEGIN:STANDARD
TZOFFSETFROM:-0400
TZOFFSETTO:-0500
TZNAME:EST
DTSTART:20191103T060000
END:STANDARD
END:VTIMEZONE
BEGIN:VEVENT
DTSTART;TZID=America/New_York:20181216T100000
DTEND;TZID=America/New_York:20181216T140000
DTSTAMP:20260422T234524
CREATED:20181205T182306Z
LAST-MODIFIED:20181205T182306Z
UID:21850-1544954400-1544968800@jayceland.com
SUMMARY:Holiday Bazaar (2018-Dec-16 @ 10 a.m.)
DESCRIPTION:[source: Rochester City Newspaper events calendar\, 2018-Dec-3]
URL:https://jayceland.com/blog/event/holiday-bazaar-2018-dec-16-10-a-m/
LOCATION:The Yards\, 50-52 Public Market\, Rochester\, New York\, 14609\, United States
CATEGORIES:JayceLand 2018-Dec-13
END:VEVENT
BEGIN:VEVENT
DTSTART;TZID=America/New_York:20181216T100000
DTEND;TZID=America/New_York:20181216T160000
DTSTAMP:20260422T234524
CREATED:20181205T182304Z
LAST-MODIFIED:20181205T182304Z
UID:21827-1544954400-1544976000@jayceland.com
SUMMARY:Mayday Underground Crafts + Art show (2018-Dec-16 @ 10 a.m.)
DESCRIPTION:Come and shop 24 of the area's most talented artists\, carefully selected to give you the perfect gift options to round out your holiday shopping. From stocking stuffers to the ultimate big gift\, you'll find it here!! As always admission is free!  New This Year: There will be limited edition swag bags filled with awesome handmade goodies for the first 25 shoppers! What a great way to treat yourself while you cross loved ones off of your gift giving list . \n [source: Mayday Underground Crafts + Art website\, 2018-Dec-3]
URL:https://jayceland.com/blog/event/mayday-underground-crafts-art-show-2018-dec-16-10-a-m/
LOCATION:German House\, 315 Gregory St.\, Rochester\, New York\, 14620\, United States
CATEGORIES:JayceLand 2018-Dec-13
END:VEVENT
BEGIN:VEVENT
DTSTART;TZID=America/New_York:20181216T163000
DTEND;TZID=America/New_York:20181216T180300
DTSTAMP:20260422T234524
CREATED:20181213T143332Z
LAST-MODIFIED:20181213T143332Z
UID:21971-1544977800-1544983380@jayceland.com
SUMMARY:The Old Man and The Gun screening (2018-Dec-16 @ 4:30 p.m.)
DESCRIPTION:The Cinema will screen The Old Man and The Gun (David Lowery\, U.S. 2018\, 93 min.) "Based on the true story of Forrest Tucker and his audacious escape from San Quentin at the age of 70 to an unprecedented string of heists that confounded authorities and enchanted the public." [source: Cinema Theater coming soon page\, 2018-Dec-13]
URL:https://jayceland.com/blog/event/the-old-man-and-the-gun-screening-2018-dec-16-430-p-m/
LOCATION:Cinema Theatre\, 957 S. Clinton Ave.\, Rochester\, New York\, 14620\, United States
CATEGORIES:JayceLand 2018-Dec-13
END:VEVENT
BEGIN:VEVENT
DTSTART;TZID=America/New_York:20181216T190000
DTEND;TZID=America/New_York:20181216T204100
DTSTAMP:20260422T234524
CREATED:20181213T143331Z
LAST-MODIFIED:20181213T143331Z
UID:21958-1544986800-1544992860@jayceland.com
SUMMARY:What They Had screening (2018-Dec-16 @ 7 p.m.)
DESCRIPTION:The Cinema will screen What They Had (Elizabeth Chomko\, U.S. 2018\, 101 min.) "Bridget returns home at her brother's urging to deal with her ailing mother and her father's reluctance to let go of their life together." [source: Cinema Theater coming soon page\, 2018-Dec-13]
URL:https://jayceland.com/blog/event/what-they-had-screening-2018-dec-16-7-p-m/
LOCATION:Cinema Theatre\, 957 S. Clinton Ave.\, Rochester\, New York\, 14620\, United States
CATEGORIES:JayceLand 2018-Dec-13
END:VEVENT
BEGIN:VEVENT
DTSTART;TZID=America/New_York:20181216T190000
DTEND;TZID=America/New_York:20181216T211300
DTSTAMP:20260422T234524
CREATED:20181205T182305Z
LAST-MODIFIED:20181205T182305Z
UID:21841-1544986800-1544994780@jayceland.com
SUMMARY:Yentl screening
DESCRIPTION:The Dryden will screen Yentl (Barbra Streisand\, U.S. 1983\, 133 min.\, 35mm) as part of the L'chaim: Celebrating Jewish Life series.  \nBarbra Streisand purchased the story rights of Yentl ten years before she was able to convince Hollywood to make this film\, eventually becoming the director\, co-writer\, co-producer\, and star. In 1904 Poland\, Yentl is a young Jewish girl wishing to become a religious scholar—at the time exclusively the realm of men. She disguises herself as a boy and takes her late brother's name to study Talmudic Law. As Anshel\, she befriends Avigdor (Mandy Patinkin)\, who is engaged to Hadass (Amy Irving). When Hadass's family rejects the engagement\, Avigdor convinces Anshel/Yentl as his best friend to marry her instead. Yentl won an Oscar for Best Original Score\, and Streisand was the first woman to win Best Director at the Golden Globes. \n [source: George Eastman Museum calendar\, 2018-Dec-3]
URL:https://jayceland.com/blog/event/yentl-screening/
LOCATION:Dryden Theatre at George Eastman Museum (formerly George Eastman House)\, 900 East Ave.\, Rochester\, New York\, 14607\, United States
CATEGORIES:JayceLand 2018-Dec-13
END:VEVENT
BEGIN:VEVENT
DTSTART;TZID=America/New_York:20181216T200000
DTEND;TZID=America/New_York:20181216T220000
DTSTAMP:20260422T234524
CREATED:20181205T182255Z
LAST-MODIFIED:20181205T182255Z
UID:21818-1544990400-1544997600@jayceland.com
SUMMARY:The Merry Gentlemen feat. Bob Sneider
DESCRIPTION:Bop Shop Records and the Rochester Indie Musician Spotlight are pleased to present this concert together: Bob Sneider and The Merry Gentlemen: A Holiday Show For Charity. Tom\, Jann (and everyone at Bop Shop Records) and Dan and the Spotlight team care about our community\, and about amazing music. What better way to celebrate this season of giving than with an interview and performance with Rochester's own Jazz Ambassador\, Bob Sneider.  Bob and the Merry Gentlemen's album\, "Christmas On the Rocks\," features Bob's trio and some amazing guests. For this show\, Bob will be joined by his trio (Danny Ziemann\, bass; Mike Melito\, drums)\, along with Mike Kaupa\, trumpet\, and Grant Le\, recorder (yes\, be ready for some bebop recorder). Bob just might pull some surprise guests from his Santa hat\, too.  Tempro\, a social action organization that's part of Temple B'rith Kodesh in Rochester\, provides temporary housing for more than 150 families a year. All proceeds from this show will go to Tempro. \n [source: Bop Shop website\, 2018-Dec-3]
URL:https://jayceland.com/blog/event/the-merry-gentlemen-feat-bob-sneider/
LOCATION:Bop Shop Records\, 1460 Monroe Ave.\, Rochester\, New York\, 14618\, United States
CATEGORIES:JayceLand 2018-Dec-13
END:VEVENT
BEGIN:VEVENT
DTSTART;TZID=America/New_York:20181216T204500
DTEND;TZID=America/New_York:20181216T224500
DTSTAMP:20260422T234524
CREATED:20181213T143331Z
LAST-MODIFIED:20181213T143331Z
UID:21964-1544993100-1545000300@jayceland.com
SUMMARY:Beautiful Boy screening (2018-Dec-16 @ 8:45 p.m.)
DESCRIPTION:The Cinema will screen Beautiful Boy (Felix van Groeningen\, U.S. 2018\, 120 min.) "Based on the best-selling pair of memoirs from father and son David and Nic Sheff\, Beautiful Boy chronicles the heartbreaking and inspiring experience of survival\, relapse\, and recovery in a family coping with addiction over many years." [source: Cinema Theater coming soon page\, 2018-Dec-13]
URL:https://jayceland.com/blog/event/beautiful-boy-screening-2018-dec-16-845-p-m/
LOCATION:Cinema Theatre\, 957 S. Clinton Ave.\, Rochester\, New York\, 14620\, United States
CATEGORIES:JayceLand 2018-Dec-13
END:VEVENT
END:VCALENDAR