BEGIN:VCALENDAR
VERSION:2.0
PRODID:-//JayceLand - ECPv6.15.20//NONSGML v1.0//EN
CALSCALE:GREGORIAN
METHOD:PUBLISH
X-WR-CALNAME:JayceLand
X-ORIGINAL-URL:https://jayceland.com/blog
X-WR-CALDESC:Events for JayceLand
REFRESH-INTERVAL;VALUE=DURATION:PT1H
X-Robots-Tag:noindex
X-PUBLISHED-TTL:PT1H
BEGIN:VTIMEZONE
TZID:America/New_York
BEGIN:DAYLIGHT
TZOFFSETFROM:-0500
TZOFFSETTO:-0400
TZNAME:EDT
DTSTART:20170312T070000
END:DAYLIGHT
BEGIN:STANDARD
TZOFFSETFROM:-0400
TZOFFSETTO:-0500
TZNAME:EST
DTSTART:20171105T060000
END:STANDARD
BEGIN:DAYLIGHT
TZOFFSETFROM:-0500
TZOFFSETTO:-0400
TZNAME:EDT
DTSTART:20180311T070000
END:DAYLIGHT
BEGIN:STANDARD
TZOFFSETFROM:-0400
TZOFFSETTO:-0500
TZNAME:EST
DTSTART:20181104T060000
END:STANDARD
BEGIN:DAYLIGHT
TZOFFSETFROM:-0500
TZOFFSETTO:-0400
TZNAME:EDT
DTSTART:20190310T070000
END:DAYLIGHT
BEGIN:STANDARD
TZOFFSETFROM:-0400
TZOFFSETTO:-0500
TZNAME:EST
DTSTART:20191103T060000
END:STANDARD
END:VTIMEZONE
BEGIN:VEVENT
DTSTART;TZID=America/New_York:20181207T160000
DTEND;TZID=America/New_York:20181207T200000
DTSTAMP:20260420T042544
CREATED:20181205T182305Z
LAST-MODIFIED:20181205T182305Z
UID:21844-1544198400-1544212800@jayceland.com
SUMMARY:Makers Market
DESCRIPTION:[source: Rochester City Newspaper events calendar\, 2018-Dec-3]
URL:https://jayceland.com/blog/event/makers-market/
LOCATION:New City Cafe\, 441 Parsells Ave.\, Rochester\, New York\, 14609\, United States
CATEGORIES:JayceLand 2018-Dec-6
END:VEVENT
BEGIN:VEVENT
DTSTART;TZID=America/New_York:20181207T170000
DTEND;TZID=America/New_York:20181207T210000
DTSTAMP:20260420T042544
CREATED:20181205T182305Z
LAST-MODIFIED:20181205T182305Z
UID:21845-1544202000-1544216400@jayceland.com
SUMMARY:Krampus Does Hungerford (2018-Dec-7 @ 5 p.m.)
DESCRIPTION:[source: Rochester City Newspaper events calendar\, 2018-Dec-3]
URL:https://jayceland.com/blog/event/krampus-does-hungerford-2018-dec-7-5-p-m/
LOCATION:Hungerford Building\, 1115 E. Main St.\, Rochester\, New York\, 14609\, United States
CATEGORIES:JayceLand 2018-Dec-6
END:VEVENT
BEGIN:VEVENT
DTSTART;TZID=America/New_York:20181207T190000
DTEND;TZID=America/New_York:20181207T203300
DTSTAMP:20260420T042544
CREATED:20181205T182306Z
LAST-MODIFIED:20181205T182306Z
UID:21863-1544209200-1544214780@jayceland.com
SUMMARY:The Old Man and The Gun screening (2018-Dec-7 @ 7 p.m.)
DESCRIPTION:The Cinema will screen The Old Man and The Gun (David Lowery\, U.S. 2018\, 93 min.) "Based on the true story of Forrest Tucker and his audacious escape from San Quentin at the age of 70 to an unprecedented string of heists that confounded authorities and enchanted the public." [source: Cinema Theater coming soon page\, 2018-Dec-5]
URL:https://jayceland.com/blog/event/the-old-man-and-the-gun-screening-2018-dec-7-7-p-m/
LOCATION:Cinema Theatre\, 957 S. Clinton Ave.\, Rochester\, New York\, 14620\, United States
CATEGORIES:JayceLand 2018-Dec-6
END:VEVENT
BEGIN:VEVENT
DTSTART;TZID=America/New_York:20181207T190000
DTEND;TZID=America/New_York:20181207T210000
DTSTAMP:20260420T042544
CREATED:20181205T182304Z
LAST-MODIFIED:20181205T182304Z
UID:21828-1544209200-1544216400@jayceland.com
SUMMARY:Wide Open Mic (2018-Dec-7 @ 7 p.m.)
DESCRIPTION:[source: Writers and Books website\, 2018-Dec-3]
URL:https://jayceland.com/blog/event/wide-open-mic-2018-dec-7-7-p-m/
LOCATION:Writers & Books\, 740 University Ave.\, Rochester\, New York\, 14607\, United States
CATEGORIES:JayceLand 2018-Dec-6
END:VEVENT
BEGIN:VEVENT
DTSTART;TZID=America/New_York:20181207T193000
DTEND;TZID=America/New_York:20181207T213000
DTSTAMP:20260420T042544
CREATED:20181205T182304Z
LAST-MODIFIED:20181205T182304Z
UID:21824-1544211000-1544218200@jayceland.com
SUMMARY:Eastman Philharmonia and Eastman-Rochester Chorus musical performance
DESCRIPTION:[source: Eastman School of Music Calendar\, 2018-Dec-3]
URL:https://jayceland.com/blog/event/eastman-philharmonia-and-eastman-rochester-chorus-musical-performance/
LOCATION:Kodak Hall at Eastman Theatre\, 60 Gibbs St.\, Rochester\, New York\, 14604\, United States
CATEGORIES:JayceLand 2018-Dec-6
END:VEVENT
BEGIN:VEVENT
DTSTART;TZID=America/New_York:20181207T193000
DTEND;TZID=America/New_York:20181207T213000
DTSTAMP:20260420T042544
CREATED:20181205T182306Z
LAST-MODIFIED:20181205T182306Z
UID:21856-1544211000-1544218200@jayceland.com
SUMMARY:Another Holiday Trilogy theatrical performance (2018-Dec-7 @ 7:30 p.m.)
DESCRIPTION:Black Sheep Theatre will host Another Holiday Trilogy: "an evening of holiday-inspired one acts created by local playwright Justin Rielly." In After Another Feast\, directed by Jacqueline Moe\, "Ellie is beginning to move forward after the abrupt passing of her husband\, but with any new chapter\, sometimes those closest to us do not move forward at the same speed." In Beholding the Manger directed by Kristy Funderburk\, and Charlie Cooper\, "Van builds a manger dedicated to the President to win the town's Christmas display competition. However\, while he prepares to celebrate the holiday with a political-themed nativity\, his personal and political views may tear his family even further apart. Will he be able to see the light?" Finally\, in 'Til the Midnight Hour\, directed by Ingrid Alvarez\, "Megan and Matt unexpectedly reconnect – it's been a long time since high school! New Year's Eve may be an apt time to travel down memory lane and reflect on life's changes." [source: Facebook\, 2018-Dec-3]
URL:https://jayceland.com/blog/event/another-holiday-trilogy-theatrical-performance-2018-dec-7-730-p-m/
LOCATION:Black Sheep Theatre\, 274 North Goodman Street Suite D-313\, Rochester\, New York\, 14607\, United States
CATEGORIES:JayceLand 2018-Dec-6
END:VEVENT
BEGIN:VEVENT
DTSTART;TZID=America/New_York:20181207T193000
DTEND;TZID=America/New_York:20181207T214300
DTSTAMP:20260420T042544
CREATED:20181205T182304Z
LAST-MODIFIED:20181205T182304Z
UID:21833-1544211000-1544218980@jayceland.com
SUMMARY:American Sniper screening
DESCRIPTION:The Dryden will screen American Sniper (Clint Eastwood\, U.S. 2014\, 133 min.\, DCP) as part of the Eastwood as Director series.  \nEastwood's highest-grossing film is this controversial portrait of an American Navy Seal sniper deployed during the Iraq war. Bradley Cooper plays Chris Kyle\, a Texas ranch hand spurred to enlist when he sees news coverage of the 1998 U.S. embassy bombings. Through four tours of duty\, Kyle struggles with the brutality of the job\, while tracking a high-ranking al-Qaeda leader and facing off against an Olympic-level Syrian sniper out to get him. In between those tours\, Kyle struggles with domestic life and reconnecting with his wife and daughter as he takes the scars of war home with him. \n [source: George Eastman Museum calendar\, 2018-Dec-3]
URL:https://jayceland.com/blog/event/american-sniper-screening/
LOCATION:Dryden Theatre at George Eastman Museum (formerly George Eastman House)\, 900 East Ave.\, Rochester\, New York\, 14607\, United States
CATEGORIES:JayceLand 2018-Dec-6
END:VEVENT
BEGIN:VEVENT
DTSTART;TZID=America/New_York:20181207T200000
DTEND;TZID=America/New_York:20181207T220000
DTSTAMP:20260420T042544
CREATED:20181205T182257Z
LAST-MODIFIED:20181205T182257Z
UID:21819-1544212800-1544220000@jayceland.com
SUMMARY:A John Waters Christmas
DESCRIPTION:Like a damaged St. Nick for the Christmas corrupted\, John Waters — legendary filmmaker ("Female Trouble"\, "Hairspray"\, "Serial Mom")\, raconteur and author of bestselling books\, Carsick\, Role Models and Make Trouble — hitchhikes into town with a bag full of sticks and stones for the devoted and the damned\, spreading Yuletide profanity and perverted piety with his critically acclaimed one-man show\, "A John Waters Christmas". This rapid-fire "trigger warning" for holiday traditionalists asks the questions\, "Is Prancer the only gay reindeer?"\, "Is it wrong to steal purses from cars in graveyard parking lots on Christmas Eve while mourners leave flowers?"\, "Has Santa ever been nude?"\, and\, most importantly\, "Should you disrupt living crÃ¨che celebrations this year in the name of political action?" Miracles really do happen at Yuletide\, even if they're false\, and Waters prays for a Gaspar Noé Christmas film\, and a new sex club that encourages gay men and lesbians to have sex with each other for the very first time. Delving into his love for the annual December warning list of "Unsafe Toys to Give Your Child" and his hatred for email Christmas cards\, The Easter Bunny\, and any kind of holiday "food issues"\, the Pope of Trash will give you a Cool Yule like no other. You better watch out\, you better cry! John Waters\, the People's Pervert\, is coming to town. \n [source: Babeville website\, 2018-Dec-3]
URL:https://jayceland.com/blog/event/a-john-waters-christmas/
LOCATION:Babeville\, 341 Delaware Ave.\, Buffalo\, New York\, 14202\, United States
CATEGORIES:JayceLand 2018-Dec-6
END:VEVENT
BEGIN:VEVENT
DTSTART;TZID=America/New_York:20181207T203500
DTEND;TZID=America/New_York:20181207T224400
DTSTAMP:20260420T042544
CREATED:20181205T182307Z
LAST-MODIFIED:20181205T182307Z
UID:21870-1544214900-1544222640@jayceland.com
SUMMARY:Blaze screening (2018-Dec-7 @ 8:35 p.m.)
DESCRIPTION:The Cinema will screen Blaze (Ethan Hawke\, U.S. 2018\, 129 min.) "The life of musician Blaze Foley." [source: Cinema Theater coming soon page\, 2018-Dec-5]
URL:https://jayceland.com/blog/event/blaze-screening-2018-dec-7-835-p-m/
LOCATION:Cinema Theatre\, 957 S. Clinton Ave.\, Rochester\, New York\, 14620\, United States
CATEGORIES:JayceLand 2018-Dec-6
END:VEVENT
BEGIN:VEVENT
DTSTART;TZID=America/New_York:20181207T213000
DTEND;TZID=America/New_York:20181207T233000
DTSTAMP:20260420T042544
CREATED:20181205T182306Z
LAST-MODIFIED:20181205T182306Z
UID:21851-1544218200-1544225400@jayceland.com
SUMMARY:The Keelers\, Day Of The Locust musical performances
DESCRIPTION:[source: WNY Shows website\, 2018-Dec-3]
URL:https://jayceland.com/blog/event/the-keelers-day-of-the-locust-musical-performances/
LOCATION:Rosen Krown (formerly Monty's Krown)\, 875 Monroe Ave.\, Rochester\, New York\, 14620\, United States
CATEGORIES:JayceLand 2018-Dec-6
END:VEVENT
END:VCALENDAR