BEGIN:VCALENDAR
VERSION:2.0
PRODID:-//JayceLand - ECPv6.15.20//NONSGML v1.0//EN
CALSCALE:GREGORIAN
METHOD:PUBLISH
X-ORIGINAL-URL:https://jayceland.com/blog
X-WR-CALDESC:Events for JayceLand
REFRESH-INTERVAL;VALUE=DURATION:PT1H
X-Robots-Tag:noindex
X-PUBLISHED-TTL:PT1H
BEGIN:VTIMEZONE
TZID:America/New_York
BEGIN:DAYLIGHT
TZOFFSETFROM:-0500
TZOFFSETTO:-0400
TZNAME:EDT
DTSTART:20170312T070000
END:DAYLIGHT
BEGIN:STANDARD
TZOFFSETFROM:-0400
TZOFFSETTO:-0500
TZNAME:EST
DTSTART:20171105T060000
END:STANDARD
BEGIN:DAYLIGHT
TZOFFSETFROM:-0500
TZOFFSETTO:-0400
TZNAME:EDT
DTSTART:20180311T070000
END:DAYLIGHT
BEGIN:STANDARD
TZOFFSETFROM:-0400
TZOFFSETTO:-0500
TZNAME:EST
DTSTART:20181104T060000
END:STANDARD
BEGIN:DAYLIGHT
TZOFFSETFROM:-0500
TZOFFSETTO:-0400
TZNAME:EDT
DTSTART:20190310T070000
END:DAYLIGHT
BEGIN:STANDARD
TZOFFSETFROM:-0400
TZOFFSETTO:-0500
TZNAME:EST
DTSTART:20191103T060000
END:STANDARD
END:VTIMEZONE
BEGIN:VEVENT
DTSTART;TZID=America/New_York:20181122T100000
DTEND;TZID=America/New_York:20181122T120000
DTSTAMP:20260421T194653
CREATED:20181121T182154Z
LAST-MODIFIED:20181121T182154Z
UID:21608-1542880800-1542888000@jayceland.com
SUMMARY:Wedge Waddle 2018
DESCRIPTION:Wedge Waddle is a walk/run/waddle on a route around the South Wedge of Rochester New York. There are fun stops along the way\, It is free to participate and all are welcome. As a donation you may bring a new pair of sox for Saint Joes House of Hospitality.  This Thanksgiving event starts at Abundance Food Co-Op at 10am and ends at the Historic German House. \n [source: Facebook\, 2018-Nov-19]
URL:https://jayceland.com/blog/event/wedge-waddle-2018/
LOCATION:Abundance Cooperative Market (formerly Echo Tone Music)\, 571 South Ave.\, Rochester\, New York\, 14620\, United States
CATEGORIES:JayceLand 2018-Nov-22
END:VEVENT
BEGIN:VEVENT
DTSTART;TZID=America/New_York:20181122T190000
DTEND;TZID=America/New_York:20181122T212100
DTSTAMP:20260421T194653
CREATED:20181114T190119Z
LAST-MODIFIED:20181114T190119Z
UID:21517-1542913200-1542921660@jayceland.com
SUMMARY:First Man screening (2018-Nov-22 @ 7 p.m.)
DESCRIPTION:The Cinema will screen First Man (Damien Chazelle\, U.S. 2018\, 141 min.) "A look at the life of the astronaut\, Neil Armstrong\, and the legendary space mission that led him to become the first man to walk on the Moon on July 20\, 1969." [source: Cinema Theater coming soon page\, 2018-Nov-14]
URL:https://jayceland.com/blog/event/first-man-screening-2018-nov-22-7-p-m/
LOCATION:Cinema Theatre\, 957 S. Clinton Ave.\, Rochester\, New York\, 14620\, United States
CATEGORIES:JayceLand 2018-Nov-22
END:VEVENT
BEGIN:VEVENT
DTSTART;TZID=America/New_York:20181122T212500
DTEND;TZID=America/New_York:20181122T224900
DTSTAMP:20260421T194653
CREATED:20181114T190119Z
LAST-MODIFIED:20181114T190119Z
UID:21524-1542921900-1542926940@jayceland.com
SUMMARY:Tea with the Dames screening (2018-Nov-22 @ 9:25 p.m.)
DESCRIPTION:The Cinema will screen Tea with the Dames (Roger Michell\, U.S. 2018\, 84 min.) "Dames Judi Dench\, Maggie Smith\, Joan Plowright and Eileen Atkins have let the cameras in on a friendship that goes back more than half a century. The four acting greats discuss their careers and reminisce about their humble beginnings in the theater." [source: Cinema Theater coming soon page\, 2018-Nov-14]
URL:https://jayceland.com/blog/event/tea-with-the-dames-screening-2018-nov-22-925-p-m/
LOCATION:Cinema Theatre\, 957 S. Clinton Ave.\, Rochester\, New York\, 14620\, United States
CATEGORIES:JayceLand 2018-Nov-22
END:VEVENT
END:VCALENDAR