BEGIN:VCALENDAR
VERSION:2.0
PRODID:-//JayceLand - ECPv6.15.20//NONSGML v1.0//EN
CALSCALE:GREGORIAN
METHOD:PUBLISH
X-ORIGINAL-URL:https://jayceland.com/blog
X-WR-CALDESC:Events for JayceLand
REFRESH-INTERVAL;VALUE=DURATION:PT1H
X-Robots-Tag:noindex
X-PUBLISHED-TTL:PT1H
BEGIN:VTIMEZONE
TZID:America/New_York
BEGIN:DAYLIGHT
TZOFFSETFROM:-0500
TZOFFSETTO:-0400
TZNAME:EDT
DTSTART:20170312T070000
END:DAYLIGHT
BEGIN:STANDARD
TZOFFSETFROM:-0400
TZOFFSETTO:-0500
TZNAME:EST
DTSTART:20171105T060000
END:STANDARD
BEGIN:DAYLIGHT
TZOFFSETFROM:-0500
TZOFFSETTO:-0400
TZNAME:EDT
DTSTART:20180311T070000
END:DAYLIGHT
BEGIN:STANDARD
TZOFFSETFROM:-0400
TZOFFSETTO:-0500
TZNAME:EST
DTSTART:20181104T060000
END:STANDARD
BEGIN:DAYLIGHT
TZOFFSETFROM:-0500
TZOFFSETTO:-0400
TZNAME:EDT
DTSTART:20190310T070000
END:DAYLIGHT
BEGIN:STANDARD
TZOFFSETFROM:-0400
TZOFFSETTO:-0500
TZNAME:EST
DTSTART:20191103T060000
END:STANDARD
END:VTIMEZONE
BEGIN:VEVENT
DTSTART;TZID=America/New_York:20181121T183000
DTEND;TZID=America/New_York:20181121T203000
DTSTAMP:20260420T131011
CREATED:20181114T190116Z
LAST-MODIFIED:20181114T190116Z
UID:21477-1542825000-1542832200@jayceland.com
SUMMARY:Zack Rabbet Futt musical performance
DESCRIPTION:Growing up in Rochester my whole life\, I've always been surrounded by family and friends that have held a deep appreciation for roots and string music. A musical tradition that is more of a calling to those that play it than a past time. Half history and half art form old time music gives a voice to those that have come before us. So for over the past year I've dedicated my self to the clawhammer banjo to carry on a tradition and to channel the spirit of these songs. \n [source: Facebook\, 2018-Nov-13]
URL:https://jayceland.com/blog/event/zack-rabbet-futt-musical-performance/
LOCATION:Sticky Lips BBQ Juke Joint\, 830 Jefferson Rd.\, Henrietta\, New York\, 14623\, United States
CATEGORIES:JayceLand 2018-Nov-15
END:VEVENT
BEGIN:VEVENT
DTSTART;TZID=America/New_York:20181121T190000
DTEND;TZID=America/New_York:20181121T212100
DTSTAMP:20260420T131011
CREATED:20181114T190118Z
LAST-MODIFIED:20181114T190118Z
UID:21516-1542826800-1542835260@jayceland.com
SUMMARY:First Man screening (2018-Nov-21 @ 7 p.m.)
DESCRIPTION:The Cinema will screen First Man (Damien Chazelle\, U.S. 2018\, 141 min.) "A look at the life of the astronaut\, Neil Armstrong\, and the legendary space mission that led him to become the first man to walk on the Moon on July 20\, 1969." [source: Cinema Theater coming soon page\, 2018-Nov-14]
URL:https://jayceland.com/blog/event/first-man-screening-2018-nov-21-7-p-m/
LOCATION:Cinema Theatre\, 957 S. Clinton Ave.\, Rochester\, New York\, 14620\, United States
CATEGORIES:JayceLand 2018-Nov-15
END:VEVENT
BEGIN:VEVENT
DTSTART;TZID=America/New_York:20181121T193000
DTEND;TZID=America/New_York:20181121T200500
DTSTAMP:20260420T131011
CREATED:20181114T190749Z
LAST-MODIFIED:20181114T190849Z
UID:21588-1542828600-1542830700@jayceland.com
SUMMARY:Persona screening
DESCRIPTION:The Dryden will screen Persona (Ingmar Bergman\, Sweden 1966\, 83 min.\, 35mm\, Swedish w/subtitles) as part of the Bergman Centennial series.  \nBergman's once and future muses star together in this psychological drama examining the nature of identity. A young actress\, Elisabet (Liv Ullmann)\, has suddenly stopped moving and speaking\, leading to a stay in a hospital. Believing that this is an illness of the mind\, the doctors charge a nurse\, Alma (Bibi Andersson)\, with taking Elisabet to a remote cottage and caring for her there. At the cottage\, Elisabet seems to improve\, but Alma feels the need to fill her silence and begins to reveal secrets about herself. As the tension rises between the two women\, they start to mirror each other to the point where even Elisabet's husband doesn't know the difference\, leading to a shocking and radical finale. \n [source: George Eastman Museum calendar\, 2018-Nov-13]
URL:https://jayceland.com/blog/event/persona-screening/
LOCATION:Dryden Theatre at George Eastman Museum (formerly George Eastman House)\, 900 East Ave.\, Rochester\, New York\, 14607\, United States
CATEGORIES:JayceLand 2018-Nov-15
END:VEVENT
BEGIN:VEVENT
DTSTART;TZID=America/New_York:20181121T193000
DTEND;TZID=America/New_York:20181121T203000
DTSTAMP:20260420T131011
CREATED:20181121T182154Z
LAST-MODIFIED:20181121T182154Z
UID:21615-1542828600-1542832200@jayceland.com
SUMMARY:Joel Lindley comic performance
DESCRIPTION:[source: Rochester City Newspaper events calendar\, 2018-Nov-19]
URL:https://jayceland.com/blog/event/joel-lindley-comic-performance/
LOCATION:Comedy at The Carlson\, 50 Carlson Rd.\, Rochester\, New York\, 14610\, United States
CATEGORIES:JayceLand 2018-Nov-15
END:VEVENT
BEGIN:VEVENT
DTSTART;TZID=America/New_York:20181121T200000
DTEND;TZID=America/New_York:20181121T220000
DTSTAMP:20260420T131011
CREATED:20181114T190116Z
LAST-MODIFIED:20181114T190116Z
UID:21476-1542830400-1542837600@jayceland.com
SUMMARY:Thanksgiving Eve Throwdown: Teagan and The Tweeds musical performance
DESCRIPTION:Teagan and The Tweeds have made Three Heads Brewing their home over the last couple years. Their bluesy rock shows pair so well with our beers and the people agree judging by the crowds they draw here.  We are going to be throwing a Thanksgiving Eve party for the ages and you do not want to miss the fun. Come on out\, dance your a**es off and then eat guilt free the next day as you nurse your hangover. \n [source: Facebook\, 2018-Nov-13]
URL:https://jayceland.com/blog/event/thanksgiving-eve-throwdown-teagan-and-the-tweeds-musical-performance/
LOCATION:Three Heads Brewing\, 186 Atlantic Ave.\, Rochester\, New York\, 14607\, United States
CATEGORIES:JayceLand 2018-Nov-15
END:VEVENT
BEGIN:VEVENT
DTSTART;TZID=America/New_York:20181121T210000
DTEND;TZID=America/New_York:20181121T230000
DTSTAMP:20260420T131011
CREATED:20181114T190116Z
LAST-MODIFIED:20181114T190116Z
UID:21471-1542834000-1542841200@jayceland.com
SUMMARY:Night Before Thanksgiving Bash: Grand Canyon Rescue Episode musical performance
DESCRIPTION:[source: Abilene Bar and Lounge website\, 2018-Nov-13]
URL:https://jayceland.com/blog/event/night-before-thanksgiving-bash-grand-canyon-rescue-episode-musical-performance/
LOCATION:Abilene Bar and Lounge\, 153 Liberty Pole Way\, Rochester\, New York\, 14604\, United States
CATEGORIES:JayceLand 2018-Nov-15
END:VEVENT
BEGIN:VEVENT
DTSTART;TZID=America/New_York:20181121T212500
DTEND;TZID=America/New_York:20181121T224900
DTSTAMP:20260420T131011
CREATED:20181114T190119Z
LAST-MODIFIED:20181114T190119Z
UID:21523-1542835500-1542840540@jayceland.com
SUMMARY:Tea with the Dames screening (2018-Nov-21 @ 9:25 p.m.)
DESCRIPTION:The Cinema will screen Tea with the Dames (Roger Michell\, U.S. 2018\, 84 min.) "Dames Judi Dench\, Maggie Smith\, Joan Plowright and Eileen Atkins have let the cameras in on a friendship that goes back more than half a century. The four acting greats discuss their careers and reminisce about their humble beginnings in the theater." [source: Cinema Theater coming soon page\, 2018-Nov-14]
URL:https://jayceland.com/blog/event/tea-with-the-dames-screening-2018-nov-21-925-p-m/
LOCATION:Cinema Theatre\, 957 S. Clinton Ave.\, Rochester\, New York\, 14620\, United States
CATEGORIES:JayceLand 2018-Nov-15
END:VEVENT
END:VCALENDAR