BEGIN:VCALENDAR
VERSION:2.0
PRODID:-//JayceLand - ECPv6.15.20//NONSGML v1.0//EN
CALSCALE:GREGORIAN
METHOD:PUBLISH
X-WR-CALNAME:JayceLand
X-ORIGINAL-URL:https://jayceland.com/blog
X-WR-CALDESC:Events for JayceLand
REFRESH-INTERVAL;VALUE=DURATION:PT1H
X-Robots-Tag:noindex
X-PUBLISHED-TTL:PT1H
BEGIN:VTIMEZONE
TZID:America/New_York
BEGIN:DAYLIGHT
TZOFFSETFROM:-0500
TZOFFSETTO:-0400
TZNAME:EDT
DTSTART:20170312T070000
END:DAYLIGHT
BEGIN:STANDARD
TZOFFSETFROM:-0400
TZOFFSETTO:-0500
TZNAME:EST
DTSTART:20171105T060000
END:STANDARD
BEGIN:DAYLIGHT
TZOFFSETFROM:-0500
TZOFFSETTO:-0400
TZNAME:EDT
DTSTART:20180311T070000
END:DAYLIGHT
BEGIN:STANDARD
TZOFFSETFROM:-0400
TZOFFSETTO:-0500
TZNAME:EST
DTSTART:20181104T060000
END:STANDARD
BEGIN:DAYLIGHT
TZOFFSETFROM:-0500
TZOFFSETTO:-0400
TZNAME:EDT
DTSTART:20190310T070000
END:DAYLIGHT
BEGIN:STANDARD
TZOFFSETFROM:-0400
TZOFFSETTO:-0500
TZNAME:EST
DTSTART:20191103T060000
END:STANDARD
END:VTIMEZONE
BEGIN:VEVENT
DTSTART;TZID=America/New_York:20181019T183000
DTEND;TZID=America/New_York:20181019T202100
DTSTAMP:20260425T152408
CREATED:20181017T182627Z
LAST-MODIFIED:20181017T182627Z
UID:21051-1539973800-1539980460@jayceland.com
SUMMARY:Sorry to Bother You screening (2018-Oct-19 @ 6:30 p.m.)
DESCRIPTION:The UofR Cinema Group will screen Sorry to Bother You (Boots Riley\, U.S. 2018\, 111 min.) in Hoyt Auditorium.  \nIn an alternate present-day version of Oakland\, telemarketer Cassius Green discovers a magical key to professional success\, propelling him into a universe of greed. \n [source: University of Rochester events calendar\, 2018-Oct-15]
URL:https://jayceland.com/blog/event/sorry-to-bother-you-screening-2018-oct-19-630-p-m/
LOCATION:Hoyt Auditorium\, University of Rochester Campus\, Rochester\, New York\, United States
CATEGORIES:JayceLand 2018-Oct-18
END:VEVENT
BEGIN:VEVENT
DTSTART;TZID=America/New_York:20181019T190000
DTEND;TZID=America/New_York:20181019T210000
DTSTAMP:20260425T152408
CREATED:20181017T182628Z
LAST-MODIFIED:20181017T182628Z
UID:21061-1539975600-1539982800@jayceland.com
SUMMARY:Crazy Rich Asians screening (2018-Oct-19 @ 7 p.m.)
DESCRIPTION:The Cinema will screen Crazy Rich Asians (Jon M. Chu\, U.S. 2018\, 120 min.) "This contemporary romantic comedy\, based on a global bestseller\, follows native New Yorker Rachel Chu to Singapore to meet her boyfriend's family." [source: Cinema Theater coming soon page\, 2018-Oct-17]
URL:https://jayceland.com/blog/event/crazy-rich-asians-screening-2018-oct-19-7-p-m/
LOCATION:Cinema Theatre\, 957 S. Clinton Ave.\, Rochester\, New York\, 14620\, United States
CATEGORIES:JayceLand 2018-Oct-18
END:VEVENT
BEGIN:VEVENT
DTSTART;TZID=America/New_York:20181019T193000
DTEND;TZID=America/New_York:20181019T210900
DTSTAMP:20260425T152408
CREATED:20181017T182626Z
LAST-MODIFIED:20181017T182626Z
UID:21043-1539977400-1539983340@jayceland.com
SUMMARY:American Socialist: The Life and Times of Eugene Victor Debs screening
DESCRIPTION:The Dryden will screen American Socialist: The Life and Times of Eugene Victor Debs (Yale Strom\, U.S. 2018\, 99 min.\, DCP) as part of the Labor Film Series series.  \nLeader of the American Railway Union's great Pullman Strike of 1896 and a founder of the Industrial Workers of the World\, Gene Debs ran as a Socialist for president of the United States three times—once from prison\, having been convicted of opposing military service in World War I. Filmmaker and ethnographer Yale Strom has turned his attention to this American political hero\, hoping to define and contextualize the term "socialist" through an objective but passionate history of a movement that continues to have an impact on our lives today. \n [source: George Eastman Museum calendar\, 2018-Oct-15]
URL:https://jayceland.com/blog/event/american-socialist-the-life-and-times-of-eugene-victor-debs-screening/
LOCATION:Dryden Theatre at George Eastman Museum (formerly George Eastman House)\, 900 East Ave.\, Rochester\, New York\, 14607\, United States
CATEGORIES:JayceLand 2018-Oct-18
END:VEVENT
BEGIN:VEVENT
DTSTART;TZID=America/New_York:20181019T193000
DTEND;TZID=America/New_York:20181019T213000
DTSTAMP:20260425T152408
CREATED:20181017T182626Z
LAST-MODIFIED:20181017T182626Z
UID:21037-1539977400-1539984600@jayceland.com
SUMMARY:Eastman Philharmonia musical performance (2018-Oct-19 @ 7:30 p.m.)
DESCRIPTION:[source: Eastman School of Music Calendar\, 2018-Oct-15]
URL:https://jayceland.com/blog/event/eastman-philharmonia-musical-performance-2018-oct-19-730-p-m/
LOCATION:Kodak Center (formerly Kodak on the Ridge)\, 200 W. Ridge Road\, Rochester\, New York\, 14615\, United States
CATEGORIES:JayceLand 2018-Oct-18
END:VEVENT
BEGIN:VEVENT
DTSTART;TZID=America/New_York:20181019T200000
DTEND;TZID=America/New_York:20181019T220000
DTSTAMP:20260425T152408
CREATED:20181017T182627Z
LAST-MODIFIED:20181017T182627Z
UID:21050-1539979200-1539986400@jayceland.com
SUMMARY:Frank Hurricane\, Seth Faergolzia\, Tori Thayer\, Jack Topht musical performances
DESCRIPTION:[source: WNY Shows website\, 2018-Oct-15]
URL:https://jayceland.com/blog/event/frank-hurricane-seth-faergolzia-tori-thayer-jack-topht-musical-performances/
LOCATION:Meddlesome Lab\, 289 Griffiths St.\, Rochester\, New York\, 14607\, United States
CATEGORIES:JayceLand 2018-Oct-18
END:VEVENT
BEGIN:VEVENT
DTSTART;TZID=America/New_York:20181019T210000
DTEND;TZID=America/New_York:20181019T225100
DTSTAMP:20260425T152408
CREATED:20181017T182627Z
LAST-MODIFIED:20181017T182627Z
UID:21052-1539982800-1539989460@jayceland.com
SUMMARY:Sorry to Bother You screening (2018-Oct-19 @ 9 p.m.)
DESCRIPTION:The UofR Cinema Group will screen Sorry to Bother You (Boots Riley\, U.S. 2018\, 111 min.) in Hoyt Auditorium.  \nIn an alternate present-day version of Oakland\, telemarketer Cassius Green discovers a magical key to professional success\, propelling him into a universe of greed. \n [source: University of Rochester events calendar\, 2018-Oct-15]
URL:https://jayceland.com/blog/event/sorry-to-bother-you-screening-2018-oct-19-9-p-m/
LOCATION:Hoyt Auditorium\, University of Rochester Campus\, Rochester\, New York\, United States
CATEGORIES:JayceLand 2018-Oct-18
END:VEVENT
BEGIN:VEVENT
DTSTART;TZID=America/New_York:20181019T210500
DTEND;TZID=America/New_York:20181019T232000
DTSTAMP:20260425T152408
CREATED:20181017T182628Z
LAST-MODIFIED:20181017T182628Z
UID:21068-1539983100-1539991200@jayceland.com
SUMMARY:BlacKkKlansman screening (2018-Oct-19 @ 9:05 p.m.)
DESCRIPTION:The Cinema will screen BlacKkKlansman (Spike Lee\, U.S. 2018\, 135 min.) "Ron Stallworth\, an African American police officer from Colorado Springs\, Co\, successfully manages to infiltrate the local Ku Klux Klan branch with the help of a Jewish surrogate who eventually becomes its leader. Based on actual events." [source: Cinema Theater coming soon page\, 2018-Oct-17]
URL:https://jayceland.com/blog/event/blackkklansman-screening-2018-oct-19-905-p-m/
LOCATION:Cinema Theatre\, 957 S. Clinton Ave.\, Rochester\, New York\, 14620\, United States
CATEGORIES:JayceLand 2018-Oct-18
END:VEVENT
BEGIN:VEVENT
DTSTART;TZID=America/New_York:20181019T233000
DTEND;TZID=America/New_York:20181020T012100
DTSTAMP:20260425T152408
CREATED:20181017T182627Z
LAST-MODIFIED:20181017T182627Z
UID:21053-1539991800-1539998460@jayceland.com
SUMMARY:Sorry to Bother You screening (2018-Oct-19 @ 11:30 p.m.)
DESCRIPTION:The UofR Cinema Group will screen Sorry to Bother You (Boots Riley\, U.S. 2018\, 111 min.) in Hoyt Auditorium.  \nIn an alternate present-day version of Oakland\, telemarketer Cassius Green discovers a magical key to professional success\, propelling him into a universe of greed. \n [source: University of Rochester events calendar\, 2018-Oct-15]
URL:https://jayceland.com/blog/event/sorry-to-bother-you-screening-2018-oct-19-1130-p-m/
LOCATION:Hoyt Auditorium\, University of Rochester Campus\, Rochester\, New York\, United States
CATEGORIES:JayceLand 2018-Oct-18
END:VEVENT
END:VCALENDAR