BEGIN:VCALENDAR
VERSION:2.0
PRODID:-//JayceLand - ECPv6.15.20//NONSGML v1.0//EN
CALSCALE:GREGORIAN
METHOD:PUBLISH
X-WR-CALNAME:JayceLand
X-ORIGINAL-URL:https://jayceland.com/blog
X-WR-CALDESC:Events for JayceLand
REFRESH-INTERVAL;VALUE=DURATION:PT1H
X-Robots-Tag:noindex
X-PUBLISHED-TTL:PT1H
BEGIN:VTIMEZONE
TZID:America/New_York
BEGIN:DAYLIGHT
TZOFFSETFROM:-0500
TZOFFSETTO:-0400
TZNAME:EDT
DTSTART:20170312T070000
END:DAYLIGHT
BEGIN:STANDARD
TZOFFSETFROM:-0400
TZOFFSETTO:-0500
TZNAME:EST
DTSTART:20171105T060000
END:STANDARD
BEGIN:DAYLIGHT
TZOFFSETFROM:-0500
TZOFFSETTO:-0400
TZNAME:EDT
DTSTART:20180311T070000
END:DAYLIGHT
BEGIN:STANDARD
TZOFFSETFROM:-0400
TZOFFSETTO:-0500
TZNAME:EST
DTSTART:20181104T060000
END:STANDARD
BEGIN:DAYLIGHT
TZOFFSETFROM:-0500
TZOFFSETTO:-0400
TZNAME:EDT
DTSTART:20190310T070000
END:DAYLIGHT
BEGIN:STANDARD
TZOFFSETFROM:-0400
TZOFFSETTO:-0500
TZNAME:EST
DTSTART:20191103T060000
END:STANDARD
END:VTIMEZONE
BEGIN:VEVENT
DTSTART;TZID=America/New_York:20180924T133000
DTEND;TZID=America/New_York:20180924T152700
DTSTAMP:20260423T115120
CREATED:20180919T163357Z
LAST-MODIFIED:20180919T163357Z
UID:20632-1537795800-1537802820@jayceland.com
SUMMARY:The Human Comedy screening (2018-Sep-24 @ 1:30 p.m.)
DESCRIPTION:The Dryden will screen The Human Comedy (Clarence Brown\, U.S. 1943\, 117 min.\, 35mm) as part of the Senior Matinee series.  \nMultiple protagonists tell the home-front story of the small town of Ithaca\, California. Homer MacAuley (Mickey Rooney) takes a night job as a telegraph messenger to help his mother make ends meet while his older brother is off to war. This puts Homer in contact with many others in the town\, including his brother and sister (Van Johnson\, Donna Reed)\, the young lovers Tom and Diana (James Craig\, Marsha Hunt)\, and wire chief Willie Grogan (Frank Morgan). Life in all its possibilities plays out against this backdrop of the average American town. \n [source: George Eastman Museum calendar\, 2018-Sep-17]
URL:https://jayceland.com/blog/event/the-human-comedy-screening-2018-sep-24-130-p-m/
LOCATION:Dryden Theatre at George Eastman Museum (formerly George Eastman House)\, 900 East Ave.\, Rochester\, New York\, 14607\, United States
CATEGORIES:JayceLand 2018-Sep-20
END:VEVENT
BEGIN:VEVENT
DTSTART;TZID=America/New_York:20180924T190000
DTEND;TZID=America/New_York:20180924T205800
DTSTAMP:20260423T115120
CREATED:20180919T163357Z
LAST-MODIFIED:20180919T163357Z
UID:20642-1537815600-1537822680@jayceland.com
SUMMARY:Incredibles 2 screening (2018-Sep-24 @ 7 p.m.)
DESCRIPTION:The Cinema will screen Incredibles 2 (Brad Bird\, U.S. 2018\, 118 min.) "Bob Parr (Mr. Incredible) is left to care for the kids while Helen (Elastigirl) is out saving the world." [source: Cinema Theater coming soon page\, 2018-Sep-19]
URL:https://jayceland.com/blog/event/incredibles-2-screening-2018-sep-24-7-p-m/
LOCATION:Cinema Theatre\, 957 S. Clinton Ave.\, Rochester\, New York\, 14620\, United States
CATEGORIES:JayceLand 2018-Sep-20
END:VEVENT
BEGIN:VEVENT
DTSTART;TZID=America/New_York:20180924T190000
DTEND;TZID=America/New_York:20180924T210000
DTSTAMP:20260423T115120
CREATED:20180919T163357Z
LAST-MODIFIED:20180919T163357Z
UID:20627-1537815600-1537822800@jayceland.com
SUMMARY:Last Mondays Comedy Open Mic (2018-Sep-24 @ 7 p.m.)
DESCRIPTION:[source: Writers and Books website\, 2018-Sep-17]
URL:https://jayceland.com/blog/event/last-mondays-comedy-open-mic-2018-sep-24-7-p-m/
LOCATION:Writers & Books\, 740 University Ave.\, Rochester\, New York\, 14607\, United States
CATEGORIES:JayceLand 2018-Sep-20
END:VEVENT
BEGIN:VEVENT
DTSTART;TZID=America/New_York:20180924T193000
DTEND;TZID=America/New_York:20180924T213000
DTSTAMP:20260423T115120
CREATED:20180919T163357Z
LAST-MODIFIED:20180919T163357Z
UID:20638-1537817400-1537824600@jayceland.com
SUMMARY:Americans United Informal Chat
DESCRIPTION:Some weeks ago\, we had invited local members and friends of Americans United for Separation of Church and State to an informal chat session to discuss issues related to church-state separation. This event drew a small group and a lively and vigorous discussion ensued. The current situation regarding Supreme Court nominations has raised serious questions about the way in which Jefferson's "wall of separation"" is under threat\,and we look forward to learning how local folks are seeing and reacting to this development.  So\, another such informal chat session has been scheduled for Monday September 24\, 2018 at the Starbucks Coffee Shop at the Barnes and Nobles Bookstore in Pittsford Plaza and I am writing to invite you to join us there. Members of the Board of the Rochester Americans United Chapter are interested to hear what matters are of concern to our friends and neighbors\, and to gather ideas for future Chapter programming. \n [source: Americans United e-mail\, 2018-Sep-15]
URL:https://jayceland.com/blog/event/americans-united-informal-chat/
LOCATION:Barnes and Noble\, 3349 Monroe Ave.\, Pittsford\, New York\, 14618\, United States
CATEGORIES:JayceLand 2018-Sep-20
END:VEVENT
BEGIN:VEVENT
DTSTART;TZID=America/New_York:20180924T210000
DTEND;TZID=America/New_York:20180924T224500
DTSTAMP:20260423T115120
CREATED:20180919T163358Z
LAST-MODIFIED:20180919T163358Z
UID:20648-1537822800-1537829100@jayceland.com
SUMMARY:Juliet\, Naked screening (2018-Sep-24 @ 9 p.m.)
DESCRIPTION:The Cinema will screen Juliet\, Naked (Jesse Peretz\, U.S. 2018\, 105 min.) "Juliet\, Naked is the story of Annie (the long-suffering girlfriend of Duncan) and her unlikely transatlantic romance with once revered\, now faded\, singer-songwriter\, Tucker Crowe\, who also happens to be the subject of Duncan's musical obsession." [source: Cinema Theater coming soon page\, 2018-Sep-19]
URL:https://jayceland.com/blog/event/juliet-naked-screening-2018-sep-24-9-p-m/
LOCATION:Cinema Theatre\, 957 S. Clinton Ave.\, Rochester\, New York\, 14620\, United States
CATEGORIES:JayceLand 2018-Sep-20
END:VEVENT
END:VCALENDAR