BEGIN:VCALENDAR
VERSION:2.0
PRODID:-//JayceLand - ECPv6.15.20//NONSGML v1.0//EN
CALSCALE:GREGORIAN
METHOD:PUBLISH
X-ORIGINAL-URL:https://jayceland.com/blog
X-WR-CALDESC:Events for JayceLand
REFRESH-INTERVAL;VALUE=DURATION:PT1H
X-Robots-Tag:noindex
X-PUBLISHED-TTL:PT1H
BEGIN:VTIMEZONE
TZID:America/New_York
BEGIN:DAYLIGHT
TZOFFSETFROM:-0500
TZOFFSETTO:-0400
TZNAME:EDT
DTSTART:20170312T070000
END:DAYLIGHT
BEGIN:STANDARD
TZOFFSETFROM:-0400
TZOFFSETTO:-0500
TZNAME:EST
DTSTART:20171105T060000
END:STANDARD
BEGIN:DAYLIGHT
TZOFFSETFROM:-0500
TZOFFSETTO:-0400
TZNAME:EDT
DTSTART:20180311T070000
END:DAYLIGHT
BEGIN:STANDARD
TZOFFSETFROM:-0400
TZOFFSETTO:-0500
TZNAME:EST
DTSTART:20181104T060000
END:STANDARD
BEGIN:DAYLIGHT
TZOFFSETFROM:-0500
TZOFFSETTO:-0400
TZNAME:EDT
DTSTART:20190310T070000
END:DAYLIGHT
BEGIN:STANDARD
TZOFFSETFROM:-0400
TZOFFSETTO:-0500
TZNAME:EST
DTSTART:20191103T060000
END:STANDARD
END:VTIMEZONE
BEGIN:VEVENT
DTSTART;TZID=America/New_York:20180921T180000
DTEND;TZID=America/New_York:20180921T200000
DTSTAMP:20260425T194940
CREATED:20180919T163356Z
LAST-MODIFIED:20180919T163356Z
UID:20626-1537552800-1537560000@jayceland.com
SUMMARY:Open Stage—The Series (2018-Sep-21 @ 6 p.m.)
DESCRIPTION:Even if you don't have anything to perform\, stop in — artists and photographers are invited to record the event; and\, of course\, everyone's welcome to drop in just to see and listen!! \n [source: Facebook\, 2018-Sep-17]
URL:https://jayceland.com/blog/event/open-stage-the-series-2018-sep-21-6-p-m/
LOCATION:Abundance Cooperative Market (formerly Echo Tone Music)\, 571 South Ave.\, Rochester\, New York\, 14620\, United States
CATEGORIES:JayceLand 2018-Sep-20
END:VEVENT
BEGIN:VEVENT
DTSTART;TZID=America/New_York:20180921T190000
DTEND;TZID=America/New_York:20180921T205800
DTSTAMP:20260425T194940
CREATED:20180919T163357Z
LAST-MODIFIED:20180919T163357Z
UID:20639-1537556400-1537563480@jayceland.com
SUMMARY:Incredibles 2 screening (2018-Sep-21 @ 7 p.m.)
DESCRIPTION:The Cinema will screen Incredibles 2 (Brad Bird\, U.S. 2018\, 118 min.) "Bob Parr (Mr. Incredible) is left to care for the kids while Helen (Elastigirl) is out saving the world." [source: Cinema Theater coming soon page\, 2018-Sep-19]
URL:https://jayceland.com/blog/event/incredibles-2-screening-2018-sep-21-7-p-m/
LOCATION:Cinema Theatre\, 957 S. Clinton Ave.\, Rochester\, New York\, 14620\, United States
CATEGORIES:JayceLand 2018-Sep-20
END:VEVENT
BEGIN:VEVENT
DTSTART;TZID=America/New_York:20180921T193000
DTEND;TZID=America/New_York:20180921T211000
DTSTAMP:20260425T194940
CREATED:20180919T163357Z
LAST-MODIFIED:20180919T163357Z
UID:20629-1537558200-1537564200@jayceland.com
SUMMARY:I\, Daniel Blake screening
DESCRIPTION:The Dryden will screen I\, Daniel Blake (Ken Loach\, U.K. / France / Belgium 2016\, 100 min.\, DCP) as part of the Labor Film Series.  \nWinner of the Palme d'Or at the 2016 Cannes Film Festival\, Ken Loach's latest film is a gripping human tale about the impact one man can make. Daniel Blake (Dave Johns)\, a gruff but goodhearted widowed woodworker\, lives by his own common-sense moral code. But after a heart attack leaves him unable to work and the state welfare system fails him\, the stubbornly self-reliant Daniel must stand up and fight for his dignity. He leads a one-man crusade for compassion that will transform not only his life\, but also the lives of a struggling single mother (Hayley Squires) and her two children. I\, Daniel Blake is a moving\, much-needed reminder of the power of empathy from one of the world's greatest living filmmakers. \n [source: George Eastman Museum calendar\, 2018-Sep-17]
URL:https://jayceland.com/blog/event/i-daniel-blake-screening/
LOCATION:Dryden Theatre at George Eastman Museum (formerly George Eastman House)\, 900 East Ave.\, Rochester\, New York\, 14607\, United States
CATEGORIES:JayceLand 2018-Sep-20
END:VEVENT
BEGIN:VEVENT
DTSTART;TZID=America/New_York:20180921T210000
DTEND;TZID=America/New_York:20180921T224500
DTSTAMP:20260425T194940
CREATED:20180919T163357Z
LAST-MODIFIED:20180919T163357Z
UID:20645-1537563600-1537569900@jayceland.com
SUMMARY:Juliet\, Naked screening (2018-Sep-21 @ 9 p.m.)
DESCRIPTION:The Cinema will screen Juliet\, Naked (Jesse Peretz\, U.S. 2018\, 105 min.) "Juliet\, Naked is the story of Annie (the long-suffering girlfriend of Duncan) and her unlikely transatlantic romance with once revered\, now faded\, singer-songwriter\, Tucker Crowe\, who also happens to be the subject of Duncan's musical obsession." [source: Cinema Theater coming soon page\, 2018-Sep-19]
URL:https://jayceland.com/blog/event/juliet-naked-screening-2018-sep-21-9-p-m/
LOCATION:Cinema Theatre\, 957 S. Clinton Ave.\, Rochester\, New York\, 14620\, United States
CATEGORIES:JayceLand 2018-Sep-20
END:VEVENT
END:VCALENDAR