BEGIN:VCALENDAR
VERSION:2.0
PRODID:-//JayceLand - ECPv6.15.20//NONSGML v1.0//EN
CALSCALE:GREGORIAN
METHOD:PUBLISH
X-WR-CALNAME:JayceLand
X-ORIGINAL-URL:https://jayceland.com/blog
X-WR-CALDESC:Events for JayceLand
REFRESH-INTERVAL;VALUE=DURATION:PT1H
X-Robots-Tag:noindex
X-PUBLISHED-TTL:PT1H
BEGIN:VTIMEZONE
TZID:America/New_York
BEGIN:DAYLIGHT
TZOFFSETFROM:-0500
TZOFFSETTO:-0400
TZNAME:EDT
DTSTART:20170312T070000
END:DAYLIGHT
BEGIN:STANDARD
TZOFFSETFROM:-0400
TZOFFSETTO:-0500
TZNAME:EST
DTSTART:20171105T060000
END:STANDARD
BEGIN:DAYLIGHT
TZOFFSETFROM:-0500
TZOFFSETTO:-0400
TZNAME:EDT
DTSTART:20180311T070000
END:DAYLIGHT
BEGIN:STANDARD
TZOFFSETFROM:-0400
TZOFFSETTO:-0500
TZNAME:EST
DTSTART:20181104T060000
END:STANDARD
BEGIN:DAYLIGHT
TZOFFSETFROM:-0500
TZOFFSETTO:-0400
TZNAME:EDT
DTSTART:20190310T070000
END:DAYLIGHT
BEGIN:STANDARD
TZOFFSETFROM:-0400
TZOFFSETTO:-0500
TZNAME:EST
DTSTART:20191103T060000
END:STANDARD
END:VTIMEZONE
BEGIN:VEVENT
DTSTART;TZID=America/New_York:20180829T180000
DTEND;TZID=America/New_York:20180829T200000
DTSTAMP:20260424T225619
CREATED:20180822T171824Z
LAST-MODIFIED:20180822T171824Z
UID:20207-1535565600-1535572800@jayceland.com
SUMMARY:Mental Health Open Mic
DESCRIPTION:Hosted by S.W.A.T. This event brings awareness to mental health and suicide prevention through sharing of stories\, poems\, music and dance by local teens and young adults. Join us as a performer or attendee to share or just listen. Local agencies and groups will be available to share service information and connect individuals with services. \n [source: Facebook\, 2018-Aug-20]
URL:https://jayceland.com/blog/event/mental-health-open-mic/
LOCATION:Boulder Coffee\, South Wedge\, 100 Alexander St.\, Rochester\, New York\, 14620\, United States
CATEGORIES:JayceLand 2018-Aug-23
END:VEVENT
BEGIN:VEVENT
DTSTART;TZID=America/New_York:20180829T180000
DTEND;TZID=America/New_York:20180829T200000
DTSTAMP:20260424T225619
CREATED:20180822T171826Z
LAST-MODIFIED:20180822T171826Z
UID:20239-1535565600-1535572800@jayceland.com
SUMMARY:Climate Vulnerability Assessment Public Input Session
DESCRIPTION:How Vulnerable Is Our City to Climate Change? Join us to learn about our City's Climate Vulnerability Assessment\, review draft findings\, and share feedback on how climate change will affect our community.  For the last several years\, the City has worked to lessen the impacts of climate change by creating action plans aimed at reducing greenhouse gas emissions. As a next step towards becoming more resilient\, the City is seeking to understand our vulnerability so that we can better prepare for adapting to climate change.  This project has been supported in part by the New York State Climate Smart Communities Grants Program\, Title 15 of the Environmental Protection Fund. \n [source: City of Rochester website\, 2018-Aug-22]
URL:https://jayceland.com/blog/event/climate-vulnerability-assessment-public-input-session/
LOCATION:City Hall\, 30 Church St\, Rochester\, New York\, 14614\, United States
CATEGORIES:JayceLand 2018-Aug-23
END:VEVENT
BEGIN:VEVENT
DTSTART;TZID=America/New_York:20180829T183000
DTEND;TZID=America/New_York:20180829T203000
DTSTAMP:20260424T225619
CREATED:20180822T171823Z
LAST-MODIFIED:20180822T171823Z
UID:20196-1535567400-1535574600@jayceland.com
SUMMARY:B-Free musical performance
DESCRIPTION:On a night much like this… after a casual day with a group of rival aliens\, Bradley Freedman\, a skinny quarter Jew from Rochester NY\, transformed into the degenerate that is B-Free. Pulling from a refreshing mixture of pop\, reggae\, and punk styles B-Free's fresh feel fiercely ensnares your senses.  Writing\, recording\, and producing his own work\, B-Free's do it yourself mentality translates to a mixture of genres\, exploding on stage with a fervor of 500 men and 1 Dutch lesbian. For years B-Free perfected his craft throughout the Rochester music scene at hot spots including the Bug Jar\, Waterstreet\, and Boulder Café. And now…B-Free is ready for you. \n [source: Facebook\, 2018-Aug-20]
URL:https://jayceland.com/blog/event/b-free-musical-performance/
LOCATION:Sticky Lips BBQ Juke Joint\, 830 Jefferson Rd.\, Henrietta\, New York\, 14623\, United States
CATEGORIES:JayceLand 2018-Aug-23
END:VEVENT
BEGIN:VEVENT
DTSTART;TZID=America/New_York:20180829T190000
DTEND;TZID=America/New_York:20180829T205300
DTSTAMP:20260424T225619
CREATED:20180822T171826Z
LAST-MODIFIED:20180822T171826Z
UID:20246-1535569200-1535575980@jayceland.com
SUMMARY:Dog Days screening (2018-Aug-29 @ 7 p.m.)
DESCRIPTION:The Cinema will screen Dog Days (Ken Marino\, U.S. 2018\, 113 min.) "Dog Days follows a group of interconnected people in Los Angeles who are brought together by their lovable canine counterparts." [source: Cinema Theater coming soon page\, 2018-Aug-22]
URL:https://jayceland.com/blog/event/dog-days-screening-2018-aug-29-7-p-m/
LOCATION:Cinema Theatre\, 957 S. Clinton Ave.\, Rochester\, New York\, 14620\, United States
CATEGORIES:JayceLand 2018-Aug-23
END:VEVENT
BEGIN:VEVENT
DTSTART;TZID=America/New_York:20180829T193000
DTEND;TZID=America/New_York:20180829T210000
DTSTAMP:20260424T225619
CREATED:20180822T171825Z
LAST-MODIFIED:20180822T171825Z
UID:20229-1535571000-1535576400@jayceland.com
SUMMARY:11th Annual Sankofa Theatre Festival: The Green Book Chronicles (2018-Aug-29 @ 7:30 p.m.)
DESCRIPTION:The MuCCC will host the 11th Annual Sankofa Theatre Festival performance of The Green Book Chronicles by Karen Culley.  \nCaught between running a lodge for African American motorists and providing for their own children\, a Virginia family must weather impending societal changes on the eve of the Civil Rights era. \n [source: event coordinator e-mail\, 2018-Aug-22]
URL:https://jayceland.com/blog/event/11th-annual-sankofa-theatre-festival-the-green-book-chronicles-2018-aug-29-730-p-m/
LOCATION:MuCCC (Multi-use Community Cultural Center)\, 142 Atlantic Ave.\, Rochester\, New York\, 14607\, United States
CATEGORIES:JayceLand 2018-Aug-23
END:VEVENT
BEGIN:VEVENT
DTSTART;TZID=America/New_York:20180829T193000
DTEND;TZID=America/New_York:20180829T211900
DTSTAMP:20260424T225619
CREATED:20180822T171824Z
LAST-MODIFIED:20180822T171824Z
UID:20219-1535571000-1535577540@jayceland.com
SUMMARY:Elena screening
DESCRIPTION:The Dryden will screen Elena (Andrey Zvyagintsev\, Russia 2011\, 109 min.\, 35mm\, Russian w/subtitles) as part of the Andrey Zvyagintsev series.  \nWinner of Cannes Film Festival's Un Certain Regard Special Jury Prize\, Elena is a gripping\, modern twist on the classic noir thriller. Sixtysomething spouses Vladimir and Elena uneasily share his palatial Moscow apartment—he's a still-virile\, wealthy businessman; she's a former nurse who has "married up." Estranged from his own daughter\, Vladimir openly despises his wife's son and family. But when a sudden illness and an unexpected reunion threaten Elena's potential inheritance\, she must hatch a desperate plan. \n [source: George Eastman Museum calendar\, 2018-Aug-20]
URL:https://jayceland.com/blog/event/elena-screening/
LOCATION:Dryden Theatre at George Eastman Museum (formerly George Eastman House)\, 900 East Ave.\, Rochester\, New York\, 14607\, United States
CATEGORIES:JayceLand 2018-Aug-23
END:VEVENT
BEGIN:VEVENT
DTSTART;TZID=America/New_York:20180829T200000
DTEND;TZID=America/New_York:20180829T220000
DTSTAMP:20260424T225619
CREATED:20180822T171823Z
LAST-MODIFIED:20180822T171823Z
UID:20200-1535572800-1535580000@jayceland.com
SUMMARY:Mughal Muesli musical performance
DESCRIPTION:While grounded in the saxophone trio tradition of Sonny Rollins\, Ornette Coleman\, and Henry Threadgill\, Mughal Muesli is a band that seeks to expand and transcend the associations attached to their configuration. Saxophonist Xavier Del Castillo\, drummer Vicente Hansen\, and bassist Mat Muntz draw on elements from early European polyphony\, Hindustani classical music\, and 20th/21st century microtonality to inform their unique take on the trio format. Their debut album Imperial Cereal features original compositions\, deconstructed standards\, and new interpretations of works by Ornette Coleman\, Ivan Wyschnegradsky\, and J.S. Bach.  The band's name\, originally conceived in delirious wordplay at the end of a long rehearsal\, has acquired special meaning as the trio has matured. "Mughal" — referring to the North Indian empire of the same name — contains a sense of the weight of history upon all human endeavors. "Muesli" — a healthful mixture of grains and dried fruits invented in Switzerland — represents variety and versatility. Mughal Muesli thus signifies the coexistence of a wide range of influences and the ability to recombine them in tasteful ways. \n [source: Bop Shop website\, 2018-Aug-20]
URL:https://jayceland.com/blog/event/mughal-muesli-musical-performance/
LOCATION:Bop Shop Records\, 1460 Monroe Ave.\, Rochester\, New York\, 14618\, United States
CATEGORIES:JayceLand 2018-Aug-23
END:VEVENT
BEGIN:VEVENT
DTSTART;TZID=America/New_York:20180829T205500
DTEND;TZID=America/New_York:20180829T224400
DTSTAMP:20260424T225619
CREATED:20180822T171826Z
LAST-MODIFIED:20180822T171826Z
UID:20253-1535576100-1535582640@jayceland.com
SUMMARY:Leave No Trace screening (2018-Aug-29 @ 8:55 p.m.)
DESCRIPTION:The Cinema will screen Leave No Trace (Debra Granik\, U.S. 2018\, 109 min.) "A father and his thirteen year-old daughter are living an ideal existence in a vast urban park in Portland\, Oregon\, when a small mistake derails their lives forever. [source: Cinema Theater coming soon page\, 2018-Aug-22]
URL:https://jayceland.com/blog/event/leave-no-trace-screening-2018-aug-29-855-p-m/
LOCATION:Cinema Theatre\, 957 S. Clinton Ave.\, Rochester\, New York\, 14620\, United States
CATEGORIES:JayceLand 2018-Aug-23
END:VEVENT
BEGIN:VEVENT
DTSTART;TZID=America/New_York:20180829T210000
DTEND;TZID=America/New_York:20180829T230000
DTSTAMP:20260424T225619
CREATED:20180822T171823Z
LAST-MODIFIED:20180822T171823Z
UID:20192-1535576400-1535583600@jayceland.com
SUMMARY:In The Whale\, Periodic Table of Elephants\, Slipton Fell musical performances
DESCRIPTION:[source: Facebook\, 2018-Aug-20]
URL:https://jayceland.com/blog/event/in-the-whale-periodic-table-of-elephants-slipton-fell-musical-performances/
LOCATION:Bug Jar\, 219 Monroe Ave\, Rochester\, New York\, 14607\, United States
CATEGORIES:JayceLand 2018-Aug-23
END:VEVENT
END:VCALENDAR