BEGIN:VCALENDAR
VERSION:2.0
PRODID:-//JayceLand - ECPv6.15.20//NONSGML v1.0//EN
CALSCALE:GREGORIAN
METHOD:PUBLISH
X-WR-CALNAME:JayceLand
X-ORIGINAL-URL:https://jayceland.com/blog
X-WR-CALDESC:Events for JayceLand
REFRESH-INTERVAL;VALUE=DURATION:PT1H
X-Robots-Tag:noindex
X-PUBLISHED-TTL:PT1H
BEGIN:VTIMEZONE
TZID:America/New_York
BEGIN:DAYLIGHT
TZOFFSETFROM:-0500
TZOFFSETTO:-0400
TZNAME:EDT
DTSTART:20170312T070000
END:DAYLIGHT
BEGIN:STANDARD
TZOFFSETFROM:-0400
TZOFFSETTO:-0500
TZNAME:EST
DTSTART:20171105T060000
END:STANDARD
BEGIN:DAYLIGHT
TZOFFSETFROM:-0500
TZOFFSETTO:-0400
TZNAME:EDT
DTSTART:20180311T070000
END:DAYLIGHT
BEGIN:STANDARD
TZOFFSETFROM:-0400
TZOFFSETTO:-0500
TZNAME:EST
DTSTART:20181104T060000
END:STANDARD
BEGIN:DAYLIGHT
TZOFFSETFROM:-0500
TZOFFSETTO:-0400
TZNAME:EDT
DTSTART:20190310T070000
END:DAYLIGHT
BEGIN:STANDARD
TZOFFSETFROM:-0400
TZOFFSETTO:-0500
TZNAME:EST
DTSTART:20191103T060000
END:STANDARD
END:VTIMEZONE
BEGIN:VEVENT
DTSTART;TZID=America/New_York:20180818T100000
DTEND;TZID=America/New_York:20180818T170000
DTSTAMP:20260424T082339
CREATED:20180815T194233Z
LAST-MODIFIED:20180815T194233Z
UID:20112-1534586400-1534611600@jayceland.com
SUMMARY:Real Steam Train Rides (2018-Aug-18 @ 10 a.m.)
DESCRIPTION:If you've heard of Thomas the Tank Engineâ„¢\, this is his real life cousin! For the first time since the 1950s\, the hills will once again echo with steam whistles when the Rochester and Genesee Valley Railroad Museum hosts real steam train rides on August 18-19 and 25-26. The museum will host Viscose Co. No. 6\, a vintage steam locomotive that once operated for the American Viscose Co. in Roanoke\, Virginia.  Enjoy a ride in our new open-air touring car so you can experience all the sights and sounds of the steam locomotive as it works hard to pull against the steep grades. Seats are also available inside our caboose if you prefer a quieter ride. Thanks to the cooperation of the neighboring New York Museum of Transportation\, visitors will be able to enjoy an extended two-mile round trip through our bucolic museum grounds.  Live entertainment will be provided by banjo player Mike Kornrich. Visitors will also enjoy a live blacksmithing demonstration while they tour our museum exhibits and our large collection of historic trains. Refreshments will be available for purchase\, including a full grill menu. Our museum gift shop is stocked with many railroad souvenirs for train buffs of all ages. All Aboard! \n [source: Rochester and Genesee Valley Railroad Museum website\, 2018-Aug-13]
URL:https://jayceland.com/blog/event/real-steam-train-rides-2018-aug-18-10-a-m/
LOCATION:Rochester and Genesee Valley Railroad Museum\, 282 Rush Scottsville Rd.\, Rush\, New York\, 14534\, United States
CATEGORIES:JayceLand 2018-Aug-16
END:VEVENT
BEGIN:VEVENT
DTSTART;TZID=America/New_York:20180818T110000
DTEND;TZID=America/New_York:20180818T130000
DTSTAMP:20260424T082339
CREATED:20180815T194233Z
LAST-MODIFIED:20180815T194233Z
UID:20116-1534590000-1534597200@jayceland.com
SUMMARY:Theme Tour: The Ice Cream Tour (2018-Aug-18 @ 11 a.m.)
DESCRIPTION:Learn about the making and selling of ice cream and other sundries — one of Rochester's earliest businesses — and be treated to a dish of special ice cream! \n [source: Friends of Mt. Hope website\, 2018-Aug-13]
URL:https://jayceland.com/blog/event/theme-tour-the-ice-cream-tour-2018-aug-18-11-a-m/
LOCATION:Mt. Hope Cemetery South Entrance\, 1133 Mt. Hope Ave.\, Rochester\, New York\, 14620\, United States
CATEGORIES:JayceLand 2018-Aug-16
END:VEVENT
BEGIN:VEVENT
DTSTART;TZID=America/New_York:20180818T163000
DTEND;TZID=America/New_York:20180818T180800
DTSTAMP:20260424T082339
CREATED:20180815T194234Z
LAST-MODIFIED:20180815T194234Z
UID:20142-1534609800-1534615680@jayceland.com
SUMMARY:RBG screening (2018-Aug-18 @ 4:30 p.m.)
DESCRIPTION:The Cinema will screen RBG (Julie Cohen\, Betsy West\, U.S. 2018\, 98 min.) "At the age of 84\, U.S. Supreme Court Justice Ruth Bader Ginsburg has developed a breathtaking legal legacy while becoming an unexpected pop culture icon. But without a definitive Ginsburg biography\, the unique personal journey of this diminutive\, quiet warrior's rise to the nation's highest court has been largely unknown\, even to some of her biggest fans — until now. RBG is a revelatory documentary exploring Ginsburg's exceptional life and career." [source: Cinema Theater coming soon page\, 2018-Aug-15]
URL:https://jayceland.com/blog/event/rbg-screening-2018-aug-18-430-p-m/
LOCATION:Cinema Theatre\, 957 S. Clinton Ave.\, Rochester\, New York\, 14620\, United States
CATEGORIES:JayceLand 2018-Aug-16
END:VEVENT
BEGIN:VEVENT
DTSTART;TZID=America/New_York:20180818T190000
DTEND;TZID=America/New_York:20180818T205100
DTSTAMP:20260424T082339
CREATED:20180815T194234Z
LAST-MODIFIED:20180815T194234Z
UID:20129-1534618800-1534625460@jayceland.com
SUMMARY:Sorry to Bother You screening (2018-Aug-18 @ 7 p.m.)
DESCRIPTION:The Cinema will screen Sorry to Bother You (Boots Riley\, U.S. 2018\, 111 min.) "In an alternate present-day version of Oakland\, telemarketer Cassius Green discovers a magical key to professional success\, propelling him into a universe of greed." [source: Cinema Theater coming soon page\, 2018-Aug-15]
URL:https://jayceland.com/blog/event/sorry-to-bother-you-screening-2018-aug-18-7-p-m/
LOCATION:Cinema Theatre\, 957 S. Clinton Ave.\, Rochester\, New York\, 14620\, United States
CATEGORIES:JayceLand 2018-Aug-16
END:VEVENT
BEGIN:VEVENT
DTSTART;TZID=America/New_York:20180818T193000
DTEND;TZID=America/New_York:20180818T212300
DTSTAMP:20260424T082339
CREATED:20180815T194233Z
LAST-MODIFIED:20180815T194233Z
UID:20122-1534620600-1534627380@jayceland.com
SUMMARY:The Postman Always Rings Twice screening
DESCRIPTION:The Dryden will screen The Postman Always Rings Twice (Tay Garnett\, U.S. 1946\, 113 min.\, 35mm) as part of the War\, Myth\, Desire series.  \nAfter taking a job at a diner\, drifter Frank Chambers (John Garfield) finds that his handyman duties are significantly less interesting than the boss's wife—a lipstick blonde (Lana Turner) whose plans for the adulterous pair lead to murder\, betrayal\, and death. The second adaptation of James M. Cain's novel (Visconti's Ossessione was made three years prior) is classic film noir at its most erotic\, thanks in no small part to Turner's performance as the dangerously alluring femme fatale. \n [source: George Eastman Museum calendar\, 2018-Aug-13]
URL:https://jayceland.com/blog/event/the-postman-always-rings-twice-screening/
LOCATION:Dryden Theatre at George Eastman Museum (formerly George Eastman House)\, 900 East Ave.\, Rochester\, New York\, 14607\, United States
CATEGORIES:JayceLand 2018-Aug-16
END:VEVENT
BEGIN:VEVENT
DTSTART;TZID=America/New_York:20180818T200000
DTEND;TZID=America/New_York:20180818T220000
DTSTAMP:20260424T082339
CREATED:20180815T194232Z
LAST-MODIFIED:20180815T194232Z
UID:20109-1534622400-1534629600@jayceland.com
SUMMARY:Kaleidoscope Sky musical performance
DESCRIPTION:Kaleidoscope Sky is a Reggae-Rock/Jam band from the Southern Tier. They have been making a name for themselves on the scene and we are excited to have them make their Three Heads debut. \n [source: Facebook\, 2018-Aug-13]
URL:https://jayceland.com/blog/event/kaleidoscope-sky-musical-performance/
LOCATION:Three Heads Brewing\, 186 Atlantic Ave.\, Rochester\, New York\, 14607\, United States
CATEGORIES:JayceLand 2018-Aug-16
END:VEVENT
BEGIN:VEVENT
DTSTART;TZID=America/New_York:20180818T200000
DTEND;TZID=America/New_York:20180818T220000
DTSTAMP:20260424T082339
CREATED:20180815T194233Z
LAST-MODIFIED:20180815T194233Z
UID:20111-1534622400-1534629600@jayceland.com
SUMMARY:Tierra Mestiza featuring Omar Tamez and Angelica Sanchez musical performance
DESCRIPTION:"Tamez's music\, while including modern European and American instruments never seems to originate in their commonly associated styles and\, while the language of his poetry is Spanish\, the spirit of his music is pre-Columbian. At first\, he almost seems to be playing at the guitar; but as his performance continues\, you see that the guitar is what he plays his music on. Instead of accessing the 'tradition' of the instrument (something he is quite capable of doing\, as his discography shows)\, he goes to a tradition of place\, where instruments are assimilated. In a sense\, the umbrella he uses for his projects\, 'Non-Jazz\,' is a non-sequitur\, since indigenousness is the root of jazz as well." Ratzo B. Harris — New Music Box \n [source: Bop Shop website\, 2018-Aug-13]
URL:https://jayceland.com/blog/event/tierra-mestiza-featuring-omar-tamez-and-angelica-sanchez-musical-performance/
LOCATION:Bop Shop Records\, 1460 Monroe Ave.\, Rochester\, New York\, 14618\, United States
CATEGORIES:JayceLand 2018-Aug-16
END:VEVENT
BEGIN:VEVENT
DTSTART;TZID=America/New_York:20180818T205000
DTEND;TZID=America/New_York:20180818T224300
DTSTAMP:20260424T082339
CREATED:20180815T194234Z
LAST-MODIFIED:20180815T194234Z
UID:20136-1534625400-1534632180@jayceland.com
SUMMARY:Damsel screening (2018-Aug-18 @ 8:50 p.m.)
DESCRIPTION:The Cinema will screen Damsel (David Zellner\, Nathan Zellner\, U.S. 2018\, 113 min.) "It's the Wild West\, circa 1870. Samuel Alabaster\, an affluent pioneer\, ventures across the American frontier to marry the love of his life\, Penelope. As his group traverses the west\, the once-simple journey grows treacherous\, blurring the lines between hero\, villain and damsel." [source: Cinema Theater coming soon page\, 2018-Aug-15]
URL:https://jayceland.com/blog/event/damsel-screening-2018-aug-18-850-p-m/
LOCATION:Cinema Theatre\, 957 S. Clinton Ave.\, Rochester\, New York\, 14620\, United States
CATEGORIES:JayceLand 2018-Aug-16
END:VEVENT
BEGIN:VEVENT
DTSTART;TZID=America/New_York:20180818T213000
DTEND;TZID=America/New_York:20180818T233000
DTSTAMP:20260424T082339
CREATED:20180815T194232Z
LAST-MODIFIED:20180815T194232Z
UID:20106-1534627800-1534635000@jayceland.com
SUMMARY:Rip Open the Sky\, The Silence Broken\, Likewize\, Diluted musical performances
DESCRIPTION:[source: Facebook\, 2018-Aug-13]
URL:https://jayceland.com/blog/event/rip-open-the-sky-the-silence-broken-likewize-diluted-musical-performances/
LOCATION:Bug Jar\, 219 Monroe Ave\, Rochester\, New York\, 14607\, United States
CATEGORIES:JayceLand 2018-Aug-16
END:VEVENT
BEGIN:VEVENT
DTSTART;TZID=America/New_York:20180818T213000
DTEND;TZID=America/New_York:20180818T233000
DTSTAMP:20260424T082339
CREATED:20180815T194233Z
LAST-MODIFIED:20180815T194233Z
UID:20125-1534627800-1534635000@jayceland.com
SUMMARY:Tile\, Period Bomb\, Pengo\, Debris Field musical performances
DESCRIPTION:[source: WNY Shows website\, 2018-Aug-13]
URL:https://jayceland.com/blog/event/tile-period-bomb-pengo-debris-field-musical-performances/
LOCATION:Rosen Krown (formerly Monty's Krown)\, 875 Monroe Ave.\, Rochester\, New York\, 14620\, United States
CATEGORIES:JayceLand 2018-Aug-16
END:VEVENT
BEGIN:VEVENT
DTSTART;TZID=America/New_York:20180818T213000
DTEND;TZID=America/New_York:20180818T233700
DTSTAMP:20260424T082339
CREATED:20180815T194232Z
LAST-MODIFIED:20180815T194232Z
UID:20103-1534627800-1534635420@jayceland.com
SUMMARY:Indiana Jones and the Last Crusade screening
DESCRIPTION:The Little will screen Indiana Jones and the Last Crusade (Steven Spielberg\, U.S. 1989\, 127 min.) as part of the Saturday Night Rewind series.  \nThe intrepid explorer Indiana Jones (Harrison Ford) sets out to rescue his father (Sean Connery)\, a medievalist who has vanished while searching for the Holy Grail. Following clues in the old man's notebook\, Indy arrives in Venice\, where he enlists the help of a beautiful academic\, but they are not the only ones who are on the trail\, and some sinister old enemies soon come out of the woodwork. \n [source: Little Theatre calendar\, 2018-Aug-13]
URL:https://jayceland.com/blog/event/indiana-jones-and-the-last-crusade-screening/
LOCATION:Little Theatre\, 240 East Ave. #100\, Rochester\, New York\, 14604\, United States
CATEGORIES:JayceLand 2018-Aug-16
END:VEVENT
END:VCALENDAR