BEGIN:VCALENDAR
VERSION:2.0
PRODID:-//JayceLand - ECPv6.15.20//NONSGML v1.0//EN
CALSCALE:GREGORIAN
METHOD:PUBLISH
X-ORIGINAL-URL:https://jayceland.com/blog
X-WR-CALDESC:Events for JayceLand
REFRESH-INTERVAL;VALUE=DURATION:PT1H
X-Robots-Tag:noindex
X-PUBLISHED-TTL:PT1H
BEGIN:VTIMEZONE
TZID:America/New_York
BEGIN:DAYLIGHT
TZOFFSETFROM:-0500
TZOFFSETTO:-0400
TZNAME:EDT
DTSTART:20170312T070000
END:DAYLIGHT
BEGIN:STANDARD
TZOFFSETFROM:-0400
TZOFFSETTO:-0500
TZNAME:EST
DTSTART:20171105T060000
END:STANDARD
BEGIN:DAYLIGHT
TZOFFSETFROM:-0500
TZOFFSETTO:-0400
TZNAME:EDT
DTSTART:20180311T070000
END:DAYLIGHT
BEGIN:STANDARD
TZOFFSETFROM:-0400
TZOFFSETTO:-0500
TZNAME:EST
DTSTART:20181104T060000
END:STANDARD
BEGIN:DAYLIGHT
TZOFFSETFROM:-0500
TZOFFSETTO:-0400
TZNAME:EDT
DTSTART:20190310T070000
END:DAYLIGHT
BEGIN:STANDARD
TZOFFSETFROM:-0400
TZOFFSETTO:-0500
TZNAME:EST
DTSTART:20191103T060000
END:STANDARD
END:VTIMEZONE
BEGIN:VEVENT
DTSTART;TZID=America/New_York:20180808T190000
DTEND;TZID=America/New_York:20180808T211500
DTSTAMP:20260421T070058
CREATED:20180801T211253Z
LAST-MODIFIED:20180801T211253Z
UID:19948-1533754800-1533762900@jayceland.com
SUMMARY:Solo: A Star Wars Story screening (2018-Aug-8 @ 7 p.m.)
DESCRIPTION:The Cinema will screen Solo: A Star Wars Story (Ron Howard\, U.S. 2018\, 135 min.) "During an adventure into the criminal underworld\, Han Solo meets his future copilot Chewbacca and encounters Lando Calrissian years before joining the Rebellion." [source: Cinema Theater coming soon page\, 2018-Aug-1]
URL:https://jayceland.com/blog/event/solo-a-star-wars-story-screening-2018-aug-8-7-p-m/
LOCATION:Cinema Theatre\, 957 S. Clinton Ave.\, Rochester\, New York\, 14620\, United States
CATEGORIES:JayceLand 2018-Aug-2
END:VEVENT
BEGIN:VEVENT
DTSTART;TZID=America/New_York:20180808T193000
DTEND;TZID=America/New_York:20180808T210900
DTSTAMP:20260421T070058
CREATED:20180801T211251Z
LAST-MODIFIED:20180801T211251Z
UID:19930-1533756600-1533762540@jayceland.com
SUMMARY:The Party screening (2018-Aug-8 @ 7:30 p.m.)
DESCRIPTION:The Dryden will screen The Party (Blake Edwards\, U.S. 1968\, 99 min.\, 35mm) as part of the Parties series.  \nWatch out\, Hollywood! The great Peter Sellers is Hrundi V. Bakshi\, a sweet but desperately clumsy Indian actor who is accidentally invited to a posh soiree at a movie mogul's mansion. Before you can say "Birdie num nums\," liquor is flowing\, food is flying\, and somehow\, an elephant and a Russian dance troupe get involved. Collaborators on six Pink Panther films\, director Blake Edwards and Sellers have created a character just as memorable: Bakshi is equal parts Clouseau\, Monsieur Hulot\, and Gunga Din. \n [source: George Eastman Museum calendar\, 2018-Jul-30]
URL:https://jayceland.com/blog/event/the-party-screening-2018-aug-8-730-p-m/
LOCATION:Dryden Theatre at George Eastman Museum (formerly George Eastman House)\, 900 East Ave.\, Rochester\, New York\, 14607\, United States
CATEGORIES:JayceLand 2018-Aug-2
END:VEVENT
BEGIN:VEVENT
DTSTART;TZID=America/New_York:20180808T200000
DTEND;TZID=America/New_York:20180808T220000
DTSTAMP:20260421T070058
CREATED:20180801T211252Z
LAST-MODIFIED:20180801T211252Z
UID:19933-1533758400-1533765600@jayceland.com
SUMMARY:Godspeed You! Black Emperor musical performance
DESCRIPTION:Godspeed You! Black Emperor began with Efrim Menuck\, Mauro Pezzente and Mike Moya in Montréal in the early 90s\, playing a handful of shows and recording a self-released cassette as a trio before beginning to transform the group into a large band. Recruiting numerous Montreal musicians through 1995-1996\, Gybe mounted sense-rattling wall-of-sound performances\, featuring as many as 14 musicians and several 16mm film projectors\, eventually self-recording their debut vinyl-only version of F#a#âˆž\, released on Constellation in late summer 1997.  The band toured and recorded continuously from 1998-2002 and gained a reputation for mesmerising live shows marked by orchestral dynamics\, epic rock power and clunky\, beautiful film loops. \n [source: WNY Shows website\, 2018-Jul-30]
URL:https://jayceland.com/blog/event/godspeed-you-black-emperor-musical-performance/
LOCATION:Babeville\, 341 Delaware Ave.\, Buffalo\, New York\, 14202\, United States
CATEGORIES:JayceLand 2018-Aug-2
END:VEVENT
BEGIN:VEVENT
DTSTART;TZID=America/New_York:20180808T210000
DTEND;TZID=America/New_York:20180808T230000
DTSTAMP:20260421T070058
CREATED:20180801T211250Z
LAST-MODIFIED:20180801T211250Z
UID:19913-1533762000-1533769200@jayceland.com
SUMMARY:Echo Courts\, Slumbers\, Kitchen\, Indoor Time musical performances
DESCRIPTION:[source: Facebook\, 2018-Jul-30]
URL:https://jayceland.com/blog/event/echo-courts-slumbers-kitchen-indoor-time-musical-performances/
LOCATION:Bug Jar\, 219 Monroe Ave\, Rochester\, New York\, 14607\, United States
CATEGORIES:JayceLand 2018-Aug-2
END:VEVENT
BEGIN:VEVENT
DTSTART;TZID=America/New_York:20180808T211500
DTEND;TZID=America/New_York:20180808T225500
DTSTAMP:20260421T070058
CREATED:20180801T211253Z
LAST-MODIFIED:20180801T211253Z
UID:19954-1533762900-1533768900@jayceland.com
SUMMARY:Upgrade screening (2018-Aug-8 @ 9:15 p.m.)
DESCRIPTION:The Cinema will screen Upgrade (Leigh Whannell\, Australia 2018\, 100 min.) "Set in the near-future\, technology controls nearly all aspects of life. But when Grey\, a self-identified technophobe\, has his world turned upside down\, his only hope for revenge is an experimental computer chip implant called Stem." [source: Cinema Theater coming soon page\, 2018-Aug-1]
URL:https://jayceland.com/blog/event/upgrade-screening-2018-aug-8-915-p-m/
LOCATION:Cinema Theatre\, 957 S. Clinton Ave.\, Rochester\, New York\, 14620\, United States
CATEGORIES:JayceLand 2018-Aug-2
END:VEVENT
END:VCALENDAR