BEGIN:VCALENDAR
VERSION:2.0
PRODID:-//JayceLand - ECPv6.15.20//NONSGML v1.0//EN
CALSCALE:GREGORIAN
METHOD:PUBLISH
X-WR-CALNAME:JayceLand
X-ORIGINAL-URL:https://jayceland.com/blog
X-WR-CALDESC:Events for JayceLand
REFRESH-INTERVAL;VALUE=DURATION:PT1H
X-Robots-Tag:noindex
X-PUBLISHED-TTL:PT1H
BEGIN:VTIMEZONE
TZID:America/New_York
BEGIN:DAYLIGHT
TZOFFSETFROM:-0500
TZOFFSETTO:-0400
TZNAME:EDT
DTSTART:20170312T070000
END:DAYLIGHT
BEGIN:STANDARD
TZOFFSETFROM:-0400
TZOFFSETTO:-0500
TZNAME:EST
DTSTART:20171105T060000
END:STANDARD
BEGIN:DAYLIGHT
TZOFFSETFROM:-0500
TZOFFSETTO:-0400
TZNAME:EDT
DTSTART:20180311T070000
END:DAYLIGHT
BEGIN:STANDARD
TZOFFSETFROM:-0400
TZOFFSETTO:-0500
TZNAME:EST
DTSTART:20181104T060000
END:STANDARD
BEGIN:DAYLIGHT
TZOFFSETFROM:-0500
TZOFFSETTO:-0400
TZNAME:EDT
DTSTART:20190310T070000
END:DAYLIGHT
BEGIN:STANDARD
TZOFFSETFROM:-0400
TZOFFSETTO:-0500
TZNAME:EST
DTSTART:20191103T060000
END:STANDARD
END:VTIMEZONE
BEGIN:VEVENT
DTSTART;TZID=America/New_York:20180718T180000
DTEND;TZID=America/New_York:20180718T200000
DTSTAMP:20260421T101517
CREATED:20180711T173622Z
LAST-MODIFIED:20180711T173622Z
UID:19634-1531936800-1531944000@jayceland.com
SUMMARY:Seratones musical performance
DESCRIPTION:Shreveport\, Louisiana's Seratones make a strong case that this little-known corner of the state is fertile ground\, musically speaking. The city sits at a nexus roughly equidistant from Memphis soul\, Mississippi Delta blues\, and New Orleans jazz\, with Texas swing located just over the nearby state border. The band's sound draws from those touch points and more\, ranging from Black Sabbath to Kind of Blue.  On their debut album\, Get Gone\, A.J. Haynes's powerful singing voice\, first honed at Brownsville Baptist Church at age 6\, rings across every track. Adam Davis's bass and Jesse Gabriel's playing propel every song with the grit\, energy\, and rawness of punk\, the feeling of soul\, and occasionally\, a little jazz swing\, while Connor Davis offers a clinic in guitar riffs\, from swaggering blues to searing interstellar leads. In 2013\, Seratones won the Louisiana Music Prize. \n [source: Bop Shop website\, 2018-Jul-9]
URL:https://jayceland.com/blog/event/seratones-musical-performance/
LOCATION:George Eastman Museum (formerly George Eastman House)\, 900 East Ave.\, Rochester\, New York\, 14607\, United States
CATEGORIES:JayceLand 2018-Jul-12
END:VEVENT
BEGIN:VEVENT
DTSTART;TZID=America/New_York:20180718T190000
DTEND;TZID=America/New_York:20180718T205300
DTSTAMP:20260421T101517
CREATED:20180711T173624Z
LAST-MODIFIED:20180711T173624Z
UID:19664-1531940400-1531947180@jayceland.com
SUMMARY:First Reformed screening (2018-Jul-18 @ 7 p.m.)
DESCRIPTION:The Cinema will screen First Reformed (Paul Schrader\, U.S. 2017\, 113 min.) "A priest of a small congregation in upstate New York grapples with mounting despair brought on by tragedy\, worldly concerns and a tormented past." [source: Cinema Theater coming soon page\, 2018-Jul-11]
URL:https://jayceland.com/blog/event/first-reformed-screening-2018-jul-18-7-p-m/
LOCATION:Cinema Theatre\, 957 S. Clinton Ave.\, Rochester\, New York\, 14620\, United States
CATEGORIES:JayceLand 2018-Jul-12
END:VEVENT
BEGIN:VEVENT
DTSTART;TZID=America/New_York:20180718T190000
DTEND;TZID=America/New_York:20180718T210000
DTSTAMP:20260421T101517
CREATED:20180711T173622Z
LAST-MODIFIED:20180711T173622Z
UID:19632-1531940400-1531947600@jayceland.com
SUMMARY:Free Puerto Rico discussion
DESCRIPTION:Sponsored by the New York Chapter of the Puerto Rican Independence Party\, it will be a continuation of our January meeting at the Flying Squirrel.  This meeting will discuss: \n\nThe history of American colonization and abuse of the Puerto Rican Islands. \nThe history of the Puerto Rican independence movement. \nThe current realities of Puerto Rico after Hurricane Maria. \nThe U.S. imposed Fiscal Control Board and its elimination of protections for the working class\, and its cuts to the University of Puerto Rico\, K-12 Education\, Health Care\, Pensions\, Etc. \nDisaster Capitalism. \nWhat an independent Puerto Rico would look like.\n\n\n [source: Flying Squirrel website\, 2018-Jul-9]
URL:https://jayceland.com/blog/event/free-puerto-rico-discussion/
LOCATION:Flying Squirrel Community Space\, 285 Clarissa St.\, Rochester\, New York\, 14608\, United States
CATEGORIES:JayceLand 2018-Jul-12
END:VEVENT
BEGIN:VEVENT
DTSTART;TZID=America/New_York:20180718T203000
DTEND;TZID=America/New_York:20180718T220500
DTSTAMP:20260421T101517
CREATED:20180711T173623Z
LAST-MODIFIED:20180711T173623Z
UID:19649-1531945800-1531951500@jayceland.com
SUMMARY:They Live by Night screening
DESCRIPTION:The Dryden will screen They Live by Night (Nicholas Ray\, U.S. 1948\, 95 min.\, 35mm) as part of the War\, Myth\, Desire series.  \nNicholas Ray's raw story of lovers on the run involves three jailbreakers named Bowie\, Chickamaw\, and T-Dub finding safe haven in their hometown. Bowie (Farley Granger) finds himself falling for Chickamaw's niece Keechie\, who nurses him back to health. After a planned robbery\, all Bowie wants is to clear his name from the murder rap he took back in Oklahoma at the age of sixteen. All Keechie wants is Bowie. The robbery goes wrong and the two run from both their friends and the law\, hoping to spend one day in the sun as a normal couple. The great French filmmaker FranÃ§ois Truffaut adored They Live by Night\, calling it "the most Bressonian of American films" and its director "the poet of nightfall." \n [source: George Eastman Museum calendar\, 2018-Jul-9]
URL:https://jayceland.com/blog/event/they-live-by-night-screening/
LOCATION:Dryden Theatre at George Eastman Museum (formerly George Eastman House)\, 900 East Ave.\, Rochester\, New York\, 14607\, United States
CATEGORIES:JayceLand 2018-Jul-12
END:VEVENT
BEGIN:VEVENT
DTSTART;TZID=America/New_York:20180718T205500
DTEND;TZID=America/New_York:20180718T225100
DTSTAMP:20260421T101517
CREATED:20180711T173625Z
LAST-MODIFIED:20180711T173625Z
UID:19671-1531947300-1531954260@jayceland.com
SUMMARY:American Animals screening (2018-Jul-18 @ 8:55 p.m.)
DESCRIPTION:The Cinema will screen American Animals (Bart Layton\, U.K. / U.S. 2018\, 116 min.) "Four young men mistake their lives for a movie and attempt one of the most audacious heists in U.S. history." [source: Cinema Theater coming soon page\, 2018-Jul-11]
URL:https://jayceland.com/blog/event/american-animals-screening-2018-jul-18-855-p-m/
LOCATION:Cinema Theatre\, 957 S. Clinton Ave.\, Rochester\, New York\, 14620\, United States
CATEGORIES:JayceLand 2018-Jul-12
END:VEVENT
BEGIN:VEVENT
DTSTART;TZID=America/New_York:20180718T210000
DTEND;TZID=America/New_York:20180718T230000
DTSTAMP:20260421T101517
CREATED:20180711T173622Z
LAST-MODIFIED:20180711T173622Z
UID:19630-1531947600-1531954800@jayceland.com
SUMMARY:Laura Wolf\, Madeleine McQueen\, The Sugar Gliders musical performances
DESCRIPTION:[source: Facebook\, 2018-Jul-9]
URL:https://jayceland.com/blog/event/laura-wolf-madeleine-mcqueen-the-sugar-gliders-musical-performances/
LOCATION:Bug Jar\, 219 Monroe Ave\, Rochester\, New York\, 14607\, United States
CATEGORIES:JayceLand 2018-Jul-12
END:VEVENT
END:VCALENDAR