BEGIN:VCALENDAR
VERSION:2.0
PRODID:-//JayceLand - ECPv6.15.20//NONSGML v1.0//EN
CALSCALE:GREGORIAN
METHOD:PUBLISH
X-WR-CALNAME:JayceLand
X-ORIGINAL-URL:https://jayceland.com/blog
X-WR-CALDESC:Events for JayceLand
REFRESH-INTERVAL;VALUE=DURATION:PT1H
X-Robots-Tag:noindex
X-PUBLISHED-TTL:PT1H
BEGIN:VTIMEZONE
TZID:America/New_York
BEGIN:DAYLIGHT
TZOFFSETFROM:-0500
TZOFFSETTO:-0400
TZNAME:EDT
DTSTART:20170312T070000
END:DAYLIGHT
BEGIN:STANDARD
TZOFFSETFROM:-0400
TZOFFSETTO:-0500
TZNAME:EST
DTSTART:20171105T060000
END:STANDARD
BEGIN:DAYLIGHT
TZOFFSETFROM:-0500
TZOFFSETTO:-0400
TZNAME:EDT
DTSTART:20180311T070000
END:DAYLIGHT
BEGIN:STANDARD
TZOFFSETFROM:-0400
TZOFFSETTO:-0500
TZNAME:EST
DTSTART:20181104T060000
END:STANDARD
BEGIN:DAYLIGHT
TZOFFSETFROM:-0500
TZOFFSETTO:-0400
TZNAME:EDT
DTSTART:20190310T070000
END:DAYLIGHT
BEGIN:STANDARD
TZOFFSETFROM:-0400
TZOFFSETTO:-0500
TZNAME:EST
DTSTART:20191103T060000
END:STANDARD
END:VTIMEZONE
BEGIN:VEVENT
DTSTART;TZID=America/New_York:20180624T110000
DTEND;TZID=America/New_York:20180624T130000
DTSTAMP:20260422T002920
CREATED:20180620T172320Z
LAST-MODIFIED:20180620T172320Z
UID:19372-1529838000-1529845200@jayceland.com
SUMMARY:Theme Tour: Jewish Roots in Rochester
DESCRIPTION:Explore the history and enormous contributions of Rochester's Jewish community. \n [source: Friends of Mt. Hope website\, 2018-Jun-18]
URL:https://jayceland.com/blog/event/theme-tour-jewish-roots-in-rochester/
LOCATION:Mt. Hope Cemetery South Entrance\, 1133 Mt. Hope Ave.\, Rochester\, New York\, 14620\, United States
CATEGORIES:JayceLand 2018-Jun-21
END:VEVENT
BEGIN:VEVENT
DTSTART;TZID=America/New_York:20180624T130000
DTEND;TZID=America/New_York:20180624T180000
DTSTAMP:20260422T002920
CREATED:20180620T172321Z
LAST-MODIFIED:20180620T172321Z
UID:19388-1529845200-1529863200@jayceland.com
SUMMARY:Lux Garage Sale (2018-Jun-24 @ 1 p.m.)
DESCRIPTION:[source: Facebook\, 2018-Jun-18]
URL:https://jayceland.com/blog/event/lux-garage-sale-2018-jun-24-1-p-m/
LOCATION:Lux Lounge\, 666 South Ave.\, Rochester\, New York\, 14620\, United States
CATEGORIES:JayceLand 2018-Jun-21
END:VEVENT
BEGIN:VEVENT
DTSTART;TZID=America/New_York:20180624T140000
DTEND;TZID=America/New_York:20180624T160000
DTSTAMP:20260422T002920
CREATED:20180620T172320Z
LAST-MODIFIED:20180620T172320Z
UID:19373-1529848800-1529856000@jayceland.com
SUMMARY:North Section Public Tour (2018-Jun-24 @ 2 p.m.)
DESCRIPTION:This foundational tour is a two-hour walk of approximately one mile on paved roads and uneven terrain. This overview includes the graves of Susan B. Anthony and Frederick Douglass\, as well as topics of local history\, horticulture\, geology\, architecture\, monument symbolism\, and more. \n [source: Friends of Mt. Hope website\, 2018-Jun-18]
URL:https://jayceland.com/blog/event/north-section-public-tour-2018-jun-24-2-p-m/
LOCATION:Mt. Hope Cemetery North Gatehouse\, 791 Mt. Hope Ave.\, Rochester\, New York\, 14620\, United States
CATEGORIES:JayceLand 2018-Jun-21
END:VEVENT
BEGIN:VEVENT
DTSTART;TZID=America/New_York:20180624T160000
DTEND;TZID=America/New_York:20180624T180000
DTSTAMP:20260422T002920
CREATED:20180620T172321Z
LAST-MODIFIED:20180620T172321Z
UID:19378-1529856000-1529863200@jayceland.com
SUMMARY:Forum on Politics in NY State\, with Ken Rudin
DESCRIPTION:The Cinema will host a Forum on Politics in NY State with Ken Rudin\, Tom Proietti\, and Emily Robin Minerva. [source: Cinema Theater website\, 2018-Jun-18]
URL:https://jayceland.com/blog/event/forum-on-politics-in-ny-state-with-ken-rudin/
LOCATION:Cinema Theatre\, 957 S. Clinton Ave.\, Rochester\, New York\, 14620\, United States
CATEGORIES:JayceLand 2018-Jun-21
END:VEVENT
BEGIN:VEVENT
DTSTART;TZID=America/New_York:20180624T180000
DTEND;TZID=America/New_York:20180624T200000
DTSTAMP:20260422T002920
CREATED:20180620T172321Z
LAST-MODIFIED:20180620T172321Z
UID:19389-1529863200-1529870400@jayceland.com
SUMMARY:Black Women Roc! Open Mic and Performing Arts Showcase
DESCRIPTION:An eclectic and acoustic night showcasing Rochester's indie elite as they perform odes to the beauty\, talent and creativity of Black Women! \n [source: Facebook\, 2018-Jun-18]
URL:https://jayceland.com/blog/event/black-women-roc-open-mic-and-performing-arts-showcase/
LOCATION:540WMain Community Arts Education and Cultural Center\, 540 W. Main St.\, Rochester\, New York\, 14608\, United States
CATEGORIES:JayceLand 2018-Jun-21
END:VEVENT
BEGIN:VEVENT
DTSTART;TZID=America/New_York:20180624T190000
DTEND;TZID=America/New_York:20180624T205200
DTSTAMP:20260422T002920
CREATED:20180620T172321Z
LAST-MODIFIED:20180620T172321Z
UID:19393-1529866800-1529873520@jayceland.com
SUMMARY:The Leisure Seeker screening (2018-Jun-24 @ 7 p.m.)
DESCRIPTION:The Cinema will screen The Leisure Seeker (Paolo VirzÃ¬\, Italy / France 2017\, 112 min.) "A runaway couple go on an unforgettable journey in the faithful old RV they call The Leisure Seeker\, traveling from Boston to The Ernest Hemingway Home in Key West. They recapture their passion for life and their love for each other on a road trip that provides revelation and surprise right up to the very end." [source: Cinema Theater coming soon page\, 2018-Jun-20]
URL:https://jayceland.com/blog/event/the-leisure-seeker-screening-2018-jun-24-7-p-m/
LOCATION:Cinema Theatre\, 957 S. Clinton Ave.\, Rochester\, New York\, 14620\, United States
CATEGORIES:JayceLand 2018-Jun-21
END:VEVENT
BEGIN:VEVENT
DTSTART;TZID=America/New_York:20180624T205500
DTEND;TZID=America/New_York:20180624T223000
DTSTAMP:20260422T002920
CREATED:20180620T172322Z
LAST-MODIFIED:20180620T172322Z
UID:19399-1529873700-1529879400@jayceland.com
SUMMARY:Tully screening (2018-Jun-24 @ 8:55 p.m.)
DESCRIPTION:The Cinema will screen Tully (Jason Reitman\, U.S. 2018\, 95 min.) "The film is about Marlo\, a mother of three including a newborn\, who is gifted a night nanny by her brother. Hesitant to the extravagance at first\, Marlo comes to form a unique bond with the thoughtful\, surprising\, and sometimes challenging young nanny named Tully." [source: Cinema Theater coming soon page\, 2018-Jun-20]
URL:https://jayceland.com/blog/event/tully-screening-2018-jun-24-855-p-m/
LOCATION:Cinema Theatre\, 957 S. Clinton Ave.\, Rochester\, New York\, 14620\, United States
CATEGORIES:JayceLand 2018-Jun-21
END:VEVENT
END:VCALENDAR