BEGIN:VCALENDAR
VERSION:2.0
PRODID:-//JayceLand - ECPv6.15.20//NONSGML v1.0//EN
CALSCALE:GREGORIAN
METHOD:PUBLISH
X-ORIGINAL-URL:https://jayceland.com/blog
X-WR-CALDESC:Events for JayceLand
REFRESH-INTERVAL;VALUE=DURATION:PT1H
X-Robots-Tag:noindex
X-PUBLISHED-TTL:PT1H
BEGIN:VTIMEZONE
TZID:America/New_York
BEGIN:DAYLIGHT
TZOFFSETFROM:-0500
TZOFFSETTO:-0400
TZNAME:EDT
DTSTART:20170312T070000
END:DAYLIGHT
BEGIN:STANDARD
TZOFFSETFROM:-0400
TZOFFSETTO:-0500
TZNAME:EST
DTSTART:20171105T060000
END:STANDARD
BEGIN:DAYLIGHT
TZOFFSETFROM:-0500
TZOFFSETTO:-0400
TZNAME:EDT
DTSTART:20180311T070000
END:DAYLIGHT
BEGIN:STANDARD
TZOFFSETFROM:-0400
TZOFFSETTO:-0500
TZNAME:EST
DTSTART:20181104T060000
END:STANDARD
BEGIN:DAYLIGHT
TZOFFSETFROM:-0500
TZOFFSETTO:-0400
TZNAME:EDT
DTSTART:20190310T070000
END:DAYLIGHT
BEGIN:STANDARD
TZOFFSETFROM:-0400
TZOFFSETTO:-0500
TZNAME:EST
DTSTART:20191103T060000
END:STANDARD
END:VTIMEZONE
BEGIN:VEVENT
DTSTART;TZID=America/New_York:20180623T110000
DTEND;TZID=America/New_York:20180623T130000
DTSTAMP:20260420T095318
CREATED:20180620T172320Z
LAST-MODIFIED:20180620T172320Z
UID:19371-1529751600-1529758800@jayceland.com
SUMMARY:Theme Tour: Home to the Prosperous and Penniless (2018-Jun-23 @ 11 a.m.)
DESCRIPTION:Stroll the paved\, flat-surfaced Grove Ave. Learn about residents of great wealth and status\, and those who had little in life\, but left a mark nonetheless. \n [source: Friends of Mt. Hope website\, 2018-Jun-18]
URL:https://jayceland.com/blog/event/theme-tour-home-to-the-prosperous-and-penniless-2018-jun-23-11-a-m/
LOCATION:Mt. Hope Cemetery South Entrance\, 1133 Mt. Hope Ave.\, Rochester\, New York\, 14620\, United States
CATEGORIES:JayceLand 2018-Jun-21
END:VEVENT
BEGIN:VEVENT
DTSTART;TZID=America/New_York:20180623T164500
DTEND;TZID=America/New_York:20180623T180200
DTSTAMP:20260420T095318
CREATED:20180620T172322Z
LAST-MODIFIED:20180620T172322Z
UID:19403-1529772300-1529776920@jayceland.com
SUMMARY:Love And Bananas screening (2018-Jun-23 @ 4:45 p.m.)
DESCRIPTION:The Cinema will screen Love And Bananas (Ashley Bell\, Thailand / Cambodia / U.S. 2018\, 77 min.) "Ashley Bell and a team of elephant rescuers led by world renowned Asian elephant conservationist Lek Chailert\, embark on a daring 48-hour mission across Thailand to rescue a 70-year old captive blind Asian elephant and bring her to freedom." [source: Cinema Theater coming soon page\, 2018-Jun-20]
URL:https://jayceland.com/blog/event/love-and-bananas-screening-2018-jun-23-445-p-m/
LOCATION:Cinema Theatre\, 957 S. Clinton Ave.\, Rochester\, New York\, 14620\, United States
CATEGORIES:JayceLand 2018-Jun-21
END:VEVENT
BEGIN:VEVENT
DTSTART;TZID=America/New_York:20180623T190000
DTEND;TZID=America/New_York:20180623T205200
DTSTAMP:20260420T095318
CREATED:20180620T172321Z
LAST-MODIFIED:20180620T172321Z
UID:19392-1529780400-1529787120@jayceland.com
SUMMARY:The Leisure Seeker screening (2018-Jun-23 @ 7 p.m.)
DESCRIPTION:The Cinema will screen The Leisure Seeker (Paolo VirzÃ¬\, Italy / France 2017\, 112 min.) "A runaway couple go on an unforgettable journey in the faithful old RV they call The Leisure Seeker\, traveling from Boston to The Ernest Hemingway Home in Key West. They recapture their passion for life and their love for each other on a road trip that provides revelation and surprise right up to the very end." [source: Cinema Theater coming soon page\, 2018-Jun-20]
URL:https://jayceland.com/blog/event/the-leisure-seeker-screening-2018-jun-23-7-p-m/
LOCATION:Cinema Theatre\, 957 S. Clinton Ave.\, Rochester\, New York\, 14620\, United States
CATEGORIES:JayceLand 2018-Jun-21
END:VEVENT
BEGIN:VEVENT
DTSTART;TZID=America/New_York:20180623T190000
DTEND;TZID=America/New_York:20180623T210000
DTSTAMP:20260420T095318
CREATED:20180620T172321Z
LAST-MODIFIED:20180620T172321Z
UID:19376-1529780400-1529787600@jayceland.com
SUMMARY:Mark Allen musical performance
DESCRIPTION:[source: Facebook\, 2018-Jun-18]
URL:https://jayceland.com/blog/event/mark-allen-musical-performance/
LOCATION:Boulder Coffee\, South Wedge\, 100 Alexander St.\, Rochester\, New York\, 14620\, United States
CATEGORIES:JayceLand 2018-Jun-21
END:VEVENT
BEGIN:VEVENT
DTSTART;TZID=America/New_York:20180623T193000
DTEND;TZID=America/New_York:20180623T210100
DTSTAMP:20260420T095318
CREATED:20180620T172321Z
LAST-MODIFIED:20180620T172321Z
UID:19381-1529782200-1529787660@jayceland.com
SUMMARY:Harold and Maude screening (2018-Jun-23 @ 7:30 p.m.)
DESCRIPTION:The Dryden will screen Harold and Maude (Hal Ashby\, U.S. 1971\, 91 min.\, 35mm) as part of the Youth in Love series.  \nBy staging elaborate fake suicides\, Harold\, a bored and depressive young boy\, desperately tries to gain the attention of his wealthy and absent mother. To kill time\, he goes to funerals\, where he ends up meeting another regular attendee\, Maude\, an intriguing woman who could easily be his grandmother. Maude has a cheerful touch of madness\, regardless of her past\, which has not always been joyful. At her side\, Harold learns to smile and begins to find life more enjoyable. Harold and Maude are certainly one of the most iconic movie couples. Still\, when it was released\, the bittersweet tone of the film was not really to the taste of the critics. Despite the mixed reviews\, the movie has gained popularity over the years to the point of becoming a classic. \n [source: George Eastman Museum calendar\, 2018-Jun-18]
URL:https://jayceland.com/blog/event/harold-and-maude-screening-2018-jun-23-730-p-m/
LOCATION:Dryden Theatre at George Eastman Museum (formerly George Eastman House)\, 900 East Ave.\, Rochester\, New York\, 14607\, United States
CATEGORIES:JayceLand 2018-Jun-21
END:VEVENT
BEGIN:VEVENT
DTSTART;TZID=America/New_York:20180623T205500
DTEND;TZID=America/New_York:20180623T223000
DTSTAMP:20260420T095318
CREATED:20180620T172322Z
LAST-MODIFIED:20180620T172322Z
UID:19398-1529787300-1529793000@jayceland.com
SUMMARY:Tully screening (2018-Jun-23 @ 8:55 p.m.)
DESCRIPTION:The Cinema will screen Tully (Jason Reitman\, U.S. 2018\, 95 min.) "The film is about Marlo\, a mother of three including a newborn\, who is gifted a night nanny by her brother. Hesitant to the extravagance at first\, Marlo comes to form a unique bond with the thoughtful\, surprising\, and sometimes challenging young nanny named Tully." [source: Cinema Theater coming soon page\, 2018-Jun-20]
URL:https://jayceland.com/blog/event/tully-screening-2018-jun-23-855-p-m/
LOCATION:Cinema Theatre\, 957 S. Clinton Ave.\, Rochester\, New York\, 14620\, United States
CATEGORIES:JayceLand 2018-Jun-21
END:VEVENT
BEGIN:VEVENT
DTSTART;TZID=America/New_York:20180623T213000
DTEND;TZID=America/New_York:20180623T233000
DTSTAMP:20260420T095318
CREATED:20180620T172320Z
LAST-MODIFIED:20180620T172320Z
UID:19366-1529789400-1529796600@jayceland.com
SUMMARY:Live Scene\, Emo Night: Cut Me Up Genny musical performance
DESCRIPTION:[source: Facebook\, 2018-Jun-18]
URL:https://jayceland.com/blog/event/live-scene-emo-night-cut-me-up-genny-musical-performance/
LOCATION:Bug Jar\, 219 Monroe Ave\, Rochester\, New York\, 14607\, United States
CATEGORIES:JayceLand 2018-Jun-21
END:VEVENT
END:VCALENDAR