BEGIN:VCALENDAR
VERSION:2.0
PRODID:-//JayceLand - ECPv6.15.20//NONSGML v1.0//EN
CALSCALE:GREGORIAN
METHOD:PUBLISH
X-ORIGINAL-URL:https://jayceland.com/blog
X-WR-CALDESC:Events for JayceLand
REFRESH-INTERVAL;VALUE=DURATION:PT1H
X-Robots-Tag:noindex
X-PUBLISHED-TTL:PT1H
BEGIN:VTIMEZONE
TZID:America/New_York
BEGIN:DAYLIGHT
TZOFFSETFROM:-0500
TZOFFSETTO:-0400
TZNAME:EDT
DTSTART:20170312T070000
END:DAYLIGHT
BEGIN:STANDARD
TZOFFSETFROM:-0400
TZOFFSETTO:-0500
TZNAME:EST
DTSTART:20171105T060000
END:STANDARD
BEGIN:DAYLIGHT
TZOFFSETFROM:-0500
TZOFFSETTO:-0400
TZNAME:EDT
DTSTART:20180311T070000
END:DAYLIGHT
BEGIN:STANDARD
TZOFFSETFROM:-0400
TZOFFSETTO:-0500
TZNAME:EST
DTSTART:20181104T060000
END:STANDARD
BEGIN:DAYLIGHT
TZOFFSETFROM:-0500
TZOFFSETTO:-0400
TZNAME:EDT
DTSTART:20190310T070000
END:DAYLIGHT
BEGIN:STANDARD
TZOFFSETFROM:-0400
TZOFFSETTO:-0500
TZNAME:EST
DTSTART:20191103T060000
END:STANDARD
END:VTIMEZONE
BEGIN:VEVENT
DTSTART;TZID=America/New_York:20180621T170000
DTEND;TZID=America/New_York:20180621T210000
DTSTAMP:20260421T070116
CREATED:20180620T172321Z
LAST-MODIFIED:20180620T172321Z
UID:19387-1529600400-1529614800@jayceland.com
SUMMARY:City Newspaper's Best Busker Festival 2018
DESCRIPTION:Come down to Rochester's South Wedge for a night of free music on the streets from great local musicians\, plus ridiculous deals from neighborhood merchants. From 5 p.m. to 9 p.m.\, local shops will be offering special buys on food\, drink\, goods\, and services. \n [source: South Wedge website\, 2018-Jun-18]
URL:https://jayceland.com/blog/event/city-newspapers-best-busker-festival-2018/
LOCATION:South Wedge\, South Ave. at Gregory St.\, Rochester\, New York\, 14620\, United States
CATEGORIES:JayceLand 2018-Jun-21
END:VEVENT
BEGIN:VEVENT
DTSTART;TZID=America/New_York:20180621T173000
DTEND;TZID=America/New_York:20180621T193000
DTSTAMP:20260421T070116
CREATED:20180620T172321Z
LAST-MODIFIED:20180620T172321Z
UID:19385-1529602200-1529609400@jayceland.com
SUMMARY:Guest Bartending: Alzheimer's Association fundraiser
DESCRIPTION:The Hideaway is supporting The Longest Day by inviting the Alzheimer's Association to guest-bartend. All tips collected during this time will support The Longest Day and the Alzheimer's Association. Guest bartenders include Chris Konya from 98.9 The Buzz\, Laura Vanvalkenburg\, Assistant General Manager at Genesee Brew House\, and Miles Zatkowsky\, Alzheimer's Association Board Chair and Principal at Rochester Elder Law. \n [source: Rochester City Newspaper events calendar\, 2018-Jun-18]
URL:https://jayceland.com/blog/event/guest-bartending-alzheimers-association-fundraiser/
LOCATION:The Hideaway (formerly Hogan's Hideaway)\, 197 Park Ave.\, Rochester\, New York\, 14607\, United States
CATEGORIES:JayceLand 2018-Jun-21
END:VEVENT
BEGIN:VEVENT
DTSTART;TZID=America/New_York:20180621T190000
DTEND;TZID=America/New_York:20180621T202400
DTSTAMP:20260421T070116
CREATED:20180613T172201Z
LAST-MODIFIED:20180613T172201Z
UID:19307-1529607600-1529612640@jayceland.com
SUMMARY:The Renegades: A Beep Ball Story screening
DESCRIPTION:The Cinema will screen The Renegades: A Beep Ball Story (Jack Clancy\, Liz Clancy\, U.S. 2009\, 84 min.) "Celebrating the abilities of blind and visually impaired athletes\, the documentary features players hitting balls and diving headlong into bases. Beyond the games\, it's about the people and their stories. The film looks at hope\, heartache and what it means to play as a team." [source: Cinema Theater coming soon page\, 2018-Jun-13]
URL:https://jayceland.com/blog/event/the-renegades-a-beep-ball-story-screening/
LOCATION:Cinema Theatre\, 957 S. Clinton Ave.\, Rochester\, New York\, 14620\, United States
CATEGORIES:JayceLand 2018-Jun-21
END:VEVENT
BEGIN:VEVENT
DTSTART;TZID=America/New_York:20180621T190000
DTEND;TZID=America/New_York:20180621T203400
DTSTAMP:20260421T070116
CREATED:20180620T172320Z
LAST-MODIFIED:20180620T172320Z
UID:19364-1529607600-1529613240@jayceland.com
SUMMARY:Won't You Be My Neighbor? screening
DESCRIPTION:The Little will screen Won't You Be My Neighbor? (Morgan Neville\, U.S. 2018\, 94 min.) followed by a videoconference with  \nMargy Whitmer \n\, "one of the original producers of Mister Rogers' Neighborhood and current producer on Daniel Tiger's Neighborhood".  \nFor over thirty years\, Fred Rogers\, an unassuming minister\, puppeteer\, writer and producer was beamed daily into homes across America. In his beloved television program\, Mister Rogers' Neighborhood\, Fred and his cast of puppets and friends spoke directly to young children about some of life's weightiest issues\, in a simple\, direct fashion. There hadn't been anything like Mr. Rogers on television before and there hasn't been since. \n [source: Little Theatre calendar\, 2018-Jun-14]
URL:https://jayceland.com/blog/event/wont-you-be-my-neighbor-screening/
LOCATION:Little Theatre\, 240 East Ave. #100\, Rochester\, New York\, 14604\, United States
CATEGORIES:JayceLand 2018-Jun-21
END:VEVENT
BEGIN:VEVENT
DTSTART;TZID=America/New_York:20180621T190000
DTEND;TZID=America/New_York:20180621T210000
DTSTAMP:20260421T070116
CREATED:20180620T172320Z
LAST-MODIFIED:20180620T172320Z
UID:19370-1529607600-1529614800@jayceland.com
SUMMARY:Twilight Tour (2018-Jun-21 @ 7 p.m.)
DESCRIPTION:This 75-minute tour includes some topics covered on Sunday North Section tours as well as new material\, on an alternate route of the North Section. \n [source: Friends of Mt. Hope website\, 2018-Jun-18]
URL:https://jayceland.com/blog/event/twilight-tour-2018-jun-21-7-p-m/
LOCATION:Mt. Hope Cemetery North Gatehouse\, 791 Mt. Hope Ave.\, Rochester\, New York\, 14620\, United States
CATEGORIES:JayceLand 2018-Jun-21
END:VEVENT
BEGIN:VEVENT
DTSTART;TZID=America/New_York:20180621T193000
DTEND;TZID=America/New_York:20180621T214700
DTSTAMP:20260421T070116
CREATED:20180620T172321Z
LAST-MODIFIED:20180620T172321Z
UID:19379-1529609400-1529617620@jayceland.com
SUMMARY:Friendly Persuasion screening
DESCRIPTION:The Dryden will screen Friendly Persuasion (William Wyler\, U.S. 1956\, 137 min.\, 35mm) as part of the William Wyler series.  \nGary Cooper stars in this compelling drama depicting a Quaker family's struggle to maintain their peaceful ways amidst the chaos of the Civil War. When southern troops storm into their quaint Indiana town\, patriarch Jess Birdwell has to decide whether to adhere to his beliefs or fight for his home. By turns humorous and touching\, Wyler's visually stunning masterpiece brings out the best in his cast\, headlined by Gary Cooper and Dorothy McGuire as devout Quakers and pacifists wrestling with rebellious children and their own consciences. \n [source: George Eastman Museum calendar\, 2018-Jun-18]
URL:https://jayceland.com/blog/event/friendly-persuasion-screening/
LOCATION:Dryden Theatre at George Eastman Museum (formerly George Eastman House)\, 900 East Ave.\, Rochester\, New York\, 14607\, United States
CATEGORIES:JayceLand 2018-Jun-21
END:VEVENT
BEGIN:VEVENT
DTSTART;TZID=America/New_York:20180621T200000
DTEND;TZID=America/New_York:20180621T220000
DTSTAMP:20260421T070116
CREATED:20180620T172320Z
LAST-MODIFIED:20180620T172320Z
UID:19369-1529611200-1529618400@jayceland.com
SUMMARY:Kodachrome
DESCRIPTION:Premiering for the first time at Three Heads Brewing: A tribute to one of America's greatest songwriters and performers – Paul Simon. This performance ranging from his work with Simon and Garfunkel through Graceland and beyond will be sure to make you dance and sing along. The band is comprised of some of Rochester's most talented musicians with local guitarist\, bassist\, and sound engineer Adrien d'Angelo as Paul Simon. This event lands on the Summer Equinox\, and is sure to draw energy to a wonderful celebration. \n [source: Facebook\, 2018-Jun-18]
URL:https://jayceland.com/blog/event/kodachrome/
LOCATION:Three Heads Brewing\, 186 Atlantic Ave.\, Rochester\, New York\, 14607\, United States
CATEGORIES:JayceLand 2018-Jun-21
END:VEVENT
BEGIN:VEVENT
DTSTART;TZID=America/New_York:20180621T210000
DTEND;TZID=America/New_York:20180621T230000
DTSTAMP:20260421T070116
CREATED:20180620T172320Z
LAST-MODIFIED:20180620T172320Z
UID:19365-1529614800-1529622000@jayceland.com
SUMMARY:awakebutstillinbed\, California Cousins\, Alleys\, Slumbers musical performances
DESCRIPTION:[source: Facebook\, 2018-Jun-18]
URL:https://jayceland.com/blog/event/awakebutstillinbed-california-cousins-alleys-slumbers-musical-performances/
LOCATION:Bug Jar\, 219 Monroe Ave\, Rochester\, New York\, 14607\, United States
CATEGORIES:JayceLand 2018-Jun-21
END:VEVENT
END:VCALENDAR