BEGIN:VCALENDAR
VERSION:2.0
PRODID:-//JayceLand - ECPv6.15.20//NONSGML v1.0//EN
CALSCALE:GREGORIAN
METHOD:PUBLISH
X-ORIGINAL-URL:https://jayceland.com/blog
X-WR-CALDESC:Events for JayceLand
REFRESH-INTERVAL;VALUE=DURATION:PT1H
X-Robots-Tag:noindex
X-PUBLISHED-TTL:PT1H
BEGIN:VTIMEZONE
TZID:America/New_York
BEGIN:DAYLIGHT
TZOFFSETFROM:-0500
TZOFFSETTO:-0400
TZNAME:EDT
DTSTART:20170312T070000
END:DAYLIGHT
BEGIN:STANDARD
TZOFFSETFROM:-0400
TZOFFSETTO:-0500
TZNAME:EST
DTSTART:20171105T060000
END:STANDARD
BEGIN:DAYLIGHT
TZOFFSETFROM:-0500
TZOFFSETTO:-0400
TZNAME:EDT
DTSTART:20180311T070000
END:DAYLIGHT
BEGIN:STANDARD
TZOFFSETFROM:-0400
TZOFFSETTO:-0500
TZNAME:EST
DTSTART:20181104T060000
END:STANDARD
BEGIN:DAYLIGHT
TZOFFSETFROM:-0500
TZOFFSETTO:-0400
TZNAME:EDT
DTSTART:20190310T070000
END:DAYLIGHT
BEGIN:STANDARD
TZOFFSETFROM:-0400
TZOFFSETTO:-0500
TZNAME:EST
DTSTART:20191103T060000
END:STANDARD
END:VTIMEZONE
BEGIN:VEVENT
DTSTART;TZID=America/New_York:20180613T180000
DTEND;TZID=America/New_York:20180613T190000
DTSTAMP:20260420T131911
CREATED:20180606T151938Z
LAST-MODIFIED:20180606T151938Z
UID:19188-1528912800-1528916400@jayceland.com
SUMMARY:When Rochester's Hospitals All Got Sick lecture by Teresa K. Lehr
DESCRIPTION:Author Teresa K. Lehr discusses the 1918 Spanish Flu pandemic in Rochester. \n [source: Rochester City Newspaper events calendar\, 2018-Jun-4]
URL:https://jayceland.com/blog/event/when-rochesters-hospitals-all-got-sick-lecture-by-teresa-k-lehr/
LOCATION:Rochester Academy of Medicine\, 1441 East Ave. #100\, Rochester\, New York\, 14610\, United States
CATEGORIES:JayceLand 2018-Jun-7
END:VEVENT
BEGIN:VEVENT
DTSTART;TZID=America/New_York:20180613T190000
DTEND;TZID=America/New_York:20180613T204100
DTSTAMP:20260420T131911
CREATED:20180606T151939Z
LAST-MODIFIED:20180606T151939Z
UID:19206-1528916400-1528922460@jayceland.com
SUMMARY:Isle of Dogs screening (2018-Jun-13 @ 7 p.m.)
DESCRIPTION:The Cinema will screen Isle of Dogs (Wes Anderson\, Germany / U.S. 2018\, 101 min.) "An outbreak of dog flu has spread through the city of Megasaki\, Japan\, and Mayor Kobayashi has demanded all dogs to be sent to Trash Island. On the island\, a young boy named Atari sets out to find his lost dog\, Spots\, with the help of five other dogs… with many obstacles along the way." [source: Cinema Theater coming soon page\, 2018-Jun-6]
URL:https://jayceland.com/blog/event/isle-of-dogs-screening-2018-jun-13-7-p-m/
LOCATION:Cinema Theatre\, 957 S. Clinton Ave.\, Rochester\, New York\, 14620\, United States
CATEGORIES:JayceLand 2018-Jun-7
END:VEVENT
BEGIN:VEVENT
DTSTART;TZID=America/New_York:20180613T193000
DTEND;TZID=America/New_York:20180613T210000
DTSTAMP:20260420T131911
CREATED:20180606T151937Z
LAST-MODIFIED:20180606T151937Z
UID:19187-1528918200-1528923600@jayceland.com
SUMMARY:Early Cinema: A Discovery Program (1894–1915)\, Part I screening
DESCRIPTION:The Dryden will screen a selection of short films in a program titled Early Cinema: A Discovery Program (1894–1915)\, Part I with live piano by Philip C. Carli.  \nThe George Eastman Museum holds one of the largest collections of films made between 1894 and 1915\, collected over a period of seventy years and rescued from oblivion through systematic preservation. In two consecutive evenings\, we are presenting a sample of the most fascinating works—often endowed with gorgeous colors—created by the pioneers of cinema during the first decades of its existence. The program\, curated by Tara Najd Ahmadi\, is held in conjunction with the biannual conference of Domitor\, the Association for the Study of Early Cinema\, organized and hosted by the museum between June 11 and 16 in collaboration with the University of Rochester and with the participation of the most eminent scholars in this burgeoning field of research. The selection for the two special events is international in scope: all the major producing countries from the period are represented in the programs. A detailed list of the films to be exhibited will be distributed before each show. \n [source: George Eastman Museum calendar\, 2018-Jun-4]
URL:https://jayceland.com/blog/event/early-cinema-a-discovery-program-1894-1915-part-i-screening/
LOCATION:Dryden Theatre at George Eastman Museum (formerly George Eastman House)\, 900 East Ave.\, Rochester\, New York\, 14607\, United States
CATEGORIES:JayceLand 2018-Jun-7
END:VEVENT
BEGIN:VEVENT
DTSTART;TZID=America/New_York:20180613T204500
DTEND;TZID=America/New_York:20180613T224600
DTSTAMP:20260420T131911
CREATED:20180606T151939Z
LAST-MODIFIED:20180606T151939Z
UID:19200-1528922700-1528929960@jayceland.com
SUMMARY:Lean on Pete screening (2018-Jun-13 @ 8:45 p.m.)
DESCRIPTION:The Cinema will screen Lean on Pete (Andrew Haigh\, U.K. 2017\, 121 min.) "The film follows fifteen-year-old Charley Thompson. He wants a home\, food on the table and a high school he can attend for more than part of the year. As the son of a single father working in warehouses across the Pacific Northwest\, stability is hard to find. Hoping for a new start they move to Portland\, Oregon where Charley takes a summer job\, with a washed-up horse trainer\, and befriends a failing racehorse named Lean on Pete." [source: Cinema Theater coming soon page\, 2018-Jun-6]
URL:https://jayceland.com/blog/event/lean-on-pete-screening-2018-jun-13-845-p-m/
LOCATION:Cinema Theatre\, 957 S. Clinton Ave.\, Rochester\, New York\, 14620\, United States
CATEGORIES:JayceLand 2018-Jun-7
END:VEVENT
BEGIN:VEVENT
DTSTART;TZID=America/New_York:20180613T210000
DTEND;TZID=America/New_York:20180613T230000
DTSTAMP:20260420T131911
CREATED:20180606T151937Z
LAST-MODIFIED:20180606T151937Z
UID:19174-1528923600-1528930800@jayceland.com
SUMMARY:The Stone Eye\, Blue Dream\, Dangerbyrd\, Venom Mob musical performances
DESCRIPTION:[source: Facebook\, 2018-Jun-4]
URL:https://jayceland.com/blog/event/the-stone-eye-blue-dream-dangerbyrd-venom-mob-musical-performances/
LOCATION:Bug Jar\, 219 Monroe Ave\, Rochester\, New York\, 14607\, United States
CATEGORIES:JayceLand 2018-Jun-7
END:VEVENT
END:VCALENDAR