BEGIN:VCALENDAR
VERSION:2.0
PRODID:-//JayceLand - ECPv6.15.20//NONSGML v1.0//EN
CALSCALE:GREGORIAN
METHOD:PUBLISH
X-ORIGINAL-URL:https://jayceland.com/blog
X-WR-CALDESC:Events for JayceLand
REFRESH-INTERVAL;VALUE=DURATION:PT1H
X-Robots-Tag:noindex
X-PUBLISHED-TTL:PT1H
BEGIN:VTIMEZONE
TZID:America/New_York
BEGIN:DAYLIGHT
TZOFFSETFROM:-0500
TZOFFSETTO:-0400
TZNAME:EDT
DTSTART:20170312T070000
END:DAYLIGHT
BEGIN:STANDARD
TZOFFSETFROM:-0400
TZOFFSETTO:-0500
TZNAME:EST
DTSTART:20171105T060000
END:STANDARD
BEGIN:DAYLIGHT
TZOFFSETFROM:-0500
TZOFFSETTO:-0400
TZNAME:EDT
DTSTART:20180311T070000
END:DAYLIGHT
BEGIN:STANDARD
TZOFFSETFROM:-0400
TZOFFSETTO:-0500
TZNAME:EST
DTSTART:20181104T060000
END:STANDARD
BEGIN:DAYLIGHT
TZOFFSETFROM:-0500
TZOFFSETTO:-0400
TZNAME:EDT
DTSTART:20190310T070000
END:DAYLIGHT
BEGIN:STANDARD
TZOFFSETFROM:-0400
TZOFFSETTO:-0500
TZNAME:EST
DTSTART:20191103T060000
END:STANDARD
END:VTIMEZONE
BEGIN:VEVENT
DTSTART;TZID=America/New_York:20180612T180000
DTEND;TZID=America/New_York:20180612T210000
DTSTAMP:20260420T130947
CREATED:20180613T172159Z
LAST-MODIFIED:20180613T172159Z
UID:19287-1528826400-1528837200@jayceland.com
SUMMARY:WALL\Therapy Fundraiser (2018-Jun-12 @ 6 p.m.)
DESCRIPTION:Kicking off a series of seasonal\, artist-themed beers with a portion of the proceeds going to support the WALL\Therapy project. Featuring artist Mr. Prvrt's brew\, Up Owl Night. Mr. Prvrt will be live painting during the event\, with the paintings raffled off at the end of the night. DJ Chreath will be bringing the tunes. \n [source: Rochester City Newspaper events calendar\, 2018-Jun-11]
URL:https://jayceland.com/blog/event/walltherapy-fundraiser-2018-jun-12-6-p-m/
LOCATION:Fifth Frame Brewing Co.\, 155 Saint Paul St.\, Rochester\, New York\, 14604\, United States
CATEGORIES:JayceLand 2018-Jun-7
END:VEVENT
BEGIN:VEVENT
DTSTART;TZID=America/New_York:20180612T190000
DTEND;TZID=America/New_York:20180612T204100
DTSTAMP:20260420T130947
CREATED:20180606T151939Z
LAST-MODIFIED:20180606T151939Z
UID:19205-1528830000-1528836060@jayceland.com
SUMMARY:Isle of Dogs screening (2018-Jun-12 @ 7 p.m.)
DESCRIPTION:The Cinema will screen Isle of Dogs (Wes Anderson\, Germany / U.S. 2018\, 101 min.) "An outbreak of dog flu has spread through the city of Megasaki\, Japan\, and Mayor Kobayashi has demanded all dogs to be sent to Trash Island. On the island\, a young boy named Atari sets out to find his lost dog\, Spots\, with the help of five other dogs… with many obstacles along the way." [source: Cinema Theater coming soon page\, 2018-Jun-6]
URL:https://jayceland.com/blog/event/isle-of-dogs-screening-2018-jun-12-7-p-m/
LOCATION:Cinema Theatre\, 957 S. Clinton Ave.\, Rochester\, New York\, 14620\, United States
CATEGORIES:JayceLand 2018-Jun-7
END:VEVENT
BEGIN:VEVENT
DTSTART;TZID=America/New_York:20180612T190000
DTEND;TZID=America/New_York:20180612T204600
DTSTAMP:20260420T130947
CREATED:20180607T154046Z
LAST-MODIFIED:20180607T154126Z
UID:19247-1528830000-1528836360@jayceland.com
SUMMARY:Generation Wealth screening (2018-Jun-12 @ 7 p.m.)
DESCRIPTION:The Little will screen Generation Wealth (\, \, Lauren Greenfield\, U.S. 2018\, 106 min.) followed by a videoconference Q&A with director Lauren Greenfield as part of the One Take Documentary Series.  \nFor the past 25 years acclaimed photographer and filmmaker Lauren Greenfield (The Queen of Versailles\, Thin\, kids+money\, #likeagirl) has travelled the world\, documenting with ethnographic precision and an artist's sensitivity a vast range of cultural movements and moments. Yet\, after so much seeking and searching\, she realized that much of her work pointed at one uniting phenomenon: wealth culture.  With her new film\, Generation Wealth\, she puts the pieces of her life's work together for in an incendiary investigation into the pathologies that have created the richest society the world has ever seen. Spanning consumerism\, beauty\, gender\, body commodification\, aging and more\, Greenfield has created a comprehensive cautionary tale about a culture heading straight for the cliff's edge.  Generation Wealth\, simultaneously a deeply personal journey\, rigorous historical essay\, and raucously entertaining expose\, bears witness to the global boom-bust economy\, the corrupted American Dream and the human costs of capitalism\, narcissism and greed. \n [source: Little Theatre website\, 2018-Jun-7]
URL:https://jayceland.com/blog/event/generation-wealth-screening-2018-jun-12-7-p-m/
LOCATION:Little Theatre\, 240 East Ave. #100\, Rochester\, New York\, 14604\, United States
CATEGORIES:JayceLand 2018-Jun-7
END:VEVENT
BEGIN:VEVENT
DTSTART;TZID=America/New_York:20180612T193000
DTEND;TZID=America/New_York:20180612T211400
DTSTAMP:20260420T130947
CREATED:20180606T151937Z
LAST-MODIFIED:20180606T151937Z
UID:19186-1528831800-1528838040@jayceland.com
SUMMARY:Wuthering Heights screening
DESCRIPTION:The Dryden will screen Wuthering Heights (William Wyler\, U.S. 1939\, 104 min.\, 35mm) as part of the William Wyler\, and Youth in Love series.  \nIn this memorable adaptation of Emily BrÃ¶nte's classic gothic tale of romance\, deceit\, and sibling rivalry\, Oscar-winning cinematography bathes the doomed lovers in somber tones. Laurence Olivier is the dark\, vengeful Heathcliff\, determined to destroy the lives of those he loves and hates\, and Merle Oberon shines as the capricious and haughty Catherine. \n [source: George Eastman Museum calendar\, 2018-Jun-4]
URL:https://jayceland.com/blog/event/wuthering-heights-screening/
LOCATION:Dryden Theatre at George Eastman Museum (formerly George Eastman House)\, 900 East Ave.\, Rochester\, New York\, 14607\, United States
CATEGORIES:JayceLand 2018-Jun-7
END:VEVENT
BEGIN:VEVENT
DTSTART;TZID=America/New_York:20180612T200000
DTEND;TZID=America/New_York:20180612T220000
DTSTAMP:20260420T130947
CREATED:20180606T151937Z
LAST-MODIFIED:20180606T151937Z
UID:19176-1528833600-1528840800@jayceland.com
SUMMARY:Samuel Blaser Trio musical performance
DESCRIPTION:Samuel Blaser is a shooting star as a trombonist. A native of Switzerland who now regularly commutes between New York and Berlin\, he is a musician who has internalized all that jazz history has produced and commands over a powerful musicality. Characteristic of his talent and ability is his pristine classical intonation and free improvisation.  Within his trio's sound\, Samuel Blaser's smooth flowing lines can at times contrast sharply with guitarist Marc Ducret's harsher statements. A type of contrast that reminds us that tension and contradiction can be powerful elements within music and art. With their third man\, the versatile percussionist Peter Bruun\, they venture into bold territory combining familiar and unusual musical worlds to create a new sound experience. \n [source: Bop Shop website\, 2018-Jun-4]
URL:https://jayceland.com/blog/event/samuel-blaser-trio-musical-performance/
LOCATION:Bop Shop Records\, 1460 Monroe Ave.\, Rochester\, New York\, 14618\, United States
CATEGORIES:JayceLand 2018-Jun-7
END:VEVENT
BEGIN:VEVENT
DTSTART;TZID=America/New_York:20180612T204500
DTEND;TZID=America/New_York:20180612T224600
DTSTAMP:20260420T130947
CREATED:20180606T151938Z
LAST-MODIFIED:20180606T151938Z
UID:19199-1528836300-1528843560@jayceland.com
SUMMARY:Lean on Pete screening (2018-Jun-12 @ 8:45 p.m.)
DESCRIPTION:The Cinema will screen Lean on Pete (Andrew Haigh\, U.K. 2017\, 121 min.) "The film follows fifteen-year-old Charley Thompson. He wants a home\, food on the table and a high school he can attend for more than part of the year. As the son of a single father working in warehouses across the Pacific Northwest\, stability is hard to find. Hoping for a new start they move to Portland\, Oregon where Charley takes a summer job\, with a washed-up horse trainer\, and befriends a failing racehorse named Lean on Pete." [source: Cinema Theater coming soon page\, 2018-Jun-6]
URL:https://jayceland.com/blog/event/lean-on-pete-screening-2018-jun-12-845-p-m/
LOCATION:Cinema Theatre\, 957 S. Clinton Ave.\, Rochester\, New York\, 14620\, United States
CATEGORIES:JayceLand 2018-Jun-7
END:VEVENT
BEGIN:VEVENT
DTSTART;TZID=America/New_York:20180612T210000
DTEND;TZID=America/New_York:20180612T230000
DTSTAMP:20260420T130947
CREATED:20180606T151936Z
LAST-MODIFIED:20180606T151936Z
UID:19173-1528837200-1528844400@jayceland.com
SUMMARY:Fruit and Flowers\, The Young Couples\, The Sugargliders musical performances
DESCRIPTION:[source: Facebook\, 2018-Jun-4]
URL:https://jayceland.com/blog/event/fruit-and-flowers-the-young-couples-the-sugargliders-musical-performances/
LOCATION:Bug Jar\, 219 Monroe Ave\, Rochester\, New York\, 14607\, United States
CATEGORIES:JayceLand 2018-Jun-7
END:VEVENT
END:VCALENDAR