BEGIN:VCALENDAR
VERSION:2.0
PRODID:-//JayceLand - ECPv6.15.20//NONSGML v1.0//EN
CALSCALE:GREGORIAN
METHOD:PUBLISH
X-WR-CALNAME:JayceLand
X-ORIGINAL-URL:https://jayceland.com/blog
X-WR-CALDESC:Events for JayceLand
REFRESH-INTERVAL;VALUE=DURATION:PT1H
X-Robots-Tag:noindex
X-PUBLISHED-TTL:PT1H
BEGIN:VTIMEZONE
TZID:America/New_York
BEGIN:DAYLIGHT
TZOFFSETFROM:-0500
TZOFFSETTO:-0400
TZNAME:EDT
DTSTART:20170312T070000
END:DAYLIGHT
BEGIN:STANDARD
TZOFFSETFROM:-0400
TZOFFSETTO:-0500
TZNAME:EST
DTSTART:20171105T060000
END:STANDARD
BEGIN:DAYLIGHT
TZOFFSETFROM:-0500
TZOFFSETTO:-0400
TZNAME:EDT
DTSTART:20180311T070000
END:DAYLIGHT
BEGIN:STANDARD
TZOFFSETFROM:-0400
TZOFFSETTO:-0500
TZNAME:EST
DTSTART:20181104T060000
END:STANDARD
BEGIN:DAYLIGHT
TZOFFSETFROM:-0500
TZOFFSETTO:-0400
TZNAME:EDT
DTSTART:20190310T070000
END:DAYLIGHT
BEGIN:STANDARD
TZOFFSETFROM:-0400
TZOFFSETTO:-0500
TZNAME:EST
DTSTART:20191103T060000
END:STANDARD
END:VTIMEZONE
BEGIN:VEVENT
DTSTART;TZID=America/New_York:20180531T170000
DTEND;TZID=America/New_York:20180531T210000
DTSTAMP:20260422T021835
CREATED:20180530T170154Z
LAST-MODIFIED:20180530T170154Z
UID:19092-1527786000-1527800400@jayceland.com
SUMMARY:City Newspaper's Best Busker Contest
DESCRIPTION:Come down to Rochester's South Wedge for a night of free music on the streets from great local musicians\, plus ridiculous deals from neighborhood merchants offering special buys on food\, drink\, goods\, and services. \n [source: Rochester City Newspaper events calendar\, 2018-May-28]
URL:https://jayceland.com/blog/event/city-newspapers-best-busker-contest/
LOCATION:South Wedge\, South Ave. at Gregory St.\, Rochester\, New York\, 14620\, United States
CATEGORIES:JayceLand 2018-May-31
END:VEVENT
BEGIN:VEVENT
DTSTART;TZID=America/New_York:20180531T180000
DTEND;TZID=America/New_York:20180531T200000
DTSTAMP:20260422T021835
CREATED:20180530T170154Z
LAST-MODIFIED:20180530T170154Z
UID:19090-1527789600-1527796800@jayceland.com
SUMMARY:David Levinthal: War\, Myth\, Desire Exhibition Preview
DESCRIPTION:Curator Lisa Hostetler will give opening remarks\, followed by a book signing with the artist and a preview of the exhibition in the main galleries. Cash bar and light refreshments. \n [source: George Eastman Museum calendar\, 2018-May-28]
URL:https://jayceland.com/blog/event/david-levinthal-war-myth-desire-exhibition-preview/
LOCATION:George Eastman Museum (formerly George Eastman House)\, 900 East Ave.\, Rochester\, New York\, 14607\, United States
CATEGORIES:JayceLand 2018-May-31
END:VEVENT
BEGIN:VEVENT
DTSTART;TZID=America/New_York:20180531T190000
DTEND;TZID=America/New_York:20180531T210000
DTSTAMP:20260422T021835
CREATED:20180530T170151Z
LAST-MODIFIED:20180530T170151Z
UID:19076-1527793200-1527800400@jayceland.com
SUMMARY:Twilight Tour (2018-May-31 @ 7 p.m.)
DESCRIPTION:This 75-minute tour includes some topics covered on Sunday North Section tours as well as new material\, on an alternate route of the North Section. \n  [source: Friends of Mt. Hope website\, 2018-May-28]
URL:https://jayceland.com/blog/event/twilight-tour-2018-may-31-7-p-m/
LOCATION:Mt. Hope Cemetery North Gatehouse\, 791 Mt. Hope Ave.\, Rochester\, New York\, 14620\, United States
CATEGORIES:JayceLand 2018-May-31
END:VEVENT
BEGIN:VEVENT
DTSTART;TZID=America/New_York:20180531T190000
DTEND;TZID=America/New_York:20180531T210000
DTSTAMP:20260422T021835
CREATED:20180530T170151Z
LAST-MODIFIED:20180530T170151Z
UID:19077-1527793200-1527800400@jayceland.com
SUMMARY:Storytime
DESCRIPTION:A live\, open mic storytelling opportunity. Storytellers will have 3-5 minutes to speak the truth\, in whatever form that may be: your music\, poetry\, the art of storytelling\, dance\, ASL\, instrumental or any other way you feel is best [way] to communicate your story\, the most important is that it is yours. Given a prompt to help inspire you to come to the stage – This month's prompt is\, "Get." \n [source: Facebook\, 2018-May-28]
URL:https://jayceland.com/blog/event/storytime/
LOCATION:Boulder Coffee\, South Wedge\, 100 Alexander St.\, Rochester\, New York\, 14620\, United States
CATEGORIES:JayceLand 2018-May-31
END:VEVENT
BEGIN:VEVENT
DTSTART;TZID=America/New_York:20180531T190000
DTEND;TZID=America/New_York:20180531T212000
DTSTAMP:20260422T021835
CREATED:20180523T145052Z
LAST-MODIFIED:20180523T145052Z
UID:19022-1527793200-1527801600@jayceland.com
SUMMARY:Ready Player One screening (2018-May-31 @ 7 p.m.)
DESCRIPTION:The Cinema will screen Ready Player One (Steven Spielberg\, U.S. 2018\, 140 min.) "When the creator of a virtual reality world called the Oasis dies\, he releases a video in which he challenges all Oasis users to find his Easter Egg\, which will give the finder his fortune." [source: Cinema Theater coming soon page\, 2018-May-23]
URL:https://jayceland.com/blog/event/ready-player-one-screening-2018-may-31-7-p-m/
LOCATION:Cinema Theatre\, 957 S. Clinton Ave.\, Rochester\, New York\, 14620\, United States
CATEGORIES:JayceLand 2018-May-31
END:VEVENT
BEGIN:VEVENT
DTSTART;TZID=America/New_York:20180531T190500
DTEND;TZID=America/New_York:20180531T210500
DTSTAMP:20260422T021835
CREATED:20180530T170154Z
LAST-MODIFIED:20180530T170154Z
UID:19093-1527793500-1527800700@jayceland.com
SUMMARY:2018 State of the County Address
DESCRIPTION:[source: Rochester City Newspaper events calendar\, 2018-May-28]
URL:https://jayceland.com/blog/event/2018-state-of-the-county-address/
LOCATION:Frontier Field\, 1 Morrie Silver Wy.\, Rochester\, New York\, 14608\, United States
CATEGORIES:JayceLand 2018-May-31
END:VEVENT
BEGIN:VEVENT
DTSTART;TZID=America/New_York:20180531T193000
DTEND;TZID=America/New_York:20180531T210600
DTSTAMP:20260422T021835
CREATED:20180530T170153Z
LAST-MODIFIED:20180530T170153Z
UID:19089-1527795000-1527800760@jayceland.com
SUMMARY:Desert Hearts screening
DESCRIPTION:The Dryden will screen Desert Hearts (Donna Deitch\, U.S. 1986\, 96 min.\, DCP) as part of the UCLA Festival of Preservation Tour\, and ImageOut series. (Also note the detailed introduction by Pauline Lampert.)  \nBased on Jane Rule's novel Desert of the Heart (1964)\, Donna Deitch's narrative feature debut centers on a burgeoning romance between libertine casino worker Cay Rivvers (Patricia Charbonneau) and repressed university professor Vivian Bell (Helen Shaver) in Reno\, Nevada\, in the late 1950s\, a climate wherein being queer was . . . complicated. A landmark for its positive\, nuanced portrayal of lesbian romance and celebrated for its passionate\, sensual bedroom scenes that nearly fog the camera's lens\, Deitch's film explores the tension inherent in a sheltered woman accepting her newfound sexual self. \n [source: George Eastman Museum calendar\, 2018-May-28]
URL:https://jayceland.com/blog/event/desert-hearts-screening/
LOCATION:Dryden Theatre at George Eastman Museum (formerly George Eastman House)\, 900 East Ave.\, Rochester\, New York\, 14607\, United States
CATEGORIES:JayceLand 2018-May-31
END:VEVENT
BEGIN:VEVENT
DTSTART;TZID=America/New_York:20180531T200000
DTEND;TZID=America/New_York:20180531T220000
DTSTAMP:20260422T021835
CREATED:20180530T170154Z
LAST-MODIFIED:20180530T170154Z
UID:19094-1527796800-1527804000@jayceland.com
SUMMARY:Brandie Posey\, Andrea Springer\, Kara Maillie\, Madeline Smith comic performances
DESCRIPTION:[source: Rochester City Newspaper events calendar\, 2018-May-28]
URL:https://jayceland.com/blog/event/brandie-posey-andrea-springer-kara-maillie-madeline-smith-comic-performances/
LOCATION:Photo City Improv and Comedy Club\, 543 Atlantic Ave.\, Rochester\, New York\, 14609\, United States
CATEGORIES:JayceLand 2018-May-31
END:VEVENT
END:VCALENDAR