BEGIN:VCALENDAR
VERSION:2.0
PRODID:-//JayceLand - ECPv6.15.20//NONSGML v1.0//EN
CALSCALE:GREGORIAN
METHOD:PUBLISH
X-ORIGINAL-URL:https://jayceland.com/blog
X-WR-CALDESC:Events for JayceLand
REFRESH-INTERVAL;VALUE=DURATION:PT1H
X-Robots-Tag:noindex
X-PUBLISHED-TTL:PT1H
BEGIN:VTIMEZONE
TZID:America/New_York
BEGIN:DAYLIGHT
TZOFFSETFROM:-0500
TZOFFSETTO:-0400
TZNAME:EDT
DTSTART:20170312T070000
END:DAYLIGHT
BEGIN:STANDARD
TZOFFSETFROM:-0400
TZOFFSETTO:-0500
TZNAME:EST
DTSTART:20171105T060000
END:STANDARD
BEGIN:DAYLIGHT
TZOFFSETFROM:-0500
TZOFFSETTO:-0400
TZNAME:EDT
DTSTART:20180311T070000
END:DAYLIGHT
BEGIN:STANDARD
TZOFFSETFROM:-0400
TZOFFSETTO:-0500
TZNAME:EST
DTSTART:20181104T060000
END:STANDARD
BEGIN:DAYLIGHT
TZOFFSETFROM:-0500
TZOFFSETTO:-0400
TZNAME:EDT
DTSTART:20190310T070000
END:DAYLIGHT
BEGIN:STANDARD
TZOFFSETFROM:-0400
TZOFFSETTO:-0500
TZNAME:EST
DTSTART:20191103T060000
END:STANDARD
END:VTIMEZONE
BEGIN:VEVENT
DTSTART;TZID=America/New_York:20180529T190000
DTEND;TZID=America/New_York:20180529T212000
DTSTAMP:20260421T014443
CREATED:20180523T145051Z
LAST-MODIFIED:20180523T145051Z
UID:19020-1527620400-1527628800@jayceland.com
SUMMARY:Ready Player One screening (2018-May-29 @ 7 p.m.)
DESCRIPTION:The Cinema will screen Ready Player One (Steven Spielberg\, U.S. 2018\, 140 min.) "When the creator of a virtual reality world called the Oasis dies\, he releases a video in which he challenges all Oasis users to find his Easter Egg\, which will give the finder his fortune." [source: Cinema Theater coming soon page\, 2018-May-23]
URL:https://jayceland.com/blog/event/ready-player-one-screening-2018-may-29-7-p-m/
LOCATION:Cinema Theatre\, 957 S. Clinton Ave.\, Rochester\, New York\, 14620\, United States
CATEGORIES:JayceLand 2018-May-24
END:VEVENT
BEGIN:VEVENT
DTSTART;TZID=America/New_York:20180529T193000
DTEND;TZID=America/New_York:20180529T212000
DTSTAMP:20260421T014443
CREATED:20180523T145051Z
LAST-MODIFIED:20180523T145051Z
UID:19010-1527622200-1527628800@jayceland.com
SUMMARY:The Murder of Fred Hampton\, The Jungle screenings
DESCRIPTION:The Dryden will screen The Murder of Fred Hampton (Howard Alk\, U.S. 1971\, 88 min.\, 16mm) and preceded by The Jungle (Charlie "Brown" Davis\, U.S. 1967\, 22 min.\, 35mm)—a short documentary created by teenagers about street life in North Philadelphia—as part of the UCLA Festival of Preservation Tour series.  \nA group of independent filmmakers in Chicago\, fashioning themselves as the Film Group\, set out to profile Chairman Fred Hampton\, the charismatic 21-year-old leader of the Illinois chapter of the Black Panther Party\, and ended up documenting the last nine months of his life. During production\, in the early morning of December 4\, 1969\, Hampton's apartment and Party hangout was raided by officers assigned to State's Attorney Edward V. Hanrahan. During the ensuing assault\, Hampton and Mark Clark were killed and four others wounded. As the documentary goes on to argue\, the raid was unlawful and Hampton's death was\, in effect\, an assassination. \n [source: George Eastman Museum calendar\, 2018-May-21]
URL:https://jayceland.com/blog/event/the-murder-of-fred-hampton-the-jungle-screenings/
LOCATION:Dryden Theatre at George Eastman Museum (formerly George Eastman House)\, 900 East Ave.\, Rochester\, New York\, 14607\, United States
CATEGORIES:JayceLand 2018-May-24
END:VEVENT
BEGIN:VEVENT
DTSTART;TZID=America/New_York:20180529T200000
DTEND;TZID=America/New_York:20180529T220000
DTSTAMP:20260421T014443
CREATED:20180523T145050Z
LAST-MODIFIED:20180523T145050Z
UID:19002-1527624000-1527631200@jayceland.com
SUMMARY:Tatsuya Nakatani musical performance
DESCRIPTION:Bop Shop Records is extremely happy to welcome back an old friend\, Japanese percussionist Tatsuya Nakatani. He's been living in the U.S. for the past 20 years and has played with many musicians in a variety of genres. This will be the fifth time this extraordinary percussionist has played at the store. We first met him in 2003 when he was the dynamo behind Sabir Mateen's fiery quintet\, the Shapes\, Textures And Sound Ensemble. But that didn't prepare us for our next encounter when he appeared in 2006 at an amazing solo concert. His set up which included a trap drum set\, gongs\, cymbals\, Tibetan bowls\, and all manner of small percussive instruments was integrated into a remarkable 45 minute performance that left the small crowd that attended it nearly as drained as the performer. It is one of the legendary Bop Shop concerts. \n [source: Bop Shop website\, 2018-May-21]
URL:https://jayceland.com/blog/event/tatsuya-nakatani-musical-performance/
LOCATION:Bop Shop Records\, 1460 Monroe Ave.\, Rochester\, New York\, 14618\, United States
CATEGORIES:JayceLand 2018-May-24
END:VEVENT
END:VCALENDAR