BEGIN:VCALENDAR
VERSION:2.0
PRODID:-//JayceLand - ECPv6.15.20//NONSGML v1.0//EN
CALSCALE:GREGORIAN
METHOD:PUBLISH
X-WR-CALNAME:JayceLand
X-ORIGINAL-URL:https://jayceland.com/blog
X-WR-CALDESC:Events for JayceLand
REFRESH-INTERVAL;VALUE=DURATION:PT1H
X-Robots-Tag:noindex
X-PUBLISHED-TTL:PT1H
BEGIN:VTIMEZONE
TZID:America/New_York
BEGIN:DAYLIGHT
TZOFFSETFROM:-0500
TZOFFSETTO:-0400
TZNAME:EDT
DTSTART:20170312T070000
END:DAYLIGHT
BEGIN:STANDARD
TZOFFSETFROM:-0400
TZOFFSETTO:-0500
TZNAME:EST
DTSTART:20171105T060000
END:STANDARD
BEGIN:DAYLIGHT
TZOFFSETFROM:-0500
TZOFFSETTO:-0400
TZNAME:EDT
DTSTART:20180311T070000
END:DAYLIGHT
BEGIN:STANDARD
TZOFFSETFROM:-0400
TZOFFSETTO:-0500
TZNAME:EST
DTSTART:20181104T060000
END:STANDARD
BEGIN:DAYLIGHT
TZOFFSETFROM:-0500
TZOFFSETTO:-0400
TZNAME:EDT
DTSTART:20190310T070000
END:DAYLIGHT
BEGIN:STANDARD
TZOFFSETFROM:-0400
TZOFFSETTO:-0500
TZNAME:EST
DTSTART:20191103T060000
END:STANDARD
END:VTIMEZONE
BEGIN:VEVENT
DTSTART;TZID=America/New_York:20180523T180000
DTEND;TZID=America/New_York:20180523T210000
DTSTAMP:20260424T144024
CREATED:20180516T182930Z
LAST-MODIFIED:20180516T182930Z
UID:18658-1527098400-1527109200@jayceland.com
SUMMARY:RYP Social
DESCRIPTION:Rochester Young Professionals would like you to welcome you to Fifth Frame Brewing Co for our May social. Fifth Frame Brewing is a microbrewery\, specialty coffee roaster\, and kitchen located in the historic Garment District in the now St Paul Quarter. They specialize in craft beer\, an approachable coffee program\, and reimagined comfort foods (not to mention that birthday cake tho!). Their space is bright\, airy\, clean and modern. They take their craft seriously but not themselves. If you haven't been there yet\, you're behind the curve.  Never been to a Rochester Young Professionals event? Our goal is to create an environment where up-and-coming Young Professionals can get together to network\, socialize\, and enjoy the company of like-minded Rochesterians. Bring your business card\, bring your friends\, or just bring a friendly attitude and give it a try! \n [source: Facebook\, 2018-May-14]
URL:https://jayceland.com/blog/event/ryp-social/
LOCATION:Fifth Frame Brewing Co.\, 155 Saint Paul St.\, Rochester\, New York\, 14604\, United States
CATEGORIES:JayceLand 2018-May-17
END:VEVENT
BEGIN:VEVENT
DTSTART;TZID=America/New_York:20180523T190000
DTEND;TZID=America/New_York:20180523T211400
DTSTAMP:20260424T144024
CREATED:20180516T182931Z
LAST-MODIFIED:20180516T182931Z
UID:18667-1527102000-1527110040@jayceland.com
SUMMARY:Black Panther screening (2018-May-23 @ 7 p.m.)
DESCRIPTION:The Cinema will screen Black Panther (Ryan Coogler\, U.S. 2018\, 134 min.) "T'Challa\, the King of Wakanda\, rises to the throne in the isolated\, technologically advanced African nation\, but his claim is challenged by a vengeful outsider who was a childhood victim of T'Challa's father's mistake." [source: Cinema Theater coming soon page\, 2018-May-16]
URL:https://jayceland.com/blog/event/black-panther-screening-2018-may-23-7-p-m/
LOCATION:Cinema Theatre\, 957 S. Clinton Ave.\, Rochester\, New York\, 14620\, United States
CATEGORIES:JayceLand 2018-May-17
END:VEVENT
BEGIN:VEVENT
DTSTART;TZID=America/New_York:20180523T193000
DTEND;TZID=America/New_York:20180523T205900
DTSTAMP:20260424T144024
CREATED:20180516T182930Z
LAST-MODIFIED:20180516T182930Z
UID:18650-1527103800-1527109140@jayceland.com
SUMMARY:The Lost Moment screening
DESCRIPTION:The Dryden will screen The Lost Moment (Martin Gabel\, U.S. 1947\, 89 min.\, 35mm) as part of the UCLA Festival of Preservation Tour series.  \nIt's ironic that the film version of The Aspern Papers by the 19th-century American author Henry James\, revered for his naturalism\, should be the zenith of Hollywood gothic. In James's story\, a nameless American scoundrel bent on a publishing coup tracks the centenarian Juliana Bordereau to a decaying Venetian palazzo. In The Lost Moment\, the scoundrel is an unscrupulous New York publisher (Robert Cummings)\, who plots to acquire Jeffrey Ashton's love letters to his withered muse (Agnes Moorehead) even if it requires wooing the tedious great-niece\, Miss Tina (Susan Hayward). \n [source: George Eastman Museum calendar\, 2018-May-14]
URL:https://jayceland.com/blog/event/the-lost-moment-screening/
LOCATION:Dryden Theatre at George Eastman Museum (formerly George Eastman House)\, 900 East Ave.\, Rochester\, New York\, 14607\, United States
CATEGORIES:JayceLand 2018-May-17
END:VEVENT
BEGIN:VEVENT
DTSTART;TZID=America/New_York:20180523T210000
DTEND;TZID=America/New_York:20180523T230000
DTSTAMP:20260424T144024
CREATED:20180516T182929Z
LAST-MODIFIED:20180516T182929Z
UID:18637-1527109200-1527116400@jayceland.com
SUMMARY:Luke Cornwell Trio\, Sour Club\, Yeah! Pete Johnson\, Xora musical performances
DESCRIPTION:[source: Facebook\, 2018-May-14]
URL:https://jayceland.com/blog/event/luke-cornwell-trio-sour-club-yeah-pete-johnson-xora-musical-performances/
LOCATION:Bug Jar\, 219 Monroe Ave\, Rochester\, New York\, 14607\, United States
CATEGORIES:JayceLand 2018-May-17
END:VEVENT
END:VCALENDAR