BEGIN:VCALENDAR
VERSION:2.0
PRODID:-//JayceLand - ECPv6.15.20//NONSGML v1.0//EN
CALSCALE:GREGORIAN
METHOD:PUBLISH
X-WR-CALNAME:JayceLand
X-ORIGINAL-URL:https://jayceland.com/blog
X-WR-CALDESC:Events for JayceLand
REFRESH-INTERVAL;VALUE=DURATION:PT1H
X-Robots-Tag:noindex
X-PUBLISHED-TTL:PT1H
BEGIN:VTIMEZONE
TZID:America/New_York
BEGIN:DAYLIGHT
TZOFFSETFROM:-0500
TZOFFSETTO:-0400
TZNAME:EDT
DTSTART:20170312T070000
END:DAYLIGHT
BEGIN:STANDARD
TZOFFSETFROM:-0400
TZOFFSETTO:-0500
TZNAME:EST
DTSTART:20171105T060000
END:STANDARD
BEGIN:DAYLIGHT
TZOFFSETFROM:-0500
TZOFFSETTO:-0400
TZNAME:EDT
DTSTART:20180311T070000
END:DAYLIGHT
BEGIN:STANDARD
TZOFFSETFROM:-0400
TZOFFSETTO:-0500
TZNAME:EST
DTSTART:20181104T060000
END:STANDARD
BEGIN:DAYLIGHT
TZOFFSETFROM:-0500
TZOFFSETTO:-0400
TZNAME:EDT
DTSTART:20190310T070000
END:DAYLIGHT
BEGIN:STANDARD
TZOFFSETFROM:-0400
TZOFFSETTO:-0500
TZNAME:EST
DTSTART:20191103T060000
END:STANDARD
END:VTIMEZONE
BEGIN:VEVENT
DTSTART;TZID=America/New_York:20180521T133000
DTEND;TZID=America/New_York:20180521T153400
DTSTAMP:20260421T083850
CREATED:20180516T182930Z
LAST-MODIFIED:20180516T182930Z
UID:18653-1526909400-1526916840@jayceland.com
SUMMARY:Carousel screening (2018-May-21 @ 1:30 p.m.)
DESCRIPTION:The Dryden will screen Carousel (Henry King\, U.S. 1956\, 124 min.\, 16mm) as part of the Eastman Entertains series.  \nOne year after the success of Fred Zinnemann's Oklahoma!\, Gordon MacRae and Shirley Jones were reunited for another musical\, Carousel\, adapted once again from Rodgers and Hammerstein. Carousel tells the story of Billy\, dead for fifteen years and living "above." He wishes to have permission to go down to Earth for one day\, to make amends for past mistakes. But before his request is approved\, he has to convince the gatekeeper by telling him the story of his life. Carousel was shot in radiant Technicolor and is accompanied by an acclaimed musical score. \n [source: George Eastman Museum calendar\, 2018-May-14]
URL:https://jayceland.com/blog/event/carousel-screening-2018-may-21-130-p-m/
LOCATION:Dryden Theatre at George Eastman Museum (formerly George Eastman House)\, 900 East Ave.\, Rochester\, New York\, 14607\, United States
CATEGORIES:JayceLand 2018-May-17
END:VEVENT
BEGIN:VEVENT
DTSTART;TZID=America/New_York:20180521T190000
DTEND;TZID=America/New_York:20180521T211400
DTSTAMP:20260421T083850
CREATED:20180516T182931Z
LAST-MODIFIED:20180516T182931Z
UID:18666-1526929200-1526937240@jayceland.com
SUMMARY:Black Panther screening (2018-May-21 @ 7 p.m.)
DESCRIPTION:The Cinema will screen Black Panther (Ryan Coogler\, U.S. 2018\, 134 min.) "T'Challa\, the King of Wakanda\, rises to the throne in the isolated\, technologically advanced African nation\, but his claim is challenged by a vengeful outsider who was a childhood victim of T'Challa's father's mistake." [source: Cinema Theater coming soon page\, 2018-May-16]
URL:https://jayceland.com/blog/event/black-panther-screening-2018-may-21-7-p-m/
LOCATION:Cinema Theatre\, 957 S. Clinton Ave.\, Rochester\, New York\, 14620\, United States
CATEGORIES:JayceLand 2018-May-17
END:VEVENT
END:VCALENDAR