BEGIN:VCALENDAR
VERSION:2.0
PRODID:-//JayceLand - ECPv6.15.20//NONSGML v1.0//EN
CALSCALE:GREGORIAN
METHOD:PUBLISH
X-WR-CALNAME:JayceLand
X-ORIGINAL-URL:https://jayceland.com/blog
X-WR-CALDESC:Events for JayceLand
REFRESH-INTERVAL;VALUE=DURATION:PT1H
X-Robots-Tag:noindex
X-PUBLISHED-TTL:PT1H
BEGIN:VTIMEZONE
TZID:America/New_York
BEGIN:DAYLIGHT
TZOFFSETFROM:-0500
TZOFFSETTO:-0400
TZNAME:EDT
DTSTART:20170312T070000
END:DAYLIGHT
BEGIN:STANDARD
TZOFFSETFROM:-0400
TZOFFSETTO:-0500
TZNAME:EST
DTSTART:20171105T060000
END:STANDARD
BEGIN:DAYLIGHT
TZOFFSETFROM:-0500
TZOFFSETTO:-0400
TZNAME:EDT
DTSTART:20180311T070000
END:DAYLIGHT
BEGIN:STANDARD
TZOFFSETFROM:-0400
TZOFFSETTO:-0500
TZNAME:EST
DTSTART:20181104T060000
END:STANDARD
BEGIN:DAYLIGHT
TZOFFSETFROM:-0500
TZOFFSETTO:-0400
TZNAME:EDT
DTSTART:20190310T070000
END:DAYLIGHT
BEGIN:STANDARD
TZOFFSETFROM:-0400
TZOFFSETTO:-0500
TZNAME:EST
DTSTART:20191103T060000
END:STANDARD
END:VTIMEZONE
BEGIN:VEVENT
DTSTART;TZID=America/New_York:20180520T080000
DTEND;TZID=America/New_York:20180520T100000
DTSTAMP:20260425T194502
CREATED:20180516T182929Z
LAST-MODIFIED:20180516T182929Z
UID:18642-1526803200-1526810400@jayceland.com
SUMMARY:Theme Tour: The Bird Watcher Tour
DESCRIPTION:The early bird catches the worm — Yes\, 8 am! Join Genesee Valley Audubon Society members as they seek out migratory birds. \n [source: Friends of Mt. Hope website\, 2018-May-14]
URL:https://jayceland.com/blog/event/theme-tour-the-bird-watcher-tour/
LOCATION:Mt. Hope Cemetery North Gatehouse\, 791 Mt. Hope Ave.\, Rochester\, New York\, 14620\, United States
CATEGORIES:JayceLand 2018-May-17
END:VEVENT
BEGIN:VEVENT
DTSTART;TZID=America/New_York:20180520T100000
DTEND;TZID=America/New_York:20180520T133000
DTSTAMP:20260425T194502
CREATED:20180516T182931Z
LAST-MODIFIED:20180516T182931Z
UID:18660-1526810400-1526823000@jayceland.com
SUMMARY:8th Annual Seersucker Ride
DESCRIPTION:Spring is here! So comes summer and Seersucker! Among late blossoms we'll ride about 12 miles at a leisurely 6mph along bike boulevard candidates and city streets in North Winton Village and elsewhere. \n [source: Facebook\, 2018-May-14]
URL:https://jayceland.com/blog/event/8th-annual-seersucker-ride/
LOCATION:Hart's Local Grocers\, 10 Winthrop St.\, Rochester\, New York\, 14607\, United States
CATEGORIES:JayceLand 2018-May-17
END:VEVENT
BEGIN:VEVENT
DTSTART;TZID=America/New_York:20180520T100000
DTEND;TZID=America/New_York:20180520T160000
DTSTAMP:20260425T194502
CREATED:20180516T182929Z
LAST-MODIFIED:20180516T182929Z
UID:18640-1526810400-1526832000@jayceland.com
SUMMARY:Ellwanger Garden Lilac Weekends 2018 (2018-May-20 @ 10 a.m.)
DESCRIPTION:Discover a hidden oasis on Mt. Hope Avenue and one of Rochester\, New York's loveliest gardens when Ellwanger Garden opens to the public during the weekends of the Lilac Festival. Established in 1867 by famed Rochester nurseryman George Ellwanger\, this living preservation site boasts eighty different kinds of perennials\, including strong collections of peonies\, roses\, daylilies\, hostas\, irises and spring- and summer-flowering bulbs. \n [source: Landmark Society website\, 2018-May-7]
URL:https://jayceland.com/blog/event/ellwanger-garden-lilac-weekends-2018-2018-may-20-10-a-m/
LOCATION:Ellwanger Estate Bed and Breakfast\, 625 Mt. Hope Ave.\, Rochester\, New York\, 14620\, United States
CATEGORIES:JayceLand 2018-May-17
END:VEVENT
BEGIN:VEVENT
DTSTART;TZID=America/New_York:20180520T140000
DTEND;TZID=America/New_York:20180520T160000
DTSTAMP:20260425T194502
CREATED:20180516T182929Z
LAST-MODIFIED:20180516T182929Z
UID:18643-1526824800-1526832000@jayceland.com
SUMMARY:North Section Public Tour (2018-May-20 @ 2 p.m.)
DESCRIPTION:This foundational tour is a two-hour walk of approximately one mile on paved roads and uneven terrain. This overview includes the graves of Susan B. Anthony and Frederick Douglass\, as well as topics of local history\, horticulture\, geology\, architecture\, monument symbolism\, and more. \n [source: Friends of Mt. Hope website\, 2018-May-14]
URL:https://jayceland.com/blog/event/north-section-public-tour-2018-may-20-2-p-m/
LOCATION:Mt. Hope Cemetery North Gatehouse\, 791 Mt. Hope Ave.\, Rochester\, New York\, 14620\, United States
CATEGORIES:JayceLand 2018-May-17
END:VEVENT
BEGIN:VEVENT
DTSTART;TZID=America/New_York:20180520T160000
DTEND;TZID=America/New_York:20180520T181400
DTSTAMP:20260425T194502
CREATED:20180516T182932Z
LAST-MODIFIED:20180516T182932Z
UID:18670-1526832000-1526840040@jayceland.com
SUMMARY:Black Panther screening (2018-May-20 @ 4 p.m.)
DESCRIPTION:The Cinema will screen Black Panther (Ryan Coogler\, U.S. 2018\, 134 min.) "T'Challa\, the King of Wakanda\, rises to the throne in the isolated\, technologically advanced African nation\, but his claim is challenged by a vengeful outsider who was a childhood victim of T'Challa's father's mistake." [source: Cinema Theater coming soon page\, 2018-May-16]
URL:https://jayceland.com/blog/event/black-panther-screening-2018-may-20-4-p-m/
LOCATION:Cinema Theatre\, 957 S. Clinton Ave.\, Rochester\, New York\, 14620\, United States
CATEGORIES:JayceLand 2018-May-17
END:VEVENT
BEGIN:VEVENT
DTSTART;TZID=America/New_York:20180520T160000
DTEND;TZID=America/New_York:20180520T210000
DTSTAMP:20260425T194502
CREATED:20180516T182931Z
LAST-MODIFIED:20180516T182931Z
UID:18659-1526832000-1526850000@jayceland.com
SUMMARY:The Vertex Late Risers\, Alternative and Gothic Garage Sale
DESCRIPTION:The coolest garage sale around is back with lots of crazy stuff\, art\, clothes\, and Bbq out back. Free admission\, all ages but children must come with an adult\, and patrons who wish to drink at the bar must have ID with them. \n [source: Facebook\, 2018-May-14]
URL:https://jayceland.com/blog/event/the-vertex-late-risers-alternative-and-gothic-garage-sale/
LOCATION:Vertex Night Club\, 169 N. Chestnut St.\, Rochester\, New York\, 14604\, United States
CATEGORIES:JayceLand 2018-May-17
END:VEVENT
BEGIN:VEVENT
DTSTART;TZID=America/New_York:20180520T190000
DTEND;TZID=America/New_York:20180520T211400
DTSTAMP:20260425T194502
CREATED:20180516T182931Z
LAST-MODIFIED:20180516T182931Z
UID:18665-1526842800-1526850840@jayceland.com
SUMMARY:Black Panther screening (2018-May-20 @ 7 p.m.)
DESCRIPTION:The Cinema will screen Black Panther (Ryan Coogler\, U.S. 2018\, 134 min.) "T'Challa\, the King of Wakanda\, rises to the throne in the isolated\, technologically advanced African nation\, but his claim is challenged by a vengeful outsider who was a childhood victim of T'Challa's father's mistake." [source: Cinema Theater coming soon page\, 2018-May-16]
URL:https://jayceland.com/blog/event/black-panther-screening-2018-may-20-7-p-m/
LOCATION:Cinema Theatre\, 957 S. Clinton Ave.\, Rochester\, New York\, 14620\, United States
CATEGORIES:JayceLand 2018-May-17
END:VEVENT
BEGIN:VEVENT
DTSTART;TZID=America/New_York:20180520T193000
DTEND;TZID=America/New_York:20180520T213000
DTSTAMP:20260425T194502
CREATED:20180516T182929Z
LAST-MODIFIED:20180516T182929Z
UID:18635-1526844600-1526851800@jayceland.com
SUMMARY:Defeated Sanity\, Behold the Arctopus\, Sastruga\, Inhumatus\, Bone Mask musical performances
DESCRIPTION:[source: Facebook\, 2018-May-14]
URL:https://jayceland.com/blog/event/defeated-sanity-behold-the-arctopus-sastruga-inhumatus-bone-mask-musical-performances/
LOCATION:Bug Jar\, 219 Monroe Ave\, Rochester\, New York\, 14607\, United States
CATEGORIES:JayceLand 2018-May-17
END:VEVENT
END:VCALENDAR