BEGIN:VCALENDAR
VERSION:2.0
PRODID:-//JayceLand - ECPv6.15.20//NONSGML v1.0//EN
CALSCALE:GREGORIAN
METHOD:PUBLISH
X-WR-CALNAME:JayceLand
X-ORIGINAL-URL:https://jayceland.com/blog
X-WR-CALDESC:Events for JayceLand
REFRESH-INTERVAL;VALUE=DURATION:PT1H
X-Robots-Tag:noindex
X-PUBLISHED-TTL:PT1H
BEGIN:VTIMEZONE
TZID:America/New_York
BEGIN:DAYLIGHT
TZOFFSETFROM:-0500
TZOFFSETTO:-0400
TZNAME:EDT
DTSTART:20170312T070000
END:DAYLIGHT
BEGIN:STANDARD
TZOFFSETFROM:-0400
TZOFFSETTO:-0500
TZNAME:EST
DTSTART:20171105T060000
END:STANDARD
BEGIN:DAYLIGHT
TZOFFSETFROM:-0500
TZOFFSETTO:-0400
TZNAME:EDT
DTSTART:20180311T070000
END:DAYLIGHT
BEGIN:STANDARD
TZOFFSETFROM:-0400
TZOFFSETTO:-0500
TZNAME:EST
DTSTART:20181104T060000
END:STANDARD
BEGIN:DAYLIGHT
TZOFFSETFROM:-0500
TZOFFSETTO:-0400
TZNAME:EDT
DTSTART:20190310T070000
END:DAYLIGHT
BEGIN:STANDARD
TZOFFSETFROM:-0400
TZOFFSETTO:-0500
TZNAME:EST
DTSTART:20191103T060000
END:STANDARD
END:VTIMEZONE
BEGIN:VEVENT
DTSTART;TZID=America/New_York:20180518T090000
DTEND;TZID=America/New_York:20180518T170000
DTSTAMP:20260421T231717
CREATED:20180516T182929Z
LAST-MODIFIED:20180516T182929Z
UID:18648-1526634000-1526662800@jayceland.com
SUMMARY:Geranium Sale (2018-May-18 @ 9 a.m.)
DESCRIPTION:Brighten up your space with some geraniums while supporting the Gandhi Institute! \n [source: M.K. Gandhi Institute for Nonviolence website\, 2018-May-14]
URL:https://jayceland.com/blog/event/geranium-sale-2018-may-18-9-a-m/
LOCATION:Gandhi Institute (M.K. Gandhi Institute for Nonviolence)\, 929 S. Plymouth Ave.\, Rochester\, New York\, 14608\, United States
CATEGORIES:JayceLand 2018-May-17
END:VEVENT
BEGIN:VEVENT
DTSTART;TZID=America/New_York:20180518T180000
DTEND;TZID=America/New_York:20180518T210000
DTSTAMP:20260421T231717
CREATED:20180516T182930Z
LAST-MODIFIED:20180516T182930Z
UID:18649-1526666400-1526677200@jayceland.com
SUMMARY:Opening Reception: Imprinted by Kelly Justice
DESCRIPTION:The Firehouse Gallery at Genesee Pottery will host an Opening Reception for Imprinted featuring works by Kelly Justice\, on display through June 28.  \nPlease join us in the Firehouse Gallery for an exhibition of new slipcast porcelain vessels and wall pieces by Studio Manager Kelly Justice. \n [source: Flower City Arts Center website\, 2018-May-14]
URL:https://jayceland.com/blog/event/opening-reception-imprinted-by-kelly-justice/
LOCATION:Firehouse Gallery at Genesee Pottery\, 713 Monroe Ave.\, Rochester\, New York\, 14607\, United States
CATEGORIES:JayceLand 2018-May-17
END:VEVENT
BEGIN:VEVENT
DTSTART;TZID=America/New_York:20180518T180000
DTEND;TZID=America/New_York:20180518T210000
DTSTAMP:20260421T231717
CREATED:20180516T182931Z
LAST-MODIFIED:20180516T182931Z
UID:18662-1526666400-1526677200@jayceland.com
SUMMARY:Roc in Transit
DESCRIPTION:Join us for an evening with friends and fellow transportation enthusiasts. \n [source: Facebook\, 2018-May-14]
URL:https://jayceland.com/blog/event/roc-in-transit/
LOCATION:Rochester Academy of Medicine\, 1441 East Ave. #100\, Rochester\, New York\, 14610\, United States
CATEGORIES:JayceLand 2018-May-17
END:VEVENT
BEGIN:VEVENT
DTSTART;TZID=America/New_York:20180518T183000
DTEND;TZID=America/New_York:20180518T200100
DTSTAMP:20260421T231717
CREATED:20180516T182928Z
LAST-MODIFIED:20180516T182928Z
UID:18631-1526668200-1526673660@jayceland.com
SUMMARY:Maynard screening
DESCRIPTION:The Little will screen Maynard (Samuel D. Pollard\, U.S. 2017\, 91 min.) as part of the The Black Cinema Series followed by a Panel Discussion and videoconference discussion with Samuel D. Pollard.  \nMaynard Jackson Jr. The first black Mayor of a major southern city\, Atlanta. The Obama before Obama. In 1968 after the assassinations of MLK Jr. and Robert Kennedy\, he announced his candidacy for the Georgia U.S. Senate against known segregationist\, Herman Talmadge. His loss ultimately ignited a movement in the south that was started by Dr. King then picked up by Maynard. The "enforcer" of affirmative action and voter turnout\, Maynard crafted successful diversity\, inclusion and engagement templates still practiced today\, and transformed the reputation of Atlanta from the "heart of the confederate south" to a cosmopolitan world-class city. \n [source: Little Theatre calendar\, 2018-May-14]
URL:https://jayceland.com/blog/event/maynard-screening/
LOCATION:Little Theatre\, 240 East Ave. #100\, Rochester\, New York\, 14604\, United States
CATEGORIES:JayceLand 2018-May-17
END:VEVENT
BEGIN:VEVENT
DTSTART;TZID=America/New_York:20180518T190000
DTEND;TZID=America/New_York:20180518T211400
DTSTAMP:20260421T231717
CREATED:20180516T182931Z
LAST-MODIFIED:20180516T182931Z
UID:18663-1526670000-1526678040@jayceland.com
SUMMARY:Black Panther screening (2018-May-18 @ 7 p.m.)
DESCRIPTION:The Cinema will screen Black Panther (Ryan Coogler\, U.S. 2018\, 134 min.) "T'Challa\, the King of Wakanda\, rises to the throne in the isolated\, technologically advanced African nation\, but his claim is challenged by a vengeful outsider who was a childhood victim of T'Challa's father's mistake." [source: Cinema Theater coming soon page\, 2018-May-16]
URL:https://jayceland.com/blog/event/black-panther-screening-2018-may-18-7-p-m/
LOCATION:Cinema Theatre\, 957 S. Clinton Ave.\, Rochester\, New York\, 14620\, United States
CATEGORIES:JayceLand 2018-May-17
END:VEVENT
BEGIN:VEVENT
DTSTART;TZID=America/New_York:20180518T193000
DTEND;TZID=America/New_York:20180518T215000
DTSTAMP:20260421T231717
CREATED:20180516T182930Z
LAST-MODIFIED:20180516T182930Z
UID:18655-1526671800-1526680200@jayceland.com
SUMMARY:South Pacific screening
DESCRIPTION:The Dryden will screen South Pacific (Joshua Logan\, U.S. 1958\, 140 min.\, 35mm) as part of the Eastman Entertains series.  \nBased on a book by James A. Michener\, South Pacific is a Rodgers and Hammerstein classic in gorgeous\, widescreen color. The film provides a veritable feast for the eyes and ears as Rossano Brazzi and Mitzi Gaynor find love\, anguish\, and eventual happiness amid the setting of a war-torn Pacific island. The stellar soundtrack includes such classics as "Bali Ha'i\," "Some Enchanted Evening\," and "Happy Talk." \n [source: George Eastman Museum calendar\, 2018-May-14]
URL:https://jayceland.com/blog/event/south-pacific-screening/
LOCATION:Dryden Theatre at George Eastman Museum (formerly George Eastman House)\, 900 East Ave.\, Rochester\, New York\, 14607\, United States
CATEGORIES:JayceLand 2018-May-17
END:VEVENT
END:VCALENDAR