BEGIN:VCALENDAR
VERSION:2.0
PRODID:-//JayceLand - ECPv6.15.20//NONSGML v1.0//EN
CALSCALE:GREGORIAN
METHOD:PUBLISH
X-WR-CALNAME:JayceLand
X-ORIGINAL-URL:https://jayceland.com/blog
X-WR-CALDESC:Events for JayceLand
REFRESH-INTERVAL;VALUE=DURATION:PT1H
X-Robots-Tag:noindex
X-PUBLISHED-TTL:PT1H
BEGIN:VTIMEZONE
TZID:America/New_York
BEGIN:DAYLIGHT
TZOFFSETFROM:-0500
TZOFFSETTO:-0400
TZNAME:EDT
DTSTART:20170312T070000
END:DAYLIGHT
BEGIN:STANDARD
TZOFFSETFROM:-0400
TZOFFSETTO:-0500
TZNAME:EST
DTSTART:20171105T060000
END:STANDARD
BEGIN:DAYLIGHT
TZOFFSETFROM:-0500
TZOFFSETTO:-0400
TZNAME:EDT
DTSTART:20180311T070000
END:DAYLIGHT
BEGIN:STANDARD
TZOFFSETFROM:-0400
TZOFFSETTO:-0500
TZNAME:EST
DTSTART:20181104T060000
END:STANDARD
BEGIN:DAYLIGHT
TZOFFSETFROM:-0500
TZOFFSETTO:-0400
TZNAME:EDT
DTSTART:20190310T070000
END:DAYLIGHT
BEGIN:STANDARD
TZOFFSETFROM:-0400
TZOFFSETTO:-0500
TZNAME:EST
DTSTART:20191103T060000
END:STANDARD
END:VTIMEZONE
BEGIN:VEVENT
DTSTART;TZID=America/New_York:20180421T130000
DTEND;TZID=America/New_York:20180421T150000
DTSTAMP:20260422T045539
CREATED:20180418T164856Z
LAST-MODIFIED:20180418T164856Z
UID:18073-1524315600-1524322800@jayceland.com
SUMMARY:Introduction to Gentrification
DESCRIPTION:Join us for a candid discussion on gentrification\, what it means\, what is has done to past Rochester\, implications for future Rochester\, and personal actions you can take to improve housing access for all Rochesterians. This is an introductory course to the concept and effects of gentrification and intersecting concepts like race\, community development\, redlining\, and other principles. \n [source: Facebook\, 2018-Apr-16]
URL:https://jayceland.com/blog/event/introduction-to-gentrification/
LOCATION:540WMain Community Arts Education and Cultural Center\, 540 W. Main St.\, Rochester\, New York\, 14608\, United States
CATEGORIES:JayceLand 2018-Apr-19
END:VEVENT
BEGIN:VEVENT
DTSTART;TZID=America/New_York:20180421T140000
DTEND;TZID=America/New_York:20180421T160000
DTSTAMP:20260422T045539
CREATED:20180418T164856Z
LAST-MODIFIED:20180418T164856Z
UID:18078-1524319200-1524326400@jayceland.com
SUMMARY:Jennifer Pharr Davis Lecture and Book Signing
DESCRIPTION:Lecture and book-signing with long distance hiker\, author\, speaker\, and National Geographic Adventurer of the Year. \n [source: Rochester City Newspaper events calendar\, 2018-Apr-18]
URL:https://jayceland.com/blog/event/jennifer-pharr-davis-lecture-and-book-signing/
LOCATION:Bausch and Lomb Library Building\, 110 South Ave.\, Rochester\, New York\, 14604\, United States
CATEGORIES:JayceLand 2018-Apr-19
END:VEVENT
BEGIN:VEVENT
DTSTART;TZID=America/New_York:20180421T161500
DTEND;TZID=America/New_York:20180421T175500
DTSTAMP:20260422T045539
CREATED:20180418T164857Z
LAST-MODIFIED:20180418T164857Z
UID:18089-1524327300-1524333300@jayceland.com
SUMMARY:Game Night screening (2018-Apr-21 @ 4:15 p.m.)
DESCRIPTION:The Cinema will screen Game Night (John Francis Daley\, Jonathan Goldstein\, U.S. 2018\, 100 min.) "A group of friends who meet regularly for game nights find themselves entangled in a real-life mystery." [source: Cinema Theater coming soon page\, 2018-Apr-18]
URL:https://jayceland.com/blog/event/game-night-screening-2018-apr-21-415-p-m/
LOCATION:Cinema Theatre\, 957 S. Clinton Ave.\, Rochester\, New York\, 14620\, United States
CATEGORIES:JayceLand 2018-Apr-19
END:VEVENT
BEGIN:VEVENT
DTSTART;TZID=America/New_York:20180421T180000
DTEND;TZID=America/New_York:20180421T200000
DTSTAMP:20260422T045539
CREATED:20180418T164856Z
LAST-MODIFIED:20180418T164856Z
UID:18079-1524333600-1524340800@jayceland.com
SUMMARY:Raw from the Vault: The Transparent Poetry Reading with Shaquille\, aka A.O.R.
DESCRIPTION:[source: Rochester City Newspaper events calendar\, 2018-Apr-18]
URL:https://jayceland.com/blog/event/raw-from-the-vault-the-transparent-poetry-reading-with-shaquille-aka-a-o-r/
LOCATION:540WMain Community Arts Education and Cultural Center\, 540 W. Main St.\, Rochester\, New York\, 14608\, United States
CATEGORIES:JayceLand 2018-Apr-19
END:VEVENT
BEGIN:VEVENT
DTSTART;TZID=America/New_York:20180421T190000
DTEND;TZID=America/New_York:20180421T204000
DTSTAMP:20260422T045539
CREATED:20180418T164857Z
LAST-MODIFIED:20180418T164857Z
UID:18083-1524337200-1524343200@jayceland.com
SUMMARY:Game Night screening (2018-Apr-21 @ 7 p.m.)
DESCRIPTION:The Cinema will screen Game Night (John Francis Daley\, Jonathan Goldstein\, U.S. 2018\, 100 min.) "A group of friends who meet regularly for game nights find themselves entangled in a real-life mystery." [source: Cinema Theater coming soon page\, 2018-Apr-18]
URL:https://jayceland.com/blog/event/game-night-screening-2018-apr-21-7-p-m/
LOCATION:Cinema Theatre\, 957 S. Clinton Ave.\, Rochester\, New York\, 14620\, United States
CATEGORIES:JayceLand 2018-Apr-19
END:VEVENT
BEGIN:VEVENT
DTSTART;TZID=America/New_York:20180421T193000
DTEND;TZID=America/New_York:20180421T222600
DTSTAMP:20260422T045539
CREATED:20180418T164856Z
LAST-MODIFIED:20180418T164856Z
UID:18066-1524339000-1524349560@jayceland.com
SUMMARY:Alles Andere zeigt die Zeit—leipzig und Anderswo\, 1989—2015 (Time Will Tell—leipzig and Elsewhere). Als wir die Zukunft waren—Sieben Geschichten aus einem verschwundenen Land (When We Were the Future—Seven Stories from a Vanished Country) screenings
DESCRIPTION:The Dryden will screen a double-feature of Alles Andere zeigt die Zeit—leipzig und Anderswo\, 1989—2015 (Time Will Tell—leipzig and Elsewhere\, 1989—2015\, Andreas Voigt\, Germany 2015\, 89 min.\, DCP\, German w/subtitles)\, and Als wir die Zukunft waren—Sieben Geschichten aus einem verschwundenen Land (When We Were the Future—Seven Stories from a Vanished Country\, Peter Kahane\, Thomas Knauf\, Andreas Voigt\, Hannes SchÃ¶nemann\, Gabriele Denecke\, Ralf Marschalleck\, Lars Barthel\, Germany 2015\, 87 min.\, DCP\, German w/subtitles) with director Andreas Voigt\, and producer Barbara Etz present to discuss the films.  \nDocumentary filmmaker Andreas Voigt chronicled life in Leipzig for more than 25 years\, beginning in 1989\, when his protagonists were young teenagers\, through the fall of the Berlin wall and German unification. Voigt has kept in close touch with the punk girl turned successful businesswoman\, Isabel; the skinhead Sven\, who has struggled with long-term unemployment; and Jenny\, who traces her family's tragic history in the archives of the East German secret police. In Voigt's fifth film about Leipzig\, we encounter people adjusting in different ways to leaving their childhoods in a vanished socialist Gdr and life in capitalist\, unified Germany. The film won the prestigious Bavarian Film Prize in 2016 and opened the 2015 Leipzig Documentary Film Festival to overflowing audiences and critical acclaim. \nIn this autobiographical compilation film\, seven directors from the East German film studio DEFA remember their childhood in the 1950s and 1960s GDR. In funny\, poignant\, and deeply moving stories\, each director finds a unique form of storytelling. Using animation\, archival material\, stylized reenactments\, and family photo collections\, the filmmakers tell hauntingly intimate stories that at the same time reveal much about growing up in postwar Germany\, life in the young\, idealist\, socialist state\, and the perils of memory. Director Andreas Voigt and recent visiting filmmaker Peter Kahane (The Architects) are contributors to this film\, which was featured at the 2015 Leipzig Documentary Festival and nominated for the Adolf Grimme Prize. \n [source: George Eastman Museum\, 2018-Apr-16]
URL:https://jayceland.com/blog/event/alles-andere-zeigt-die-zeit-leipzig-und-anderswo-1989-2015-time-will-tell-leipzig-and-elsewhere-als-wir-die-zukunft-waren-sieben-geschichten-aus-einem-verschwundene/
LOCATION:Dryden Theatre at George Eastman Museum (formerly George Eastman House)\, 900 East Ave.\, Rochester\, New York\, 14607\, United States
CATEGORIES:JayceLand 2018-Apr-19
END:VEVENT
BEGIN:VEVENT
DTSTART;TZID=America/New_York:20180421T200000
DTEND;TZID=America/New_York:20180421T220000
DTSTAMP:20260422T045539
CREATED:20180418T164855Z
LAST-MODIFIED:20180418T164855Z
UID:18058-1524340800-1524348000@jayceland.com
SUMMARY:Something Holy — Lucian Ban and Alex Harding musical performance
DESCRIPTION:Back in 2002\, an album quietly sneaked out on the CIMP label. It was a duet session by Romanian pianist Lucian Ban and Detroit-based baritone sax/bass clarinet player Alex Harding called Somethin' Holy. It seemed like an unlikely combination (piano and baritone sax? a Detroiter and a Romanian?) but these two were on the same wavelength and the album that was released was a remarkable set of beautifully delineated duets\, running the gamut from transcendent ballad playing to vibrant heated exchanges. The album took its cues from the music of Coltrane\, Ellington (they included a lovely rendition of Ellington's "Fleurette Africaine")\, Randy Weston\, Hamiet Blueitt\, all players who even at their earthiest moments can bring out a spiritual ambience. So the title was not sent the message that this was a special session and was indeed Somthin' Holy. \n [source: Bop Shop website\, 2018-Apr-16]
URL:https://jayceland.com/blog/event/something-holy-lucian-ban-and-alex-harding-musical-performance/
LOCATION:Bop Shop Records\, 1460 Monroe Ave.\, Rochester\, New York\, 14618\, United States
CATEGORIES:JayceLand 2018-Apr-19
END:VEVENT
BEGIN:VEVENT
DTSTART;TZID=America/New_York:20180421T204500
DTEND;TZID=America/New_York:20180421T215600
DTSTAMP:20260422T045539
CREATED:20180418T164857Z
LAST-MODIFIED:20180418T164857Z
UID:18092-1524343500-1524347760@jayceland.com
SUMMARY:The Party screening (2018-Apr-21 @ 8:45 p.m.)
DESCRIPTION:The Cinema will screen The Party (Sally Potter\, U.K. 2017\, 71 min.) "Janet hosts a party to celebrate her new promotion\, but once the guests arrive it becomes clear that not everything is going to go down as smoothly as the red wine." [source: Cinema Theater coming soon page\, 2018-Apr-18]
URL:https://jayceland.com/blog/event/the-party-screening-2018-apr-21-845-p-m/
LOCATION:Cinema Theatre\, 957 S. Clinton Ave.\, Rochester\, New York\, 14620\, United States
CATEGORIES:JayceLand 2018-Apr-19
END:VEVENT
BEGIN:VEVENT
DTSTART;TZID=America/New_York:20180421T210000
DTEND;TZID=America/New_York:20180422T000000
DTSTAMP:20260422T045539
CREATED:20180418T164856Z
LAST-MODIFIED:20180418T164856Z
UID:18074-1524344400-1524355200@jayceland.com
SUMMARY:The Mighty Epilogue\, Arms and Armour musical performances
DESCRIPTION:[source: Facebook\, 2018-Apr-16]
URL:https://jayceland.com/blog/event/the-mighty-epilogue-arms-and-armour-musical-performances/
LOCATION:Skylark Lounge\, 40 South Union St.\, Rochester\, New York\, 14607\, United States
CATEGORIES:JayceLand 2018-Apr-19
END:VEVENT
BEGIN:VEVENT
DTSTART;TZID=America/New_York:20180421T213000
DTEND;TZID=America/New_York:20180421T233000
DTSTAMP:20260422T045539
CREATED:20180418T164856Z
LAST-MODIFIED:20180418T164856Z
UID:18071-1524346200-1524353400@jayceland.com
SUMMARY:The BuddhaHood musical performance (2018-Apr-21 @ 9:30 p.m.)
DESCRIPTION:[source: JamBase calendar\, 2018-Apr-16]
URL:https://jayceland.com/blog/event/the-buddhahood-musical-performance-2018-apr-21-930-p-m/
LOCATION:Firehouse Saloon\, 814 S Clinton Ave.\, Rochester\, New York\, 14620\, United States
CATEGORIES:JayceLand 2018-Apr-19
END:VEVENT
END:VCALENDAR