BEGIN:VCALENDAR
VERSION:2.0
PRODID:-//JayceLand - ECPv6.15.20//NONSGML v1.0//EN
CALSCALE:GREGORIAN
METHOD:PUBLISH
X-ORIGINAL-URL:https://jayceland.com/blog
X-WR-CALDESC:Events for JayceLand
REFRESH-INTERVAL;VALUE=DURATION:PT1H
X-Robots-Tag:noindex
X-PUBLISHED-TTL:PT1H
BEGIN:VTIMEZONE
TZID:America/New_York
BEGIN:DAYLIGHT
TZOFFSETFROM:-0500
TZOFFSETTO:-0400
TZNAME:EDT
DTSTART:20170312T070000
END:DAYLIGHT
BEGIN:STANDARD
TZOFFSETFROM:-0400
TZOFFSETTO:-0500
TZNAME:EST
DTSTART:20171105T060000
END:STANDARD
BEGIN:DAYLIGHT
TZOFFSETFROM:-0500
TZOFFSETTO:-0400
TZNAME:EDT
DTSTART:20180311T070000
END:DAYLIGHT
BEGIN:STANDARD
TZOFFSETFROM:-0400
TZOFFSETTO:-0500
TZNAME:EST
DTSTART:20181104T060000
END:STANDARD
BEGIN:DAYLIGHT
TZOFFSETFROM:-0500
TZOFFSETTO:-0400
TZNAME:EDT
DTSTART:20190310T070000
END:DAYLIGHT
BEGIN:STANDARD
TZOFFSETFROM:-0400
TZOFFSETTO:-0500
TZNAME:EST
DTSTART:20191103T060000
END:STANDARD
END:VTIMEZONE
BEGIN:VEVENT
DTSTART;TZID=America/New_York:20180324T210000
DTEND;TZID=America/New_York:20180325T020000
DTSTAMP:20260423T122411
CREATED:20180321T170616Z
LAST-MODIFIED:20180321T170616Z
UID:17620-1521925200-1521943200@jayceland.com
SUMMARY:Stomping Grounds: An Experimental Open Deck Experience
DESCRIPTION:Stomping Grounds is an open-deck night\, For music lovers it will be a place to share and explore new music For DJs and producers it is an opportunity to play your best in front of a crowd of other DJs and music lovers\, build your confidence behind the decks\, or just talk to people who are interested in what you do. There are absolutely no genre-restrictions\, everything is welcome. \n [source: Facebook\, 2018-Mar-19]
URL:https://jayceland.com/blog/event/stomping-grounds-an-experimental-open-deck-experience/
LOCATION:Bug Jar\, 219 Monroe Ave\, Rochester\, New York\, 14607\, United States
CATEGORIES:JayceLand 2018-Mar-22
END:VEVENT
BEGIN:VEVENT
DTSTART;TZID=America/New_York:20180325T140000
DTEND;TZID=America/New_York:20180325T160000
DTSTAMP:20260423T122411
CREATED:20180321T170617Z
LAST-MODIFIED:20180321T170617Z
UID:17641-1521986400-1521993600@jayceland.com
SUMMARY:90-Second Newbery Film Festival
DESCRIPTION:The Dryden will host a screening of films from the 90-Second Newbery Film Festival. T \nhe George Eastman Museum\, RCTV\, Writers and Books\, and KidsOutAndAbout have partnered to bring back this program of short films by children and teens. Founded by James Kennedy\, author of the award-winning Order of Odd-Fish\, the festival aims to encourage reading and media literacy among youth through the making of short videos that tell the entire story of a Newbery Honor or Award book in 90 seconds. \n [source: George Eastman Museum calendar\, 2018-Mar-19]
URL:https://jayceland.com/blog/event/90-second-newbery-film-festival/
LOCATION:Dryden Theatre at George Eastman Museum (formerly George Eastman House)\, 900 East Ave.\, Rochester\, New York\, 14607\, United States
CATEGORIES:JayceLand 2018-Mar-22
END:VEVENT
BEGIN:VEVENT
DTSTART;TZID=America/New_York:20180325T150000
DTEND;TZID=America/New_York:20180325T170000
DTSTAMP:20260423T122411
CREATED:20180321T170617Z
LAST-MODIFIED:20180321T170617Z
UID:17632-1521990000-1521997200@jayceland.com
SUMMARY:Grief Café (2018-Mar-25 @ 3 p.m.)
DESCRIPTION:"Grief is subversive\, undermining the quiet agreement to behave and be in control of our emotions. It is an act of protest that declares our refusal to live numb and small." — Francis Weller\,  Join us for an exploration of grief and how to share it within a community. This two-hour workshop will balance silence\, self reflection and communal sharing. \n [source: M.K. Gandhi Institute for Nonviolence website\, 2018-Mar-19]
URL:https://jayceland.com/blog/event/grief-cafe-2018-mar-25-3-p-m/
LOCATION:Gandhi Institute (M.K. Gandhi Institute for Nonviolence)\, 929 S. Plymouth Ave.\, Rochester\, New York\, 14608\, United States
CATEGORIES:JayceLand 2018-Mar-22
END:VEVENT
BEGIN:VEVENT
DTSTART;TZID=America/New_York:20180325T160000
DTEND;TZID=America/New_York:20180325T175500
DTSTAMP:20260423T122411
CREATED:20180321T170619Z
LAST-MODIFIED:20180321T170619Z
UID:17669-1521993600-1522000500@jayceland.com
SUMMARY:Three Billboards Outside Ebbing\, Missouri screening (2018-Mar-25 @ 4 p.m.)
DESCRIPTION:The Cinema will screen Three Billboards Outside Ebbing\, Missouri (Martin McDonagh\, U.K.  /  U.S. 2017\, 115 min.) "After months have passed without a culprit in her daughter's murder case\, Mildred Hayes makes a bold move\, painting three signs leading into her town with a controversial message directed at William Willoughby the town's revered chief of police." [source: Cinema Theater coming soon page\, 2018-Mar-21]
URL:https://jayceland.com/blog/event/three-billboards-outside-ebbing-missouri-screening-2018-mar-25-4-p-m/
LOCATION:Cinema Theatre\, 957 S. Clinton Ave.\, Rochester\, New York\, 14620\, United States
CATEGORIES:JayceLand 2018-Mar-22
END:VEVENT
BEGIN:VEVENT
DTSTART;TZID=America/New_York:20180325T190000
DTEND;TZID=America/New_York:20180325T205900
DTSTAMP:20260423T122411
CREATED:20180321T170618Z
LAST-MODIFIED:20180321T170618Z
UID:17656-1522004400-1522011540@jayceland.com
SUMMARY:Jumanji: Welcome to the Jungle screening (2018-Mar-25 @ 7 p.m.)
DESCRIPTION:The Cinema will screen Jumanji: Welcome to the Jungle (Jake Kasdan\, U.S. 2017\, 119 min.) "Four teenagers are sucked into a magical video game\, and the only way they can escape is to work together to finish the game." [source: Cinema Theater coming soon page\, 2018-Mar-21]
URL:https://jayceland.com/blog/event/jumanji-welcome-to-the-jungle-screening-2018-mar-25-7-p-m/
LOCATION:Cinema Theatre\, 957 S. Clinton Ave.\, Rochester\, New York\, 14620\, United States
CATEGORIES:JayceLand 2018-Mar-22
END:VEVENT
BEGIN:VEVENT
DTSTART;TZID=America/New_York:20180325T190000
DTEND;TZID=America/New_York:20180325T210000
DTSTAMP:20260423T122411
CREATED:20180321T170616Z
LAST-MODIFIED:20180321T170616Z
UID:17621-1522004400-1522011600@jayceland.com
SUMMARY:Comedy Cocoon #4 hosted by Paul Barsamian
DESCRIPTION:The Bug Jar will host Comedy Cocoon #4 hosted by Paul Barsamian and including comedy by Chris Hasenauer\, Cam Tiller\, Matt Gilligan\, Ilhan Ali\, Tori Hosier\, Don Johnson\, John Lockwood\, Chris Thompson\, Sam Bloomquist\, Jay Falk\, Dave Vacco\, and Skelly.  \nThe fourth of our weekly comedy showcase featuring comics from egg to larva to pupa to adult! \n [source: Facebook\, 2018-Mar-19]
URL:https://jayceland.com/blog/event/comedy-cocoon-4-hosted-by-paul-barsamian/
LOCATION:Bug Jar\, 219 Monroe Ave\, Rochester\, New York\, 14607\, United States
CATEGORIES:JayceLand 2018-Mar-22
END:VEVENT
BEGIN:VEVENT
DTSTART;TZID=America/New_York:20180325T193000
DTEND;TZID=America/New_York:20180325T205700
DTSTAMP:20260423T122411
CREATED:20180321T170618Z
LAST-MODIFIED:20180321T170618Z
UID:17642-1522006200-1522011420@jayceland.com
SUMMARY:Rashomon screening (2018-Mar-25 @ 7:30 p.m.)
DESCRIPTION:The Dryden will screen Rashomon (Akira Kurosawa\, Japan 1950\, 87 min.\, 35mm\, Japanese w/subtitles) as part of the Academy Awards at 90 series.  \nDirector Akira Kurosawa and his star Toshiro Mifune gained international fame and awakened the world to the importance of Japanese cinema with this story of murder told through the eyes of four different characters. The defining event takes on a different twist with each retelling. The film remains a potent allegory of the chaotic conditions in Japan immediately following World War II. \n [source: George Eastman Museum\, 2018-Feb-26]
URL:https://jayceland.com/blog/event/rashomon-screening-2018-mar-25-730-p-m/
LOCATION:Dryden Theatre at George Eastman Museum (formerly George Eastman House)\, 900 East Ave.\, Rochester\, New York\, 14607\, United States
CATEGORIES:JayceLand 2018-Mar-22
END:VEVENT
BEGIN:VEVENT
DTSTART;TZID=America/New_York:20180325T210000
DTEND;TZID=America/New_York:20180325T231200
DTSTAMP:20260423T122411
CREATED:20180321T170619Z
LAST-MODIFIED:20180321T170619Z
UID:17663-1522011600-1522019520@jayceland.com
SUMMARY:Call Me By Your Name screening (2018-Mar-25 @ 9 p.m.)
DESCRIPTION:The Cinema will screen Call Me By Your Name (Call Me By Your Name\, Italy  /  France  /  Brazil  /  U.S. 2017\, 132 min.) "In 1980s Italy\, a romance blossoms between a seventeen year-old student and the older man hired as his father's research assistant." [source: Cinema Theater coming soon page\, 2018-Mar-21]
URL:https://jayceland.com/blog/event/call-me-by-your-name-screening-2018-mar-25-9-p-m/
LOCATION:Cinema Theatre\, 957 S. Clinton Ave.\, Rochester\, New York\, 14620\, United States
CATEGORIES:JayceLand 2018-Mar-22
END:VEVENT
END:VCALENDAR