BEGIN:VCALENDAR
VERSION:2.0
PRODID:-//JayceLand - ECPv6.15.20//NONSGML v1.0//EN
CALSCALE:GREGORIAN
METHOD:PUBLISH
X-ORIGINAL-URL:https://jayceland.com/blog
X-WR-CALDESC:Events for JayceLand
REFRESH-INTERVAL;VALUE=DURATION:PT1H
X-Robots-Tag:noindex
X-PUBLISHED-TTL:PT1H
BEGIN:VTIMEZONE
TZID:America/New_York
BEGIN:DAYLIGHT
TZOFFSETFROM:-0500
TZOFFSETTO:-0400
TZNAME:EDT
DTSTART:20170312T070000
END:DAYLIGHT
BEGIN:STANDARD
TZOFFSETFROM:-0400
TZOFFSETTO:-0500
TZNAME:EST
DTSTART:20171105T060000
END:STANDARD
BEGIN:DAYLIGHT
TZOFFSETFROM:-0500
TZOFFSETTO:-0400
TZNAME:EDT
DTSTART:20180311T070000
END:DAYLIGHT
BEGIN:STANDARD
TZOFFSETFROM:-0400
TZOFFSETTO:-0500
TZNAME:EST
DTSTART:20181104T060000
END:STANDARD
BEGIN:DAYLIGHT
TZOFFSETFROM:-0500
TZOFFSETTO:-0400
TZNAME:EDT
DTSTART:20190310T070000
END:DAYLIGHT
BEGIN:STANDARD
TZOFFSETFROM:-0400
TZOFFSETTO:-0500
TZNAME:EST
DTSTART:20191103T060000
END:STANDARD
END:VTIMEZONE
BEGIN:VEVENT
DTSTART;TZID=America/New_York:20180323T210000
DTEND;TZID=America/New_York:20180324T010000
DTSTAMP:20260424T005833
CREATED:20180321T170616Z
LAST-MODIFIED:20180321T170616Z
UID:17619-1521838800-1521853200@jayceland.com
SUMMARY:Brown Angel\, Sulaco\, Deadrider\, Buried Beneath Concrete musical performances
DESCRIPTION:[source: Facebook\, 2018-Mar-19]
URL:https://jayceland.com/blog/event/brown-angel-sulaco-deadrider-buried-beneath-concrete-musical-performances/
LOCATION:Bug Jar\, 219 Monroe Ave\, Rochester\, New York\, 14607\, United States
CATEGORIES:JayceLand 2018-Mar-22
END:VEVENT
BEGIN:VEVENT
DTSTART;TZID=America/New_York:20180324T090000
DTEND;TZID=America/New_York:20180324T120000
DTSTAMP:20260424T005833
CREATED:20180321T170617Z
LAST-MODIFIED:20180321T170617Z
UID:17634-1521882000-1521892800@jayceland.com
SUMMARY:Make Your Film Legally! A RAFAS seminar with attorney Mark A. Costello
DESCRIPTION:In the Carlson Auditorium of the Chester F. Carlson Center for Imaging Science on the RIT Campus\, Mark A. Costello will present a lecture titled Make Your Film Legally!   \nMaking a movie? Learn how to navigate the legal paperwork correctly! Mark A. Costello\, attorney at Rochester's Boylan Code\, will give you a grounding in the documents every filmmaker should know. Including topics such as talent contracts/releases\, employees vs independent contractors\, raising money\, selling a screenplay\, licensing versus fair use\, and insurance. This is approximately a two hour talk\, followed by an hour of Q&A. \n [source: Rochester Association for Film Arts and Sciences website\, 2018-Mar-19]
URL:https://jayceland.com/blog/event/make-your-film-legally-a-rafas-seminar-with-attorney-mark-a-costello/
LOCATION:Rochester Institute of Technology (RIT)\, 1 Lomb Memorial Dr.\, Rochester\, New York\, 14623\, United States
CATEGORIES:JayceLand 2018-Mar-22
END:VEVENT
BEGIN:VEVENT
DTSTART;TZID=America/New_York:20180324T090000
DTEND;TZID=America/New_York:20180324T163000
DTSTAMP:20260424T005833
CREATED:20180321T170618Z
LAST-MODIFIED:20180321T170618Z
UID:17653-1521882000-1521909000@jayceland.com
SUMMARY:HodinÃ¶hsÃ¶:ni' Women: From the Time of Creation
DESCRIPTION:Ganondagan's new exhibit tells the missing story of HodinÃ¶hsÃ¶:ni' women in U.S. history\, their role in equality for all women and continued contributions to society. HodinÃ¶hsÃ¶:ni' women have worked to sustain culture of equity\, justice and power of the "good mind" as model for the world. \n [source: Rochester City Newspaper events calendar\, 2018-Mar-21]
URL:https://jayceland.com/blog/event/hodinohsoni-women-from-the-time-of-creation/
LOCATION:Seneca Art and Culture Center\, 7000 County Road 41\, Victor\, New York\, 14564\, United States
CATEGORIES:JayceLand 2018-Mar-22
END:VEVENT
BEGIN:VEVENT
DTSTART;TZID=America/New_York:20180324T100000
DTEND;TZID=America/New_York:20180324T140000
DTSTAMP:20260424T005833
CREATED:20180321T170618Z
LAST-MODIFIED:20180321T170618Z
UID:17650-1521885600-1521900000@jayceland.com
SUMMARY:Rochester Gentrification Conference
DESCRIPTION:Join us for candid discussions and mini presentations on gentrification\, what it means\, what is has done to past Rochester\, implications for future Rochester\, and personal actions you can take to improve housing access and home ownership for all Rochesterians.  Moderated by 540WMain Executive Director Calvin Eaton the conference will feature a Qa style panel of community leaders and activists passionate about making Rochester safe and accessible for all. \n [source: Facebook\, 2018-Mar-19]
URL:https://jayceland.com/blog/event/rochester-gentrification-conference/
LOCATION:Community Space\, 441 Parsells Ave.\, Rochester\, New York\, 14609\, United States
CATEGORIES:JayceLand 2018-Mar-22
END:VEVENT
BEGIN:VEVENT
DTSTART;TZID=America/New_York:20180324T110000
DTEND;TZID=America/New_York:20180324T130000
DTSTAMP:20260424T005833
CREATED:20180321T170617Z
LAST-MODIFIED:20180321T170617Z
UID:17627-1521889200-1521896400@jayceland.com
SUMMARY:Spring Tour
DESCRIPTION:Enjoy a 60 to 90-minute (depending on weather) guided walking tour on flat\, paved roads. \n [source: Friends of Mt. Hope website\, 2018-Mar-19]
URL:https://jayceland.com/blog/event/spring-tour/
LOCATION:Mt. Hope Cemetery South Entrance\, 1133 Mt. Hope Ave.\, Rochester\, New York\, 14620\, United States
CATEGORIES:JayceLand 2018-Mar-22
END:VEVENT
BEGIN:VEVENT
DTSTART;TZID=America/New_York:20180324T120000
DTEND;TZID=America/New_York:20180324T130000
DTSTAMP:20260424T005833
CREATED:20180321T170618Z
LAST-MODIFIED:20180321T170618Z
UID:17643-1521892800-1521896400@jayceland.com
SUMMARY:Focus 45: George Eastman in 1918
DESCRIPTION:Jesse Peers will present a Focus 45 lecture titled George Eastman in 1918 at the George Eastman Museum.  \nJesse Peers\, archivist in the George Eastman Legacy Collection\, explores what George Eastman's life was like a hundred years ago\, through photographs and other archival documentation. This talk is presented in conjunction with a display on the second floor of the mansion that highlights objects from the Legacy and photography collections. \n [source: George Eastman Museum calendar\, 2018-Mar-19]
URL:https://jayceland.com/blog/event/focus-45-george-eastman-in-1918/
LOCATION:George Eastman Museum (formerly George Eastman House)\, 900 East Ave.\, Rochester\, New York\, 14607\, United States
CATEGORIES:JayceLand 2018-Mar-22
END:VEVENT
BEGIN:VEVENT
DTSTART;TZID=America/New_York:20180324T160000
DTEND;TZID=America/New_York:20180324T175500
DTSTAMP:20260424T005833
CREATED:20180321T170619Z
LAST-MODIFIED:20180321T170619Z
UID:17668-1521907200-1521914100@jayceland.com
SUMMARY:Three Billboards Outside Ebbing\, Missouri screening (2018-Mar-24 @ 4 p.m.)
DESCRIPTION:The Cinema will screen Three Billboards Outside Ebbing\, Missouri (Martin McDonagh\, U.K.  /  U.S. 2017\, 115 min.) "After months have passed without a culprit in her daughter's murder case\, Mildred Hayes makes a bold move\, painting three signs leading into her town with a controversial message directed at William Willoughby the town's revered chief of police." [source: Cinema Theater coming soon page\, 2018-Mar-21]
URL:https://jayceland.com/blog/event/three-billboards-outside-ebbing-missouri-screening-2018-mar-24-4-p-m/
LOCATION:Cinema Theatre\, 957 S. Clinton Ave.\, Rochester\, New York\, 14620\, United States
CATEGORIES:JayceLand 2018-Mar-22
END:VEVENT
BEGIN:VEVENT
DTSTART;TZID=America/New_York:20180324T160000
DTEND;TZID=America/New_York:20180324T200000
DTSTAMP:20260424T005833
CREATED:20180321T170617Z
LAST-MODIFIED:20180321T170617Z
UID:17631-1521907200-1521921600@jayceland.com
SUMMARY:String Thing 6: North Star String Band\, String Theory musical performances
DESCRIPTION:Join us on March 24th at Johnny's Irish Pub for String Thing 6 — hosted by North Star String Band and String Theory. All raffle proceeds will go to the Gandhi Institute! \n [source: M.K. Gandhi Institute for Nonviolence website\, 2018-Mar-19]
URL:https://jayceland.com/blog/event/string-thing-6-north-star-string-band-string-theory-musical-performances/
LOCATION:Johnny's Irish Pub\, 1382 Culver Rd.\, Rochester\, New York\, 14609\, United States
CATEGORIES:JayceLand 2018-Mar-22
END:VEVENT
BEGIN:VEVENT
DTSTART;TZID=America/New_York:20180324T190000
DTEND;TZID=America/New_York:20180324T205900
DTSTAMP:20260424T005833
CREATED:20180321T170618Z
LAST-MODIFIED:20180321T170618Z
UID:17655-1521918000-1521925140@jayceland.com
SUMMARY:Jumanji: Welcome to the Jungle screening (2018-Mar-24 @ 7 p.m.)
DESCRIPTION:The Cinema will screen Jumanji: Welcome to the Jungle (Jake Kasdan\, U.S. 2017\, 119 min.) "Four teenagers are sucked into a magical video game\, and the only way they can escape is to work together to finish the game." [source: Cinema Theater coming soon page\, 2018-Mar-21]
URL:https://jayceland.com/blog/event/jumanji-welcome-to-the-jungle-screening-2018-mar-24-7-p-m/
LOCATION:Cinema Theatre\, 957 S. Clinton Ave.\, Rochester\, New York\, 14620\, United States
CATEGORIES:JayceLand 2018-Mar-22
END:VEVENT
BEGIN:VEVENT
DTSTART;TZID=America/New_York:20180324T190000
DTEND;TZID=America/New_York:20180324T230000
DTSTAMP:20260424T005833
CREATED:20180321T170616Z
LAST-MODIFIED:20180321T170616Z
UID:17625-1521918000-1521932400@jayceland.com
SUMMARY:Party Like It's Carnival
DESCRIPTION:Party Like It's Carnival is an event that blends all cultures from the Caribbean islands and puts them together for a jam packed night full of giveaways\, food\, dance battles and music. This event puts all the islands in one room for one night and have them mingle on a positive level. \n [source: Flying Squirrel website\, 2018-Mar-19]
URL:https://jayceland.com/blog/event/party-like-its-carnival/
LOCATION:Flying Squirrel Community Space\, 285 Clarissa St.\, Rochester\, New York\, 14608\, United States
CATEGORIES:JayceLand 2018-Mar-22
END:VEVENT
BEGIN:VEVENT
DTSTART;TZID=America/New_York:20180324T210000
DTEND;TZID=America/New_York:20180324T230000
DTSTAMP:20260424T005833
CREATED:20180321T170617Z
LAST-MODIFIED:20180321T170617Z
UID:17624-1521925200-1521932400@jayceland.com
SUMMARY:Uncle Ben's Remedy musical performance
DESCRIPTION:Uncle Ben's Remedy was the sleeper show of the year in 2017. I knew they were uptempo Americana with a touch of country and rock. But you just cannot truly get it until you see them live.  They threw in some of the craziest covers you could imagine\, got into the crowd for an unexpected unplugged acoustic 3 song set\, had their bass player play his upright over his head….it was a spectacle. But on top of that\, they have incredible amounts of talent and are great players. \n [source: Facebook\, 2018-Mar-19]
URL:https://jayceland.com/blog/event/uncle-bens-remedy-musical-performance/
LOCATION:Three Heads Brewing\, 186 Atlantic Ave.\, Rochester\, New York\, 14607\, United States
CATEGORIES:JayceLand 2018-Mar-22
END:VEVENT
BEGIN:VEVENT
DTSTART;TZID=America/New_York:20180324T210000
DTEND;TZID=America/New_York:20180324T231200
DTSTAMP:20260424T005833
CREATED:20180321T170618Z
LAST-MODIFIED:20180321T170618Z
UID:17662-1521925200-1521933120@jayceland.com
SUMMARY:Call Me By Your Name screening (2018-Mar-24 @ 9 p.m.)
DESCRIPTION:The Cinema will screen Call Me By Your Name (Call Me By Your Name\, Italy  /  France  /  Brazil  /  U.S. 2017\, 132 min.) "In 1980s Italy\, a romance blossoms between a seventeen year-old student and the older man hired as his father's research assistant." [source: Cinema Theater coming soon page\, 2018-Mar-21]
URL:https://jayceland.com/blog/event/call-me-by-your-name-screening-2018-mar-24-9-p-m/
LOCATION:Cinema Theatre\, 957 S. Clinton Ave.\, Rochester\, New York\, 14620\, United States
CATEGORIES:JayceLand 2018-Mar-22
END:VEVENT
BEGIN:VEVENT
DTSTART;TZID=America/New_York:20180324T210000
DTEND;TZID=America/New_York:20180325T020000
DTSTAMP:20260424T005833
CREATED:20180321T170616Z
LAST-MODIFIED:20180321T170616Z
UID:17620-1521925200-1521943200@jayceland.com
SUMMARY:Stomping Grounds: An Experimental Open Deck Experience
DESCRIPTION:Stomping Grounds is an open-deck night\, For music lovers it will be a place to share and explore new music For DJs and producers it is an opportunity to play your best in front of a crowd of other DJs and music lovers\, build your confidence behind the decks\, or just talk to people who are interested in what you do. There are absolutely no genre-restrictions\, everything is welcome. \n [source: Facebook\, 2018-Mar-19]
URL:https://jayceland.com/blog/event/stomping-grounds-an-experimental-open-deck-experience/
LOCATION:Bug Jar\, 219 Monroe Ave\, Rochester\, New York\, 14607\, United States
CATEGORIES:JayceLand 2018-Mar-22
END:VEVENT
BEGIN:VEVENT
DTSTART;TZID=America/New_York:20180324T213000
DTEND;TZID=America/New_York:20180324T233600
DTSTAMP:20260424T005833
CREATED:20180314T170406Z
LAST-MODIFIED:20180314T170406Z
UID:17542-1521927000-1521934560@jayceland.com
SUMMARY:Batman Returns screening (2018-Mar-24 @ 9:30 p.m.)
DESCRIPTION:The Little will screen Batman Returns (Tim Burton\, U.S.  /  U.K. 1992\, 126 min.) as part of the Saturday Night Rewind series.  \nThe monstrous Penguin (Danny DeVito)\, who lives in the sewers beneath Gotham\, joins up with wicked shock-headed businessman Max Shreck (Christopher Walken) to topple the Batman (Michael Keaton) once and for all. But when Shreck's timid assistant\, Selina Kyle (Michelle Pfeiffer)\, finds out\, and Shreck tries to kill her\, she is transformed into Catwoman. She teams up with the Penguin and Shreck to destroy Batman\, but sparks fly unexpectedly when she confronts the caped crusader. \n [source: Little Theatre calendar\, 2018-Mar-12]
URL:https://jayceland.com/blog/event/batman-returns-screening-2018-mar-24-930-p-m/
LOCATION:Little Theatre\, 240 East Ave. #100\, Rochester\, New York\, 14604\, United States
CATEGORIES:JayceLand 2018-Mar-22
END:VEVENT
BEGIN:VEVENT
DTSTART;TZID=America/New_York:20180324T220000
DTEND;TZID=America/New_York:20180325T000000
DTSTAMP:20260424T005833
CREATED:20180321T170618Z
LAST-MODIFIED:20180321T170618Z
UID:17647-1521928800-1521936000@jayceland.com
SUMMARY:Canary in a Coal Mine\, Hardwood\, Thank You Kiss comedic performances
DESCRIPTION:[source: Rochester City Newspaper events calendar\, 2018-Mar-19]
URL:https://jayceland.com/blog/event/canary-in-a-coal-mine-hardwood-thank-you-kiss-comedic-performances/
LOCATION:Blackfriars Theatre\, 795 E. Main St.\, Rochester\, New York\, 14605\, United States
CATEGORIES:JayceLand 2018-Mar-22
END:VEVENT
BEGIN:VEVENT
DTSTART;TZID=America/New_York:20180324T220000
DTEND;TZID=America/New_York:20180325T000000
DTSTAMP:20260424T005833
CREATED:20180321T170618Z
LAST-MODIFIED:20180321T170618Z
UID:17648-1521928800-1521936000@jayceland.com
SUMMARY:Nod\, Isotopes\, Plenty Crisp musical performances
DESCRIPTION:Nod\, a great stage show and excellent surf-based rock from The Isotopes\, and Plenty Crisp will perform at the Rosen Krown. [source: WNY Shows website\, 2018-Mar-19]
URL:https://jayceland.com/blog/event/nod-isotopes-plenty-crisp-musical-performances/
LOCATION:Rosen Krown (formerly Monty's Krown)\, 875 Monroe Ave.\, Rochester\, New York\, 14620\, United States
CATEGORIES:JayceLand 2018-Mar-22
END:VEVENT
END:VCALENDAR