BEGIN:VCALENDAR
VERSION:2.0
PRODID:-//JayceLand - ECPv6.15.20//NONSGML v1.0//EN
CALSCALE:GREGORIAN
METHOD:PUBLISH
X-ORIGINAL-URL:https://jayceland.com/blog
X-WR-CALDESC:Events for JayceLand
REFRESH-INTERVAL;VALUE=DURATION:PT1H
X-Robots-Tag:noindex
X-PUBLISHED-TTL:PT1H
BEGIN:VTIMEZONE
TZID:America/New_York
BEGIN:DAYLIGHT
TZOFFSETFROM:-0500
TZOFFSETTO:-0400
TZNAME:EDT
DTSTART:20170312T070000
END:DAYLIGHT
BEGIN:STANDARD
TZOFFSETFROM:-0400
TZOFFSETTO:-0500
TZNAME:EST
DTSTART:20171105T060000
END:STANDARD
BEGIN:DAYLIGHT
TZOFFSETFROM:-0500
TZOFFSETTO:-0400
TZNAME:EDT
DTSTART:20180311T070000
END:DAYLIGHT
BEGIN:STANDARD
TZOFFSETFROM:-0400
TZOFFSETTO:-0500
TZNAME:EST
DTSTART:20181104T060000
END:STANDARD
BEGIN:DAYLIGHT
TZOFFSETFROM:-0500
TZOFFSETTO:-0400
TZNAME:EDT
DTSTART:20190310T070000
END:DAYLIGHT
BEGIN:STANDARD
TZOFFSETFROM:-0400
TZOFFSETTO:-0500
TZNAME:EST
DTSTART:20191103T060000
END:STANDARD
END:VTIMEZONE
BEGIN:VEVENT
DTSTART;TZID=America/New_York:20180319T133000
DTEND;TZID=America/New_York:20180319T150100
DTSTAMP:20260421T162244
CREATED:20180314T170433Z
LAST-MODIFIED:20180314T170433Z
UID:17558-1521466200-1521471660@jayceland.com
SUMMARY:The Prowler screening (2018-Mar-19 @ 1:30 p.m.)
DESCRIPTION:The Dryden will screen The Prowler (Joseph Losey\, U.S. 1951\, 91 min.\, 35mm) as part of the Tarnished Badge series.  \nSet in a shadowy postwar Los Angeles\, The Prowler focuses on a wealthy but neglected housewife (Evelyn Keyes) who spends her evenings alone\, with only her husband's voice on the radio for company. When she's spooked by a peeping tom\, a calculating cop (Van Heflin) answers the call\, turning her ordered life upside down. The Prowler was the third of five films Losey made in Hollywood\, and the most critically and commercially successful. The following year\, Losey was officially blacklisted and soon embarked on a career abroad\, where he eventually earned a reputation as a European auteur. \n [source: George Eastman Museum\, 2018-Mar-5]
URL:https://jayceland.com/blog/event/the-prowler-screening-2018-mar-19-130-p-m/
LOCATION:Dryden Theatre at George Eastman Museum (formerly George Eastman House)\, 900 East Ave.\, Rochester\, New York\, 14607\, United States
CATEGORIES:JayceLand 2018-Mar-15
END:VEVENT
BEGIN:VEVENT
DTSTART;TZID=America/New_York:20180319T190000
DTEND;TZID=America/New_York:20180319T205500
DTSTAMP:20260421T162244
CREATED:20180314T170433Z
LAST-MODIFIED:20180314T170433Z
UID:17566-1521486000-1521492900@jayceland.com
SUMMARY:Three Billboards Outside Ebbing\, Missouri screening (2018-Mar-19 @ 7 p.m.)
DESCRIPTION:The Cinema will screen Three Billboards Outside Ebbing\, Missouri (Martin McDonagh\, U.K.  /  U.S. 2017\, 115 min.) "After months have passed without a culprit in her daughter's murder case\, Mildred Hayes makes a bold move\, painting three signs leading into her town with a controversial message directed at William Willoughby the town's revered chief of police." [source: Cinema Theater coming soon page\, 2018-Mar-14]
URL:https://jayceland.com/blog/event/three-billboards-outside-ebbing-missouri-screening-2018-mar-19-7-p-m/
LOCATION:Cinema Theatre\, 957 S. Clinton Ave.\, Rochester\, New York\, 14620\, United States
CATEGORIES:JayceLand 2018-Mar-15
END:VEVENT
BEGIN:VEVENT
DTSTART;TZID=America/New_York:20180319T210000
DTEND;TZID=America/New_York:20180319T225600
DTSTAMP:20260421T162244
CREATED:20180314T170434Z
LAST-MODIFIED:20180314T170434Z
UID:17573-1521493200-1521500160@jayceland.com
SUMMARY:The Post screening (2018-Mar-19 @ 9 p.m.)
DESCRIPTION:The Cinema will screen The Post (Steven Spielberg\, U.K.  /  U.S. 2017\, 60 min.) "A cover-up that spanned four U.S. Presidents pushed the country's first female newspaper publisher and a hard-driving editor to join an unprecedented battle between the press and the government." [source: Cinema Theater coming soon page\, 2018-Mar-14]
URL:https://jayceland.com/blog/event/the-post-screening-2018-mar-19-9-p-m/
LOCATION:Cinema Theatre\, 957 S. Clinton Ave.\, Rochester\, New York\, 14620\, United States
CATEGORIES:JayceLand 2018-Mar-15
END:VEVENT
END:VCALENDAR