BEGIN:VCALENDAR
VERSION:2.0
PRODID:-//JayceLand - ECPv6.15.20//NONSGML v1.0//EN
CALSCALE:GREGORIAN
METHOD:PUBLISH
X-WR-CALNAME:JayceLand
X-ORIGINAL-URL:https://jayceland.com/blog
X-WR-CALDESC:Events for JayceLand
REFRESH-INTERVAL;VALUE=DURATION:PT1H
X-Robots-Tag:noindex
X-PUBLISHED-TTL:PT1H
BEGIN:VTIMEZONE
TZID:America/New_York
BEGIN:DAYLIGHT
TZOFFSETFROM:-0500
TZOFFSETTO:-0400
TZNAME:EDT
DTSTART:20170312T070000
END:DAYLIGHT
BEGIN:STANDARD
TZOFFSETFROM:-0400
TZOFFSETTO:-0500
TZNAME:EST
DTSTART:20171105T060000
END:STANDARD
BEGIN:DAYLIGHT
TZOFFSETFROM:-0500
TZOFFSETTO:-0400
TZNAME:EDT
DTSTART:20180311T070000
END:DAYLIGHT
BEGIN:STANDARD
TZOFFSETFROM:-0400
TZOFFSETTO:-0500
TZNAME:EST
DTSTART:20181104T060000
END:STANDARD
BEGIN:DAYLIGHT
TZOFFSETFROM:-0500
TZOFFSETTO:-0400
TZNAME:EDT
DTSTART:20190310T070000
END:DAYLIGHT
BEGIN:STANDARD
TZOFFSETFROM:-0400
TZOFFSETTO:-0500
TZNAME:EST
DTSTART:20191103T060000
END:STANDARD
END:VTIMEZONE
BEGIN:VEVENT
DTSTART;TZID=America/New_York:20180314T190000
DTEND;TZID=America/New_York:20180314T210000
DTSTAMP:20260420T075436
CREATED:20180307T191232Z
LAST-MODIFIED:20180307T191232Z
UID:17435-1521054000-1521061200@jayceland.com
SUMMARY:Artist Talk: Neither Living Nor Dead: Documentary photography in the 1970's and 80's with Dana Tyrrell
DESCRIPTION:Join us and our Workspace Resident Researcher\, Dana Tyrrell as we explore documentary photography centered in and around New York City in the 1970's and 80's\, with special focus given to the work of Peter Hujar and David Wojnarowicz. We will look at these artists photographic works as a product of both their impoverished lifestyles and as a reaction to it. The work itself acts as a foil which prefigures and reacts in real time to the HIV/AIDS epidemic during that period of time. We will also touch upon the work of Buffalo documentary photographer Milton Rogovin\, and the differences between straight documentary photography\, and documentary photography cum art object. \n [source: Squeaky Wheel Film and Media Art Center website\, 2018-Mar-5]
URL:https://jayceland.com/blog/event/artist-talk-neither-living-nor-dead-documentary-photography-in-the-1970s-and-80s-with-dana-tyrrell/
LOCATION:Squeaky Wheel Film & Media Art Center\, 617 Main St.\, Buffalo\, New York\, 14203\, United States
CATEGORIES:JayceLand 2018-Mar-8
END:VEVENT
BEGIN:VEVENT
DTSTART;TZID=America/New_York:20180314T190000
DTEND;TZID=America/New_York:20180314T210000
DTSTAMP:20260420T075436
CREATED:20180307T191234Z
LAST-MODIFIED:20180307T191234Z
UID:17467-1521054000-1521061200@jayceland.com
SUMMARY:I\, Tonya screening (2018-Mar-14 @ 7 p.m.)
DESCRIPTION:The Cinema will screen I\, Tonya (Craig Gillespie\, U.S. 2017\, 120 min.) "Competitive ice skater Tonya Harding rises amongst the ranks at the U.S. Figure Skating Championships\, but her future in the activity is thrown into doubt when her ex-husband intervenes." [source: Cinema Theater coming soon page\, 2018-Mar-7]
URL:https://jayceland.com/blog/event/i-tonya-screening-2018-mar-14-7-p-m/
LOCATION:Cinema Theatre\, 957 S. Clinton Ave.\, Rochester\, New York\, 14620\, United States
CATEGORIES:JayceLand 2018-Mar-8
END:VEVENT
BEGIN:VEVENT
DTSTART;TZID=America/New_York:20180314T193000
DTEND;TZID=America/New_York:20180314T210100
DTSTAMP:20260420T075436
CREATED:20180307T191233Z
LAST-MODIFIED:20180307T191233Z
UID:17441-1521055800-1521061260@jayceland.com
SUMMARY:The Prowler screening
DESCRIPTION:The Dryden will screen The Prowler (Joseph Losey\, U.S. 1951\, 91 min.\, 35mm) as part of the Tarnished Badge series.  \nSet in a shadowy postwar Los Angeles\, The Prowler focuses on a wealthy but neglected housewife (Evelyn Keyes) who spends her evenings alone\, with only her husband's voice on the radio for company. When she's spooked by a peeping tom\, a calculating cop (Van Heflin) answers the call\, turning her ordered life upside down. The Prowler was the third of five films Losey made in Hollywood\, and the most critically and commercially successful. The following year\, Losey was officially blacklisted and soon embarked on a career abroad\, where he eventually earned a reputation as a European auteur. \n [source: George Eastman Museum\, 2018-Mar-5]
URL:https://jayceland.com/blog/event/the-prowler-screening/
LOCATION:Dryden Theatre at George Eastman Museum (formerly George Eastman House)\, 900 East Ave.\, Rochester\, New York\, 14607\, United States
CATEGORIES:JayceLand 2018-Mar-8
END:VEVENT
BEGIN:VEVENT
DTSTART;TZID=America/New_York:20180314T193000
DTEND;TZID=America/New_York:20180314T213000
DTSTAMP:20260420T075436
CREATED:20180307T191232Z
LAST-MODIFIED:20180307T191232Z
UID:17436-1521055800-1521063000@jayceland.com
SUMMARY:White Line Fever: Tales Of The Road—Bicycling Cross Country by Tony Nowak
DESCRIPTION:Would you ever consider sleeping in a tent\, in a cemetery or a Bates type motel? Does the idea of spending day after day alone — far from home\, with no cell phone\, appeal to you? Would you relish the thought of physically pushing yourself beyond your farthest dreams in situations where there would be no relief\, no turning back\, and no choice but to push forward? Can you imagine riding a bicycle an average of 94 miles a day for 37 straight days\, over mountains\, in 100 degree heat\, though numerous storms\, with tractor trailers passing within a few feet of you at 60 Mph?  If you think about planning such a trip today\, you would expect to hop on the Internet\, research possible routes\, eateries\, camping grounds\, motels\, road conditions\, bike shops\, etc. In 1986\, when Tony planned and set upon his cross-country trip\, he had the help of an Adventure Cycling Association planned route with accompanying maps. Other than that he had his legs\, his bicycle and a "wing and a prayer". \n [source: Adirondack Mountain Club website\, 2018-Mar-5]
URL:https://jayceland.com/blog/event/white-line-fever-tales-of-the-road-bicycling-cross-country-by-tony-nowak/
LOCATION:Rochester Museum and Science Center (RMSC)\, 657 East Ave.\, Rochester\, New York\, 14607\, United States
CATEGORIES:JayceLand 2018-Mar-8
END:VEVENT
BEGIN:VEVENT
DTSTART;TZID=America/New_York:20180314T210500
DTEND;TZID=America/New_York:20180314T222800
DTSTAMP:20260420T075436
CREATED:20180307T191235Z
LAST-MODIFIED:20180307T191235Z
UID:17474-1521061500-1521066480@jayceland.com
SUMMARY:2018 Oscar Nominated Short Films: Animation screening (2018-Mar-14 @ 9:05 p.m.)
DESCRIPTION:The Cinema will screen 2018 Oscar Nominated Short Films: Animation (various\, 2017\, 83 min.) "Collective screening of the Academy Award nominated short films from the Animation category for 2018. The reality of life's joys\, laughter and adventure told through the lens of the world's best Oscar animated short films: Dear Basketball (USA)\, Garden Party (France)\, Lou (USA)\, Negative Space (France)\, Revolting Rhymes." [source: Cinema Theater coming soon page\, 2018-Mar-7]
URL:https://jayceland.com/blog/event/2018-oscar-nominated-short-films-animation-screening-2018-mar-14-905-p-m/
LOCATION:Cinema Theatre\, 957 S. Clinton Ave.\, Rochester\, New York\, 14620\, United States
CATEGORIES:JayceLand 2018-Mar-8
END:VEVENT
END:VCALENDAR