BEGIN:VCALENDAR
VERSION:2.0
PRODID:-//JayceLand - ECPv6.15.20//NONSGML v1.0//EN
CALSCALE:GREGORIAN
METHOD:PUBLISH
X-ORIGINAL-URL:https://jayceland.com/blog
X-WR-CALDESC:Events for JayceLand
REFRESH-INTERVAL;VALUE=DURATION:PT1H
X-Robots-Tag:noindex
X-PUBLISHED-TTL:PT1H
BEGIN:VTIMEZONE
TZID:America/New_York
BEGIN:DAYLIGHT
TZOFFSETFROM:-0500
TZOFFSETTO:-0400
TZNAME:EDT
DTSTART:20170312T070000
END:DAYLIGHT
BEGIN:STANDARD
TZOFFSETFROM:-0400
TZOFFSETTO:-0500
TZNAME:EST
DTSTART:20171105T060000
END:STANDARD
BEGIN:DAYLIGHT
TZOFFSETFROM:-0500
TZOFFSETTO:-0400
TZNAME:EDT
DTSTART:20180311T070000
END:DAYLIGHT
BEGIN:STANDARD
TZOFFSETFROM:-0400
TZOFFSETTO:-0500
TZNAME:EST
DTSTART:20181104T060000
END:STANDARD
BEGIN:DAYLIGHT
TZOFFSETFROM:-0500
TZOFFSETTO:-0400
TZNAME:EDT
DTSTART:20190310T070000
END:DAYLIGHT
BEGIN:STANDARD
TZOFFSETFROM:-0400
TZOFFSETTO:-0500
TZNAME:EST
DTSTART:20191103T060000
END:STANDARD
END:VTIMEZONE
BEGIN:VEVENT
DTSTART;TZID=America/New_York:20180313T190000
DTEND;TZID=America/New_York:20180313T202900
DTSTAMP:20260420T043419
CREATED:20180312T141340Z
LAST-MODIFIED:20180312T141451Z
UID:17540-1520967600-1520972940@jayceland.com
SUMMARY:32 Pills: My Sister's Suicide screening
DESCRIPTION:The Little will screen 32 Pills: My Sister's Suicide (Hope Litoff\, U.S. 2017\, 89 min.) followed by a videoconference discussion with producer Beth Levison as part of the One Take Documentary Series.  \nShe's beautiful\, artistic\, loved and can't stand to be alive. 32 Pills traces the fascinating life and mental illness of my sister\, New York artist and photographer Ruth Litoff\, and my struggle to come to terms with her tragic suicide. \n [source: Little Theatre calendar\, 2018-Mar-12]
URL:https://jayceland.com/blog/event/32-pills-my-sisters-suicide-screening/
LOCATION:Little Theatre\, 240 East Ave. #100\, Rochester\, New York\, 14604\, United States
CATEGORIES:JayceLand 2018-Mar-8
END:VEVENT
BEGIN:VEVENT
DTSTART;TZID=America/New_York:20180313T190000
DTEND;TZID=America/New_York:20180313T210000
DTSTAMP:20260420T043419
CREATED:20180307T191234Z
LAST-MODIFIED:20180307T191234Z
UID:17466-1520967600-1520974800@jayceland.com
SUMMARY:I\, Tonya screening (2018-Mar-13 @ 7 p.m.)
DESCRIPTION:The Cinema will screen I\, Tonya (Craig Gillespie\, U.S. 2017\, 120 min.) "Competitive ice skater Tonya Harding rises amongst the ranks at the U.S. Figure Skating Championships\, but her future in the activity is thrown into doubt when her ex-husband intervenes." [source: Cinema Theater coming soon page\, 2018-Mar-7]
URL:https://jayceland.com/blog/event/i-tonya-screening-2018-mar-13-7-p-m/
LOCATION:Cinema Theatre\, 957 S. Clinton Ave.\, Rochester\, New York\, 14620\, United States
CATEGORIES:JayceLand 2018-Mar-8
END:VEVENT
BEGIN:VEVENT
DTSTART;TZID=America/New_York:20180313T193000
DTEND;TZID=America/New_York:20180313T205900
DTSTAMP:20260420T043419
CREATED:20180307T191233Z
LAST-MODIFIED:20180307T191233Z
UID:17442-1520969400-1520974740@jayceland.com
SUMMARY:Le mura di Malapaga (The Walls of Malapaga) screening
DESCRIPTION:The Dryden will screen Le mura di Malapaga (The Walls of Malapaga\, René Clément\, Italy/France 1949\, 89 min.\, 35mm\, Italian\, French w/subtitles) as part of the Academy Awards at 90 series.  \nRené Clément\, the leading post—World War II and pre—Nouvelle Vague French filmmaker\, most famous for his 1952 classic Forbidden Games\, made an international name for himself with this peculiar and highly original mixture of two seemingly incomparable genres: neorealist drama and film noir. Jean Gabin\, the biggest French star of the time\, plays a criminal on the run across Europe who finds shelter in Italian Genoa\, where he falls in love with a local woman. Recipient of the honorary Academy Award for Best Foreign Language Film in 1950\, The Walls of Malapaga is one of those films once respected as prime examples of high-quality French cinema\, only to be then quickly (and perhaps unfairly) almost completely forgotten in favor of a much louder\, younger generation of French filmmakers. \n [source: George Eastman Museum\, 2018-Mar-5]
URL:https://jayceland.com/blog/event/le-mura-di-malapaga-the-walls-of-malapaga-screening/
LOCATION:Dryden Theatre at George Eastman Museum (formerly George Eastman House)\, 900 East Ave.\, Rochester\, New York\, 14607\, United States
CATEGORIES:JayceLand 2018-Mar-8
END:VEVENT
BEGIN:VEVENT
DTSTART;TZID=America/New_York:20180313T210500
DTEND;TZID=America/New_York:20180313T222800
DTSTAMP:20260420T043419
CREATED:20180307T191235Z
LAST-MODIFIED:20180307T191235Z
UID:17473-1520975100-1520980080@jayceland.com
SUMMARY:2018 Oscar Nominated Short Films: Animation screening (2018-Mar-13 @ 9:05 p.m.)
DESCRIPTION:The Cinema will screen 2018 Oscar Nominated Short Films: Animation (various\, 2017\, 83 min.) "Collective screening of the Academy Award nominated short films from the Animation category for 2018. The reality of life's joys\, laughter and adventure told through the lens of the world's best Oscar animated short films: Dear Basketball (USA)\, Garden Party (France)\, Lou (USA)\, Negative Space (France)\, Revolting Rhymes." [source: Cinema Theater coming soon page\, 2018-Mar-7]
URL:https://jayceland.com/blog/event/2018-oscar-nominated-short-films-animation-screening-2018-mar-13-905-p-m/
LOCATION:Cinema Theatre\, 957 S. Clinton Ave.\, Rochester\, New York\, 14620\, United States
CATEGORIES:JayceLand 2018-Mar-8
END:VEVENT
END:VCALENDAR