BEGIN:VCALENDAR
VERSION:2.0
PRODID:-//JayceLand - ECPv6.15.20//NONSGML v1.0//EN
CALSCALE:GREGORIAN
METHOD:PUBLISH
X-ORIGINAL-URL:https://jayceland.com/blog
X-WR-CALDESC:Events for JayceLand
REFRESH-INTERVAL;VALUE=DURATION:PT1H
X-Robots-Tag:noindex
X-PUBLISHED-TTL:PT1H
BEGIN:VTIMEZONE
TZID:America/New_York
BEGIN:DAYLIGHT
TZOFFSETFROM:-0500
TZOFFSETTO:-0400
TZNAME:EDT
DTSTART:20170312T070000
END:DAYLIGHT
BEGIN:STANDARD
TZOFFSETFROM:-0400
TZOFFSETTO:-0500
TZNAME:EST
DTSTART:20171105T060000
END:STANDARD
BEGIN:DAYLIGHT
TZOFFSETFROM:-0500
TZOFFSETTO:-0400
TZNAME:EDT
DTSTART:20180311T070000
END:DAYLIGHT
BEGIN:STANDARD
TZOFFSETFROM:-0400
TZOFFSETTO:-0500
TZNAME:EST
DTSTART:20181104T060000
END:STANDARD
BEGIN:DAYLIGHT
TZOFFSETFROM:-0500
TZOFFSETTO:-0400
TZNAME:EDT
DTSTART:20190310T070000
END:DAYLIGHT
BEGIN:STANDARD
TZOFFSETFROM:-0400
TZOFFSETTO:-0500
TZNAME:EST
DTSTART:20191103T060000
END:STANDARD
END:VTIMEZONE
BEGIN:VEVENT
DTSTART;TZID=America/New_York:20180221T161500
DTEND;TZID=America/New_York:20180221T175900
DTSTAMP:20260423T122239
CREATED:20180215T193151Z
LAST-MODIFIED:20180215T193327Z
UID:17216-1519229700-1519235940@jayceland.com
SUMMARY:Paddington 2 screening (2018-Feb-21 @ 4:15 p.m.)
DESCRIPTION:The Cinema will screen Paddington 2 (Paul King\, U.K. / France / U.S. 2017\, 104 min.) "Paddington\, now happily settled with the Brown family and a popular member of the local community\, picks up a series of odd jobs to buy the perfect present for his Aunt Lucy's 100th birthday\, only for the gift to be stolen." [source: Cinema Theater coming soon page\, 2018-Feb-15]
URL:https://jayceland.com/blog/event/paddington-2-screening-2018-feb-21-415-p-m/
LOCATION:Cinema Theatre\, 957 S. Clinton Ave.\, Rochester\, New York\, 14620\, United States
CATEGORIES:JayceLand 2018-Feb-15
END:VEVENT
BEGIN:VEVENT
DTSTART;TZID=America/New_York:20180221T190000
DTEND;TZID=America/New_York:20180221T204900
DTSTAMP:20260423T122239
CREATED:20180215T193150Z
LAST-MODIFIED:20180215T193327Z
UID:17203-1519239600-1519246140@jayceland.com
SUMMARY:Coco screening (2018-Feb-21 @ 7 p.m.)
DESCRIPTION:The Cinema will screen Coco (Lee Unkrich\, Adrian Molina\, U.S. 2017\, 109 min.) "Aspiring musician Miguel\, confronted with his family's ancestral ban on music\, enters the Land of the Dead to find his great-great-grandfather\, a legendary singer." [source: Cinema Theater coming soon page\, 2018-Feb-15]
URL:https://jayceland.com/blog/event/coco-screening-2018-feb-21-7-p-m/
LOCATION:Cinema Theatre\, 957 S. Clinton Ave.\, Rochester\, New York\, 14620\, United States
CATEGORIES:JayceLand 2018-Feb-15
END:VEVENT
BEGIN:VEVENT
DTSTART;TZID=America/New_York:20180221T193000
DTEND;TZID=America/New_York:20180221T223300
DTSTAMP:20260423T122239
CREATED:20180214T184045Z
LAST-MODIFIED:20180214T184045Z
UID:17161-1519241400-1519252380@jayceland.com
SUMMARY:Les amants réguliers (Regular Lovers) screening
DESCRIPTION:The Dryden will screen Les amants réguliers (Regular Lovers\, Philippe Garrel\, France 2005\, 183 min.\, 35mm\, French w/subtitles) as part of the Philippe Garrel series.  \nA more thoughtful alternative to Bertolucci's The Dreamers\, Garrel's epic-length masterpiece re-creates the Paris student revolts of May 1968 with astonishing authenticity and an unsentimental eye. Focusing on a small group of rebellious and dissatisfied young men as they violently skirmish with authorities\, the film follows their lives after the riots as they try to make sense of what happened. Far from a conventional melodrama or nostalgic reminiscence\, Regular Lovers isn't just a movie to watch—it's an event to be experienced. \n [source: George Eastman Museum calendar\, 2018-Feb-14]
URL:https://jayceland.com/blog/event/les-amants-reguliers-regular-lovers-screening/
LOCATION:Dryden Theatre at George Eastman Museum (formerly George Eastman House)\, 900 East Ave.\, Rochester\, New York\, 14607\, United States
CATEGORIES:JayceLand 2018-Feb-15
END:VEVENT
BEGIN:VEVENT
DTSTART;TZID=America/New_York:20180221T200000
DTEND;TZID=America/New_York:20180221T220000
DTSTAMP:20260423T122239
CREATED:20180214T184044Z
LAST-MODIFIED:20180214T184044Z
UID:17147-1519243200-1519250400@jayceland.com
SUMMARY:Eastman Wind Ensemble musical performance (2018-Feb-21 @ 8 p.m.)
DESCRIPTION:[source: Eastman School of Music Calendar\, 2018-Feb-12]
URL:https://jayceland.com/blog/event/eastman-wind-ensemble-musical-performance-2018-feb-21-8-p-m/
LOCATION:Kodak Hall at Eastman Theatre\, 60 Gibbs St.\, Rochester\, New York\, 14604\, United States
CATEGORIES:JayceLand 2018-Feb-15
END:VEVENT
BEGIN:VEVENT
DTSTART;TZID=America/New_York:20180221T204500
DTEND;TZID=America/New_York:20180221T230500
DTSTAMP:20260423T122239
CREATED:20180215T193150Z
LAST-MODIFIED:20180215T193327Z
UID:17210-1519245900-1519254300@jayceland.com
SUMMARY:Molly's Game screening (2018-Feb-21 @ 8:45 p.m.)
DESCRIPTION:The Cinema will screen Molly's Game (Aaron Sorkin\, China  /  U.S.  /  Canada 2017\, 140 min.) "The true story of Molly Bloom\, an Olympic-class skier who ran the world's most exclusive high-stakes poker game and became an FBI target." [source: Cinema Theater coming soon page\, 2018-Feb-15]
URL:https://jayceland.com/blog/event/mollys-game-screening-2018-feb-21-845-p-m/
LOCATION:Cinema Theatre\, 957 S. Clinton Ave.\, Rochester\, New York\, 14620\, United States
CATEGORIES:JayceLand 2018-Feb-15
END:VEVENT
BEGIN:VEVENT
DTSTART;TZID=America/New_York:20180221T210000
DTEND;TZID=America/New_York:20180221T230000
DTSTAMP:20260423T122239
CREATED:20180214T184043Z
LAST-MODIFIED:20180214T184043Z
UID:17132-1519246800-1519254000@jayceland.com
SUMMARY:Thanya Iyer\, Candy Isle\, Indoor Time\, Cu-Cu musical performances
DESCRIPTION:[source: Facebook\, 2018-Feb-12]
URL:https://jayceland.com/blog/event/thanya-iyer-candy-isle-indoor-time-cu-cu-musical-performances/
LOCATION:Bug Jar\, 219 Monroe Ave\, Rochester\, New York\, 14607\, United States
CATEGORIES:JayceLand 2018-Feb-15
END:VEVENT
END:VCALENDAR