BEGIN:VCALENDAR
VERSION:2.0
PRODID:-//JayceLand - ECPv6.15.20//NONSGML v1.0//EN
CALSCALE:GREGORIAN
METHOD:PUBLISH
X-ORIGINAL-URL:https://jayceland.com/blog
X-WR-CALDESC:Events for JayceLand
REFRESH-INTERVAL;VALUE=DURATION:PT1H
X-Robots-Tag:noindex
X-PUBLISHED-TTL:PT1H
BEGIN:VTIMEZONE
TZID:America/New_York
BEGIN:DAYLIGHT
TZOFFSETFROM:-0500
TZOFFSETTO:-0400
TZNAME:EDT
DTSTART:20160313T070000
END:DAYLIGHT
BEGIN:STANDARD
TZOFFSETFROM:-0400
TZOFFSETTO:-0500
TZNAME:EST
DTSTART:20161106T060000
END:STANDARD
BEGIN:DAYLIGHT
TZOFFSETFROM:-0500
TZOFFSETTO:-0400
TZNAME:EDT
DTSTART:20170312T070000
END:DAYLIGHT
BEGIN:STANDARD
TZOFFSETFROM:-0400
TZOFFSETTO:-0500
TZNAME:EST
DTSTART:20171105T060000
END:STANDARD
BEGIN:DAYLIGHT
TZOFFSETFROM:-0500
TZOFFSETTO:-0400
TZNAME:EDT
DTSTART:20180311T070000
END:DAYLIGHT
BEGIN:STANDARD
TZOFFSETFROM:-0400
TZOFFSETTO:-0500
TZNAME:EST
DTSTART:20181104T060000
END:STANDARD
END:VTIMEZONE
BEGIN:VEVENT
DTSTART;TZID=America/New_York:20171110T210000
DTEND;TZID=America/New_York:20171111T020000
DTSTAMP:20260422T024757
CREATED:20171025T143444Z
LAST-MODIFIED:20171025T143444Z
UID:15580-1510347600-1510365600@jayceland.com
SUMMARY:Major Player musical performance
DESCRIPTION:Beautifully nested in a blanket of ethereal groove\, Major Player is a dark\, spiritual and unworldly interpretation of popular song. Created by Syracuse NY musician Jeffrey York with the intention to infuse 90's Trip-hop with infectious melody and thoughtful lyricism. Major Player is intentionally Lo-fi\, alluring and spiritually uplifting. \n [source: Facebook\, 2017-Oct-25]
URL:https://jayceland.com/blog/event/major-player-musical-performance/
LOCATION:Lux Lounge\, 666 South Ave.\, Rochester\, New York\, 14620\, United States
CATEGORIES:JayceLand 2017-Nov-9
END:VEVENT
BEGIN:VEVENT
DTSTART;TZID=America/New_York:20171111T090000
DTEND;TZID=America/New_York:20171111T130000
DTSTAMP:20260422T024757
CREATED:20171108T180308Z
LAST-MODIFIED:20171108T180308Z
UID:15820-1510390800-1510405200@jayceland.com
SUMMARY:Christkindlemarkt (Christmas Market)
DESCRIPTION:Authentic German Christmas Market with live music and vendors offering handmade crafts and holiday themed merchandise. \n [source: Facebook\, 2017-Nov-6]
URL:https://jayceland.com/blog/event/christkindlemarkt-christmas-market/
LOCATION:Lutheran Church of the Reformation\, 111 N. Chestnut St.\, Rochester\, New York\, 14604\, United States
CATEGORIES:JayceLand 2017-Nov-9
END:VEVENT
BEGIN:VEVENT
DTSTART;TZID=America/New_York:20171111T120000
DTEND;TZID=America/New_York:20171111T140000
DTSTAMP:20260422T024757
CREATED:20171108T180305Z
LAST-MODIFIED:20171108T180305Z
UID:15806-1510401600-1510408800@jayceland.com
SUMMARY:Focus 45: Paolo Cherchi Usai\, The Color of Nitrate
DESCRIPTION:The Eastman Museum holds a vast collection of original nitrate film frames\, originally owned by Italian film historian Davide Turconi. These 24\,000 samples came from the archive of Josef Joye\, a Jesuit priest in Switzerland who had collected early films from about 1900 to 1915. The story of these unique documents in the history of cinema is a moral tale on the adventures and perils of film preservation. Learn about the collection at this talk by Paolo Cherchi Usai\, senior curator\, Moving Image Department. \n [source: George Eastman Museum\, 2017-Nov-6]
URL:https://jayceland.com/blog/event/focus-45-paolo-cherchi-usai-the-color-of-nitrate/
LOCATION:George Eastman Museum (formerly George Eastman House)\, 900 East Ave.\, Rochester\, New York\, 14607\, United States
CATEGORIES:JayceLand 2017-Nov-9
END:VEVENT
BEGIN:VEVENT
DTSTART;TZID=America/New_York:20171111T150000
DTEND;TZID=America/New_York:20171111T170100
DTSTAMP:20260422T024757
CREATED:20171108T180301Z
LAST-MODIFIED:20171108T180301Z
UID:15783-1510412400-1510419660@jayceland.com
SUMMARY:Sztuka Kochania\, Historia Michaliny WisÅ‚ockiej (The Art of Love: The Story of Michalina WisÅ‚ocka) screening
DESCRIPTION:The Little will screen Sztuka Kochania\, Historia Michaliny WisÅ‚ockiej (The Art of Love: The Story of Michalina WisÅ‚ocka\, Maria Sadowska\, 2017\, 121 min.)  \nThe Art of Love an adaptation of Michalina WisÅ‚ocka's biography\, is a story of the famous Polish gynecologist and sexologist\, and her determination to educate Poles about their sex lives. Her so-called textbook\, "The Art of Love" sold more than seven million copies in Poland\, not including the number of copies in unofficial circulation. "The Art of Love" was also a bestseller in other countries in the Soviet bloc. In the film\, we can see WisÅ‚ocka in a few distant moments in her life: in her childhood\, in wartimesr\, during her medical studies\, and eventually in the 1960s and 70s\, when she struggles to revolutionize Polish sexology. She has spent years fighting both the conservative social customs\, and the merciless censorship. The creators of the movie paint her as a brave\, charismatic woman\, who had to take on the patriarchal reality of Polish People's Republic for the benefit of her patients\, and paid for her choices with her ruined private life. \n [source: Polish Film Festival website\, 2017-Nov-6]
URL:https://jayceland.com/blog/event/sztuka-kochania-historia-michaliny-wislockiej-the-art-of-love-the-story-of-michalina-wislocka-screening/
LOCATION:Little Theatre\, 240 East Ave. #100\, Rochester\, New York\, 14604\, United States
CATEGORIES:JayceLand 2017-Nov-9
END:VEVENT
BEGIN:VEVENT
DTSTART;TZID=America/New_York:20171111T161500
DTEND;TZID=America/New_York:20171111T181300
DTSTAMP:20260422T024757
CREATED:20171108T180311Z
LAST-MODIFIED:20171108T180311Z
UID:15840-1510416900-1510423980@jayceland.com
SUMMARY:Marshall screening (2017-Nov-11 @ 4:15 p.m.)
DESCRIPTION:The Cinema will screen Marshall (Reginald Hudlin\, U.S. 2017\, 118 min.) "About a young Thurgood Marshall\, the first African-American Supreme Court Justice\, as he battles through one of his career-defining cases." [source: Cinema Theater coming soon page\, 2017-Nov-8]
URL:https://jayceland.com/blog/event/marshall-screening-2017-nov-11-415-p-m/
LOCATION:Cinema Theatre\, 957 S. Clinton Ave.\, Rochester\, New York\, 14620\, United States
CATEGORIES:JayceLand 2017-Nov-9
END:VEVENT
BEGIN:VEVENT
DTSTART;TZID=America/New_York:20171111T190000
DTEND;TZID=America/New_York:20171111T212100
DTSTAMP:20260422T024757
CREATED:20171108T180309Z
LAST-MODIFIED:20171108T180309Z
UID:15827-1510426800-1510435260@jayceland.com
SUMMARY:Kingsman: The Golden Circle screening (2017-Nov-11 @ 7 p.m.)
DESCRIPTION:The Cinema will screen Kingsman: The Golden Circle (Matthew Vaughn\, U.K. / U.S. 2017\, 141 min.) "When their headquarters are destroyed and the world is held hostage\, the Kingsman's journey leads them to the discovery of an allied spy organization in the U.S. These two elite secret organizations must band together to defeat a common enemy." [source: Cinema Theater coming soon page\, 2017-Nov-8]
URL:https://jayceland.com/blog/event/kingsman-the-golden-circle-screening-2017-nov-11-7-p-m/
LOCATION:Cinema Theatre\, 957 S. Clinton Ave.\, Rochester\, New York\, 14620\, United States
CATEGORIES:JayceLand 2017-Nov-9
END:VEVENT
BEGIN:VEVENT
DTSTART;TZID=America/New_York:20171111T193000
DTEND;TZID=America/New_York:20171111T204800
DTSTAMP:20260422T024757
CREATED:20171108T180305Z
LAST-MODIFIED:20171108T180305Z
UID:15807-1510428600-1510433280@jayceland.com
SUMMARY:A Fool There Was screening
DESCRIPTION:The Dryden will screen A Fool There Was (Frank Powell\, U.S. 1915\, 78 min.\, 35mm). The film will be "accompanied live by a new score for chamber ensemble by Philip C. Carli."  \nTheda Bara is probably the most famous American silent film star whose reputation is based on films that are irretrievably lost. Of the forty films she made between 1914 and 1919\, only three survive\, and of those only one displays her as her celebrated persona of a vamp—a woman who preys upon men and exploits their emotional and sexual frailties. That film is A Fool There Was\, based on Porter Emerson Browne's 1909 hit play. It is Bara's first starring role\, and the film's enormous success both built her fortune and secured the future for pioneer producer William Fox and the Fox Film Corporation. \n [source: George Eastman Museum\, 2017-Nov-6]
URL:https://jayceland.com/blog/event/a-fool-there-was-screening/
LOCATION:Dryden Theatre at George Eastman Museum (formerly George Eastman House)\, 900 East Ave.\, Rochester\, New York\, 14607\, United States
CATEGORIES:JayceLand 2017-Nov-9
END:VEVENT
BEGIN:VEVENT
DTSTART;TZID=America/New_York:20171111T193000
DTEND;TZID=America/New_York:20171111T213000
DTSTAMP:20260422T024757
CREATED:20171108T180303Z
LAST-MODIFIED:20171108T180303Z
UID:15794-1510428600-1510435800@jayceland.com
SUMMARY:Guitars In The Round: Bob Sneider\, Petar Kodzas\, Kinloch Nelson (2017-Nov-11 @ 7:30 p.m.)
DESCRIPTION:[source: Bernunzio Uptown Music website\, 2017-Nov-6]
URL:https://jayceland.com/blog/event/guitars-in-the-round-bob-sneider-petar-kodzas-kinloch-nelson-2017-nov-11-730-p-m/
LOCATION:Bernunzio Uptown Music\, 122 East Ave.\, Rochester\, New York\, 14604\, United States
CATEGORIES:JayceLand 2017-Nov-9
END:VEVENT
BEGIN:VEVENT
DTSTART;TZID=America/New_York:20171111T193000
DTEND;TZID=America/New_York:20171111T213000
DTSTAMP:20260422T024757
CREATED:20171108T180307Z
LAST-MODIFIED:20171108T180307Z
UID:15817-1510428600-1510435800@jayceland.com
SUMMARY:Polite Ink. Presents: 1st Annual Benefit For Willow 'Oh Watta Night!'
DESCRIPTION:Polite Ink Sketch and Improv comedy presents Oh Watta Night!\, its inaugural benefit for Willow Domestic Violence Center in Rochester. The show features laugh out loud comedy based on audience suggestions and original material. We promise you'll get a funny feeling when you walk in the room and you'll leave feeling like it ended much too soon! \n [source: RocWiki events\, 2017-Nov-6]
URL:https://jayceland.com/blog/event/polite-ink-presents-1st-annual-benefit-for-willow-oh-watta-night/
LOCATION:Geva Theatre Center\, 75 Woodbury Blvd.\, Rochester\, New York\, 14607\, United States
CATEGORIES:JayceLand 2017-Nov-9
END:VEVENT
BEGIN:VEVENT
DTSTART;TZID=America/New_York:20171111T200000
DTEND;TZID=America/New_York:20171111T220000
DTSTAMP:20260422T024757
CREATED:20171108T180302Z
LAST-MODIFIED:20171108T180302Z
UID:15791-1510430400-1510437600@jayceland.com
SUMMARY:Institute for Creative Music present the Bjork Project
DESCRIPTION:[source: Bop Shop website\, 2017-Nov-6]
URL:https://jayceland.com/blog/event/institute-for-creative-music-present-the-bjork-project/
LOCATION:Bop Shop Records\, 1460 Monroe Ave.\, Rochester\, New York\, 14618\, United States
CATEGORIES:JayceLand 2017-Nov-9
END:VEVENT
BEGIN:VEVENT
DTSTART;TZID=America/New_York:20171111T210000
DTEND;TZID=America/New_York:20171112T010000
DTSTAMP:20260422T024757
CREATED:20171108T180301Z
LAST-MODIFIED:20171108T180301Z
UID:15785-1510434000-1510448400@jayceland.com
SUMMARY:The Dirty Pennies\, River Lynch and The Spirit Makers\, Punch Drunk Tagalongs\, The Cosmodemonic Telegraph Company musical performances
DESCRIPTION:[source: Facebook\, 2017-Nov-6]
URL:https://jayceland.com/blog/event/the-dirty-pennies-river-lynch-and-the-spirit-makers-punch-drunk-tagalongs-the-cosmodemonic-telegraph-company-musical-performances/
LOCATION:Bug Jar\, 219 Monroe Ave\, Rochester\, New York\, 14607\, United States
CATEGORIES:JayceLand 2017-Nov-9
END:VEVENT
BEGIN:VEVENT
DTSTART;TZID=America/New_York:20171111T212500
DTEND;TZID=America/New_York:20171111T232000
DTSTAMP:20260422T024757
CREATED:20171108T180310Z
LAST-MODIFIED:20171108T180310Z
UID:15834-1510435500-1510442400@jayceland.com
SUMMARY:American Made screening (2017-Nov-11 @ 9:25 p.m.)
DESCRIPTION:The Cinema will screen American Made (Doug Limon\, U.S. 2017\, 115 min.) "The story of Barry Seal\, an American pilot who became a drug-runner for the CIA in the 1980s in a clandestine operation that would be exposed as the Iran-Contra Affair." [source: Cinema Theater coming soon page\, 2017-Nov-8]
URL:https://jayceland.com/blog/event/american-made-screening-2017-nov-11-925-p-m/
LOCATION:Cinema Theatre\, 957 S. Clinton Ave.\, Rochester\, New York\, 14620\, United States
CATEGORIES:JayceLand 2017-Nov-9
END:VEVENT
END:VCALENDAR