BEGIN:VCALENDAR
VERSION:2.0
PRODID:-//JayceLand - ECPv6.15.20//NONSGML v1.0//EN
CALSCALE:GREGORIAN
METHOD:PUBLISH
X-ORIGINAL-URL:https://jayceland.com/blog
X-WR-CALDESC:Events for JayceLand
REFRESH-INTERVAL;VALUE=DURATION:PT1H
X-Robots-Tag:noindex
X-PUBLISHED-TTL:PT1H
BEGIN:VTIMEZONE
TZID:America/New_York
BEGIN:DAYLIGHT
TZOFFSETFROM:-0500
TZOFFSETTO:-0400
TZNAME:EDT
DTSTART:20160313T070000
END:DAYLIGHT
BEGIN:STANDARD
TZOFFSETFROM:-0400
TZOFFSETTO:-0500
TZNAME:EST
DTSTART:20161106T060000
END:STANDARD
BEGIN:DAYLIGHT
TZOFFSETFROM:-0500
TZOFFSETTO:-0400
TZNAME:EDT
DTSTART:20170312T070000
END:DAYLIGHT
BEGIN:STANDARD
TZOFFSETFROM:-0400
TZOFFSETTO:-0500
TZNAME:EST
DTSTART:20171105T060000
END:STANDARD
BEGIN:DAYLIGHT
TZOFFSETFROM:-0500
TZOFFSETTO:-0400
TZNAME:EDT
DTSTART:20180311T070000
END:DAYLIGHT
BEGIN:STANDARD
TZOFFSETFROM:-0400
TZOFFSETTO:-0500
TZNAME:EST
DTSTART:20181104T060000
END:STANDARD
END:VTIMEZONE
BEGIN:VEVENT
DTSTART;TZID=America/New_York:20170928T173000
DTEND;TZID=America/New_York:20170928T203000
DTSTAMP:20260420T080813
CREATED:20170927T144108Z
LAST-MODIFIED:20170927T144108Z
UID:14811-1506619800-1506630600@jayceland.com
SUMMARY:Rochester in 1838 Diorama Grand Reopening
DESCRIPTION:Celebrate the 200th anniversary of the Erie Canal and grand reopening of our amazing reconstructed diorama\, "Rochester in 1838." Try your hand at canal-related engineering and postcard design. End the evening with the Erie Canal Bicentennial Concert performed by the Brockport Symphony Orchestra. \n [source: Facebook\, 2017-Sep-25]
URL:https://jayceland.com/blog/event/rochester-in-1838-diorama-grand-reopening/
LOCATION:Rochester Museum and Science Center (RMSC)\, 657 East Ave.\, Rochester\, New York\, 14607\, United States
CATEGORIES:JayceLand 2017-Sep-28
END:VEVENT
BEGIN:VEVENT
DTSTART;TZID=America/New_York:20170928T180000
DTEND;TZID=America/New_York:20170928T190000
DTSTAMP:20260420T080813
CREATED:20170927T144108Z
LAST-MODIFIED:20170927T144108Z
UID:14799-1506621600-1506625200@jayceland.com
SUMMARY:Ahndraya Parlato\, Gregory Halpern discussion: East of the Sun\, West of the Moon
DESCRIPTION:In the Dryden Theatre\, Ahndraya Parlato\, and Gregory Halpern will discuss their collaborative project East of the Sun\, West of the Moon.  \nAhndraya Parlato and Gregory Halpern will discuss their collaborative project East of the Sun\, West of the Moon\, comprising photographs they took on the solstices and equinoxes of 2012 and 2013. The photographers will also share stories from their individual publications. Parlato's A Spectacle and Nothing Strange draws on the artist's experience of being raised by a single mother who was mentally ill. The photographs imagine a world where differing realities may exist while questioning the boundaries of normal\, abnormal\, sane\, and insane. Halpern's recent book ZZYZX begins in the desert east of Los Angeles and moves west through the city to the Pacific revealing a strange harmony of cultures and histories coexisting. \n [source: George Eastman Museum\, 2017-Sep-25]
URL:https://jayceland.com/blog/event/ahndraya-parlato-gregory-halpern-discussion-east-of-the-sun-west-of-the-moon/
LOCATION:Dryden Theatre at George Eastman Museum (formerly George Eastman House)\, 900 East Ave.\, Rochester\, New York\, 14607\, United States
CATEGORIES:JayceLand 2017-Sep-28
END:VEVENT
BEGIN:VEVENT
DTSTART;TZID=America/New_York:20170928T183000
DTEND;TZID=America/New_York:20170928T200000
DTSTAMP:20260420T080813
CREATED:20170927T144108Z
LAST-MODIFIED:20170927T144108Z
UID:14807-1506623400-1506628800@jayceland.com
SUMMARY:Carry On! Shopping Bag Art Exhibition
DESCRIPTION:A new exhibition at the RIT Cary Graphic Arts Collection examines the design and visual impact of shopping bags from the 1960s to today. Famous designers including Andy Warhol\, Yoko Ono and Keith Haring designed some of the bags on display\, part of a collection of nearly 1\,200 bags donated by J. Scott Patnode\, retired curator of the Gonzaga University Jundt Art Museum. Attendees are invited to letterpress-print their own shopping bags as an activity at the opening. \n [source: Rochester City Newspaper events calendar\, 2017-Sep-25]
URL:https://jayceland.com/blog/event/carry-on-shopping-bag-art-exhibition/
LOCATION:Rochester Institute of Technology (RIT)\, 1 Lomb Memorial Dr.\, Rochester\, New York\, 14623\, United States
CATEGORIES:JayceLand 2017-Sep-28
END:VEVENT
BEGIN:VEVENT
DTSTART;TZID=America/New_York:20170928T190000
DTEND;TZID=America/New_York:20170928T212100
DTSTAMP:20260420T080813
CREATED:20170920T165603Z
LAST-MODIFIED:20170920T165603Z
UID:14709-1506625200-1506633660@jayceland.com
SUMMARY:Wonder Woman screening (2017-Sep-28 @ 7 p.m.)
DESCRIPTION:The Cinema will screen Wonder Woman (Patty Jenkins\, U.S. / China / Hong Kong / U.K. / Italy / Canada / New Zealand 2017\, 141 min.) "When a pilot crashes and tells of conflict in the outside world\, Diana\, an Amazonian warrior in training\, leaves home to fight a war\, discovering her full powers and true destiny." [source: Cinema Theater coming soon page\, 2017-Sep-20]
URL:https://jayceland.com/blog/event/wonder-woman-screening-2017-sep-28-7-p-m/
LOCATION:Cinema Theatre\, 957 S. Clinton Ave.\, Rochester\, New York\, 14620\, United States
CATEGORIES:JayceLand 2017-Sep-28
END:VEVENT
BEGIN:VEVENT
DTSTART;TZID=America/New_York:20170928T193000
DTEND;TZID=America/New_York:20170928T203000
DTSTAMP:20260420T080813
CREATED:20170927T144108Z
LAST-MODIFIED:20170927T144108Z
UID:14812-1506627000-1506630600@jayceland.com
SUMMARY:Understanding Veganism class
DESCRIPTION:This class will focus on the history and culture of vegans\, veganism and the vegan way of life.  What's the difference between vegetarianism\, veganism\, and whole food plant based eating? How about flexitarian? Or fruitarian? This class will clarify the difference! A discussion will then follow on the effect that a vegan diet has on your health\, our fellow animals\, and our Earth. Outside resources will also be referenced and shared.  This is a intro level course that will be taught by Elise Banfield who will share her personal vegan story and how and where she began. This class is open to all and will be a positive\, safe\, no judgement zone. Space is limited\, advance registration required. \n [source: Facebook\, 2017-Sep-25]
URL:https://jayceland.com/blog/event/understanding-veganism-class/
LOCATION:540WMain Community Arts Education and Cultural Center\, 540 W. Main St.\, Rochester\, New York\, 14608\, United States
CATEGORIES:JayceLand 2017-Sep-28
END:VEVENT
BEGIN:VEVENT
DTSTART;TZID=America/New_York:20170928T193000
DTEND;TZID=America/New_York:20170928T205800
DTSTAMP:20260420T080813
CREATED:20170927T144108Z
LAST-MODIFIED:20170927T144108Z
UID:14800-1506627000-1506632280@jayceland.com
SUMMARY:Paths of Glory screening (2017-Sep-28 @ 7:30 p.m.)
DESCRIPTION:The Dryden will screen Paths of Glory (Stanley Kubrick\, U.S. 1957\, 88 min.\, 35mm) as part of the WWI series.  \nIn perhaps the greatest of all antiwar films\, Kirk Douglas plays Col. Dax\, the benevolent leader of a platoon of WWI French soldiers who attempts to impede the actions of a maniacal general (George Macready) willing to sacrifice the lives of his men for the sake of praise and promotion. Kubrick's poetic compositions and rich character development add immeasurably to this study of men who maintain true honor and dignity amidst the futility of war. \n [source: George Eastman Museum\, 2017-Sep-25]
URL:https://jayceland.com/blog/event/paths-of-glory-screening-2017-sep-28-730-p-m/
LOCATION:Dryden Theatre at George Eastman Museum (formerly George Eastman House)\, 900 East Ave.\, Rochester\, New York\, 14607\, United States
CATEGORIES:JayceLand 2017-Sep-28
END:VEVENT
BEGIN:VEVENT
DTSTART;TZID=America/New_York:20170928T200000
DTEND;TZID=America/New_York:20170928T220000
DTSTAMP:20260420T080813
CREATED:20170927T144107Z
LAST-MODIFIED:20170927T144107Z
UID:14792-1506628800-1506636000@jayceland.com
SUMMARY:The Comedy Implosion
DESCRIPTION:The Implosion is bringing another 4.0 of a Comedy Show to Three Heads Brewing but this time around it's College Themed. Get in Free with your College ID for a night of laughs\, drinking\, and more! \n [source: Facebook\, 2017-Sep-25]
URL:https://jayceland.com/blog/event/the-comedy-implosion/
LOCATION:Three Heads Brewing\, 186 Atlantic Ave.\, Rochester\, New York\, 14607\, United States
CATEGORIES:JayceLand 2017-Sep-28
END:VEVENT
BEGIN:VEVENT
DTSTART;TZID=America/New_York:20170928T210000
DTEND;TZID=America/New_York:20170928T230000
DTSTAMP:20260420T080813
CREATED:20170927T144106Z
LAST-MODIFIED:20170927T144106Z
UID:14786-1506632400-1506639600@jayceland.com
SUMMARY:Majority Rule\, Druse\, Innerout\, Space Grazer musical performances
DESCRIPTION:[source: Facebook\, 2017-Sep-25]
URL:https://jayceland.com/blog/event/majority-rule-druse-innerout-space-grazer-musical-performances/
LOCATION:Bug Jar\, 219 Monroe Ave\, Rochester\, New York\, 14607\, United States
CATEGORIES:JayceLand 2017-Sep-28
END:VEVENT
BEGIN:VEVENT
DTSTART;TZID=America/New_York:20170928T210000
DTEND;TZID=America/New_York:20170928T230000
DTSTAMP:20260420T080813
CREATED:20170927T144107Z
LAST-MODIFIED:20170927T144107Z
UID:14795-1506632400-1506639600@jayceland.com
SUMMARY:Charlie Parr musical performance (2017-Sep-28 @ 9 p.m.)
DESCRIPTION:Charlie Parr is a roots musician like no other today. The Minnesota musician has built a frenzied following of fans around the world with his energetic performances and 12 records. On his 13th album and Red House Records debut\, Stumpjumper\, Charlie showcases his blistering finger-picking as he switches between acoustic guitar\, dobro and banjo — and keening\, cut-through-the-crowd vocals that resonate with a conviction that runs deep and true. It's the music of a self-taught guitarist and banjo player who grew up with his dad's recordings of America's musical founding fathers\, including Charley Patton and Lightnin' Hopkins\, Woody Guthrie and Leadbelly. His heartfelt and plaintive original folk blues and traditional spirituals don't strive for authenticity: they are authentic. \n [source: Bop Shop website\, 2017-Sep-25]
URL:https://jayceland.com/blog/event/charlie-parr-musical-performance-2017-sep-28-9-p-m/
LOCATION:Abilene Bar and Lounge\, 153 Liberty Pole Way\, Rochester\, New York\, 14604\, United States
CATEGORIES:JayceLand 2017-Sep-28
END:VEVENT
BEGIN:VEVENT
DTSTART;TZID=America/New_York:20170928T212500
DTEND;TZID=America/New_York:20170928T231700
DTSTAMP:20260420T080813
CREATED:20170920T165604Z
LAST-MODIFIED:20170920T165604Z
UID:14716-1506633900-1506640620@jayceland.com
SUMMARY:Baby Driver screening (2017-Sep-28 @ 9:25 p.m.)
DESCRIPTION:The Cinema will screen Baby Driver (Edgar Wright\, U.K. / U.S. 2017\, 112 min.) "After being coerced into working for a crime boss\, a young getaway driver finds himself taking part in a heist doomed to fail." [source: Cinema Theater coming soon page\, 2017-Sep-20]
URL:https://jayceland.com/blog/event/baby-driver-screening-2017-sep-28-925-p-m/
LOCATION:Cinema Theatre\, 957 S. Clinton Ave.\, Rochester\, New York\, 14620\, United States
CATEGORIES:JayceLand 2017-Sep-28
END:VEVENT
END:VCALENDAR