BEGIN:VCALENDAR
VERSION:2.0
PRODID:-//JayceLand - ECPv6.15.20//NONSGML v1.0//EN
CALSCALE:GREGORIAN
METHOD:PUBLISH
X-ORIGINAL-URL:https://jayceland.com/blog
X-WR-CALDESC:Events for JayceLand
REFRESH-INTERVAL;VALUE=DURATION:PT1H
X-Robots-Tag:noindex
X-PUBLISHED-TTL:PT1H
BEGIN:VTIMEZONE
TZID:America/New_York
BEGIN:DAYLIGHT
TZOFFSETFROM:-0500
TZOFFSETTO:-0400
TZNAME:EDT
DTSTART:20160313T070000
END:DAYLIGHT
BEGIN:STANDARD
TZOFFSETFROM:-0400
TZOFFSETTO:-0500
TZNAME:EST
DTSTART:20161106T060000
END:STANDARD
BEGIN:DAYLIGHT
TZOFFSETFROM:-0500
TZOFFSETTO:-0400
TZNAME:EDT
DTSTART:20170312T070000
END:DAYLIGHT
BEGIN:STANDARD
TZOFFSETFROM:-0400
TZOFFSETTO:-0500
TZNAME:EST
DTSTART:20171105T060000
END:STANDARD
BEGIN:DAYLIGHT
TZOFFSETFROM:-0500
TZOFFSETTO:-0400
TZNAME:EDT
DTSTART:20180311T070000
END:DAYLIGHT
BEGIN:STANDARD
TZOFFSETFROM:-0400
TZOFFSETTO:-0500
TZNAME:EST
DTSTART:20181104T060000
END:STANDARD
END:VTIMEZONE
BEGIN:VEVENT
DTSTART;TZID=America/New_York:20170909T210000
DTEND;TZID=America/New_York:20170910T020000
DTSTAMP:20260420T095242
CREATED:20170830T172833Z
LAST-MODIFIED:20170830T172833Z
UID:14399-1504990800-1505008800@jayceland.com
SUMMARY:Lux Birthday Party
DESCRIPTION:Lux is turning 15! Holy Crapola! So\, of course we are having a Huge party! Wheeeeee! Saturday\, September 9th! There will be games\, prizes\, cotton candy\, hot dogs\, and… "20 Penny Circus" will be putting on a show in the backyard! I'm so excited I might pee! Come celebrate with us and let your freak flags flight extra high! Do It! \n [source: Facebook\, 2017-Aug-28]
URL:https://jayceland.com/blog/event/lux-birthday-party/
LOCATION:Lux Lounge\, 666 South Ave.\, Rochester\, New York\, 14620\, United States
CATEGORIES:JayceLand 2017-Sep-7
END:VEVENT
BEGIN:VEVENT
DTSTART;TZID=America/New_York:20170910T100000
DTEND;TZID=America/New_York:20170910T170000
DTSTAMP:20260420T095242
CREATED:20170830T172831Z
LAST-MODIFIED:20170830T172831Z
UID:14383-1505037600-1505062800@jayceland.com
SUMMARY:Clothesline Festival (2017-Sep-10 @ 10 a.m.)
DESCRIPTION:At Rochester's largest and longest-running fine art and crafts festival\, browse and buy original work by New York state artists\, enjoy all-day live entertainment and free family art activities\, and sample food from some of Rochester's favorite vendors. \n [source: Memorial Art Gallery website\, 2017-Aug-28]
URL:https://jayceland.com/blog/event/clothesline-festival-2017-sep-10-10-a-m/
LOCATION:Memorial Art Gallery\, 500 University Ave.\, Rochester\, New York\, 14607\, United States
CATEGORIES:JayceLand 2017-Sep-7
END:VEVENT
BEGIN:VEVENT
DTSTART;TZID=America/New_York:20170910T140000
DTEND;TZID=America/New_York:20170910T160000
DTSTAMP:20260420T095242
CREATED:20170830T172829Z
LAST-MODIFIED:20170830T172829Z
UID:14376-1505052000-1505059200@jayceland.com
SUMMARY:North Section Public Tour (2017-Sep-10 @ 2 p.m.)
DESCRIPTION:This foundational tour is a two-hour walk of approximately one mile on paved roads and uneven terrain. This overview includes the graves of Susan B. Anthony and Frederick Douglass\, as well as topics of local history\, horticulture\, geology\, architecture\, monument symbolism\, and more. \n [source: Friends of Mt. Hope website\, 2017-Aug-28]
URL:https://jayceland.com/blog/event/north-section-public-tour-2017-sep-10-2-p-m/
LOCATION:Mt. Hope Cemetery North Gatehouse\, 791 Mt. Hope Ave.\, Rochester\, New York\, 14620\, United States
CATEGORIES:JayceLand 2017-Sep-7
END:VEVENT
BEGIN:VEVENT
DTSTART;TZID=America/New_York:20170910T140000
DTEND;TZID=America/New_York:20170910T160500
DTSTAMP:20260420T095242
CREATED:20170830T172832Z
LAST-MODIFIED:20170830T172832Z
UID:14394-1505052000-1505059500@jayceland.com
SUMMARY:The Big Parade screening (2017-Sep-10 @ 2 p.m.)
DESCRIPTION:The Dryden will screen The Big Parade (King Vidor\, U.S. 1925\, 125 min.\, 35mm) as part of the WWI series.  \nKing Vidor's poignant account of idealistic\, naive John Gilbert's spiritual maturing in the trenches was the first and perhaps best American WWI epic\, providing a supremely humane and unflinching view of the terrors to Americans who were uncertain of how to deal with the war's residual pain. It remains a brilliant piece of filmmaking and a celebration of inner strength and love that needs to be seen on the big screen. Special screening of a 1931 reissue print with a recorded soundtrack. \n [source: George Eastman Museum \, 2017-Aug-28]
URL:https://jayceland.com/blog/event/the-big-parade-screening-2017-sep-10-2-p-m/
LOCATION:Dryden Theatre at George Eastman Museum (formerly George Eastman House)\, 900 East Ave.\, Rochester\, New York\, 14607\, United States
CATEGORIES:JayceLand 2017-Sep-7
END:VEVENT
BEGIN:VEVENT
DTSTART;TZID=America/New_York:20170910T190000
DTEND;TZID=America/New_York:20170910T204900
DTSTAMP:20260420T095242
CREATED:20170912T182141Z
LAST-MODIFIED:20170912T182141Z
UID:14570-1505070000-1505076540@jayceland.com
SUMMARY:Patti Cake$ screening (2017-Sep-10 @ 7 p.m.)
DESCRIPTION:The Cinema will screen Patti Cake$ (Geremy Jasper\, U.S. 2017\, 108 min.) "Patti Cake$ is centered on aspiring rapper Patricia Dombrowski\, a.k.a. Killa P\, a.k.a. Patti Cake$\, who is fighting an unlikely quest for glory in her downtrodden hometown in New Jersey." [source: Cinema Theater website\, 2017-Sep-12]
URL:https://jayceland.com/blog/event/patti-cake-screening-2017-sep-10-7-p-m/
LOCATION:Cinema Theatre\, 957 S. Clinton Ave.\, Rochester\, New York\, 14620\, United States
CATEGORIES:JayceLand 2017-Sep-7
END:VEVENT
BEGIN:VEVENT
DTSTART;TZID=America/New_York:20170910T205500
DTEND;TZID=America/New_York:20170910T224300
DTSTAMP:20260420T095242
CREATED:20170912T182142Z
LAST-MODIFIED:20170912T182142Z
UID:14591-1505076900-1505083380@jayceland.com
SUMMARY:The Trip to Spain screening (2017-Sep-10 @ 8:55 p.m.)
DESCRIPTION:The Cinema will screen The Trip to Spain (Michael Winterbottom\, U.K. 2017\, 108 min.) "Steve Coogan and Rob Brydon embark on a six-part episodic road trip through Spain\, sampling the restaurants\, eateries\, and sights along the way." [source: Cinema Theater website\, 2017-Sep-12]
URL:https://jayceland.com/blog/event/the-trip-to-spain-screening-2017-sep-10-855-p-m/
LOCATION:Cinema Theatre\, 957 S. Clinton Ave.\, Rochester\, New York\, 14620\, United States
CATEGORIES:JayceLand 2017-Sep-7
END:VEVENT
END:VCALENDAR