BEGIN:VCALENDAR
VERSION:2.0
PRODID:-//JayceLand - ECPv6.15.20//NONSGML v1.0//EN
CALSCALE:GREGORIAN
METHOD:PUBLISH
X-WR-CALNAME:JayceLand
X-ORIGINAL-URL:https://jayceland.com/blog
X-WR-CALDESC:Events for JayceLand
REFRESH-INTERVAL;VALUE=DURATION:PT1H
X-Robots-Tag:noindex
X-PUBLISHED-TTL:PT1H
BEGIN:VTIMEZONE
TZID:America/New_York
BEGIN:DAYLIGHT
TZOFFSETFROM:-0500
TZOFFSETTO:-0400
TZNAME:EDT
DTSTART:20160313T070000
END:DAYLIGHT
BEGIN:STANDARD
TZOFFSETFROM:-0400
TZOFFSETTO:-0500
TZNAME:EST
DTSTART:20161106T060000
END:STANDARD
BEGIN:DAYLIGHT
TZOFFSETFROM:-0500
TZOFFSETTO:-0400
TZNAME:EDT
DTSTART:20170312T070000
END:DAYLIGHT
BEGIN:STANDARD
TZOFFSETFROM:-0400
TZOFFSETTO:-0500
TZNAME:EST
DTSTART:20171105T060000
END:STANDARD
BEGIN:DAYLIGHT
TZOFFSETFROM:-0500
TZOFFSETTO:-0400
TZNAME:EDT
DTSTART:20180311T070000
END:DAYLIGHT
BEGIN:STANDARD
TZOFFSETFROM:-0400
TZOFFSETTO:-0500
TZNAME:EST
DTSTART:20181104T060000
END:STANDARD
END:VTIMEZONE
BEGIN:VEVENT
DTSTART;TZID=America/New_York:20170613T180000
DTEND;TZID=America/New_York:20170613T200000
DTSTAMP:20260422T122747
CREATED:20170607T173601Z
LAST-MODIFIED:20170607T173601Z
UID:13215-1497376800-1497384000@jayceland.com
SUMMARY:Keep America Beautiful Community Input Session
DESCRIPTION:The City of Rochester is starting a partnership with Keep America Beautiful\, America' largest environmental and community improvement network in the country. Their mission is to inspire and educate people to take action every day to improve and beautify their community environment.  Come learn more about this exciting partnership and bring your ideas. Tell us how we can work with Keep America Beautiful to Keep Rochester Beautiful through beautification projects\, litter prevention and waste reduction. \n [source: City of Rochester website\, 2017-Jun-7]
URL:https://jayceland.com/blog/event/keep-america-beautiful-community-input-session/
LOCATION:Water Bureau\, 10 Felix St.\, Rochester\, New York\, 14608\, United States
CATEGORIES:JayceLand 2017-Jun-8
END:VEVENT
BEGIN:VEVENT
DTSTART;TZID=America/New_York:20170613T190000
DTEND;TZID=America/New_York:20170613T205800
DTSTAMP:20260422T122747
CREATED:20170607T173559Z
LAST-MODIFIED:20170607T173559Z
UID:13203-1497380400-1497387480@jayceland.com
SUMMARY:Norman: The Moderate Rise and Tragic Fall of a New York Fixer screening (2017-Jun-13 @ 7 p.m.)
DESCRIPTION:The Cinema will screen Norman: The Moderate Rise and Tragic Fall of a New York Fixer (Joseph Cedar\, Israel / U.S. 2016\, 118 min.) "Norman Oppenheimer is a small time operator who befriends a young politician at a low point in his life. Three years later\, when the politician becomes an influential world leader\, Norman's life dramatically changes for better and worse." [source: Cinema Theater coming soon page\, 2017-Jun-7]
URL:https://jayceland.com/blog/event/norman-the-moderate-rise-and-tragic-fall-of-a-new-york-fixer-screening-2017-jun-13-7-p-m/
LOCATION:Cinema Theatre\, 957 S. Clinton Ave.\, Rochester\, New York\, 14620\, United States
CATEGORIES:JayceLand 2017-Jun-8
END:VEVENT
BEGIN:VEVENT
DTSTART;TZID=America/New_York:20170613T190000
DTEND;TZID=America/New_York:20170613T210000
DTSTAMP:20260422T122747
CREATED:20170524T175711Z
LAST-MODIFIED:20170524T175711Z
UID:12972-1497380400-1497387600@jayceland.com
SUMMARY:Church and State: The Strange Career of "Free Exercise" lecture by Garrett Epps
DESCRIPTION:Garrett Epps is a legal scholar\, nonfiction author and novelist. A graduate of Harvard University and Duke Law School\, he teaches constitutional law\, as well as fiction and nonfiction writing at the University of Baltimore School of Law and is the Supreme Court correspondent for the Atlantic.com. He is a former staff writer for the Washington Post\, and his journalism and criticism have been published in leading national newspapers and magazines. As the author of such works as To an Unknown God: Religious Freedom on Trial; Ten Right-Wing Myths About Our Constitution\, and American Justice 2014: Nine Clashing Visions on the Supreme Court\, he brings an uniquely insightful and informed perspective to the understanding of issues regarding church-state separation. In his upcoming talk\, he will focus on how the "free exercise" of religion guaranteed in the Constitution became a freedom to discriminate. \n [source: Americans United e-mail\, 2017-May-18]
URL:https://jayceland.com/blog/event/church-and-state-the-strange-career-of-free-exercise-lecture-by-garrett-epps/
LOCATION:Brighton Memorial Library\, 2300 Elmwood Ave.\, Rochester\, New York\, 14618\, United States
CATEGORIES:JayceLand 2017-Jun-8
END:VEVENT
BEGIN:VEVENT
DTSTART;TZID=America/New_York:20170613T193000
DTEND;TZID=America/New_York:20170613T213200
DTSTAMP:20260422T122747
CREATED:20170607T173557Z
LAST-MODIFIED:20170607T173557Z
UID:13191-1497382200-1497389520@jayceland.com
SUMMARY:Amarcord screening
DESCRIPTION:The Dryden will screen Amarcord (Federico Fellini\, Italy/France 1973\, 122 min.\, 35mm\, Italian w/subtitles) as part of the Period Dramas series.  \nFrom Romagna\, the region in Italy director Federico Fellini called home\, comes Amarcord\, "I remember." In this beautiful reminiscence\, Fellini takes us back to the (meticulously re-created) coastal town Rimini of his adolescence in the 1930s\, replete with a host of idiosyncratic small-town personalities and anecdotal vignettes. Fellini's most intimate and popular film! \n [source: George Eastman Museum calendar\, 2017-Jun-5]
URL:https://jayceland.com/blog/event/amarcord-screening/
LOCATION:Dryden Theatre at George Eastman Museum (formerly George Eastman House)\, 900 East Ave.\, Rochester\, New York\, 14607\, United States
CATEGORIES:JayceLand 2017-Jun-8
END:VEVENT
BEGIN:VEVENT
DTSTART;TZID=America/New_York:20170613T210000
DTEND;TZID=America/New_York:20170613T223800
DTSTAMP:20260422T122747
CREATED:20170607T173600Z
LAST-MODIFIED:20170607T173600Z
UID:13210-1497387600-1497393480@jayceland.com
SUMMARY:Going in Style screening (2017-Jun-13 @ 9 p.m.)
DESCRIPTION:The Cinema will screen Going in Style (Zach Braff\, U.S. 2017\, 98 min.) "Desperate to pay the bills and come through for their loved ones\, three lifelong pals risk it all by embarking on a daring bid to knock off the very bank that absconded with their money." [source: Cinema Theater coming soon page\, 2017-Jun-7]
URL:https://jayceland.com/blog/event/going-in-style-screening-2017-jun-13-9-p-m/
LOCATION:Cinema Theatre\, 957 S. Clinton Ave.\, Rochester\, New York\, 14620\, United States
CATEGORIES:JayceLand 2017-Jun-8
END:VEVENT
BEGIN:VEVENT
DTSTART;TZID=America/New_York:20170613T210000
DTEND;TZID=America/New_York:20170613T230000
DTSTAMP:20260422T122747
CREATED:20170607T173555Z
LAST-MODIFIED:20170607T173555Z
UID:13179-1497387600-1497394800@jayceland.com
SUMMARY:The Demos\, The Guestlist\, Humble Braggers musical performances
DESCRIPTION:[source: Facebook\, 2017-Jun-5]
URL:https://jayceland.com/blog/event/the-demos-the-guestlist-humble-braggers-musical-performances/
LOCATION:Bug Jar\, 219 Monroe Ave\, Rochester\, New York\, 14607\, United States
CATEGORIES:JayceLand 2017-Jun-8
END:VEVENT
END:VCALENDAR