BEGIN:VCALENDAR
VERSION:2.0
PRODID:-//JayceLand - ECPv6.15.20//NONSGML v1.0//EN
CALSCALE:GREGORIAN
METHOD:PUBLISH
X-ORIGINAL-URL:https://jayceland.com/blog
X-WR-CALDESC:Events for JayceLand
REFRESH-INTERVAL;VALUE=DURATION:PT1H
X-Robots-Tag:noindex
X-PUBLISHED-TTL:PT1H
BEGIN:VTIMEZONE
TZID:America/New_York
BEGIN:DAYLIGHT
TZOFFSETFROM:-0500
TZOFFSETTO:-0400
TZNAME:EDT
DTSTART:20160313T070000
END:DAYLIGHT
BEGIN:STANDARD
TZOFFSETFROM:-0400
TZOFFSETTO:-0500
TZNAME:EST
DTSTART:20161106T060000
END:STANDARD
BEGIN:DAYLIGHT
TZOFFSETFROM:-0500
TZOFFSETTO:-0400
TZNAME:EDT
DTSTART:20170312T070000
END:DAYLIGHT
BEGIN:STANDARD
TZOFFSETFROM:-0400
TZOFFSETTO:-0500
TZNAME:EST
DTSTART:20171105T060000
END:STANDARD
BEGIN:DAYLIGHT
TZOFFSETFROM:-0500
TZOFFSETTO:-0400
TZNAME:EDT
DTSTART:20180311T070000
END:DAYLIGHT
BEGIN:STANDARD
TZOFFSETFROM:-0400
TZOFFSETTO:-0500
TZNAME:EST
DTSTART:20181104T060000
END:STANDARD
END:VTIMEZONE
BEGIN:VEVENT
DTSTART;TZID=America/New_York:20170612T133000
DTEND;TZID=America/New_York:20170612T151400
DTSTAMP:20260422T130900
CREATED:20170607T173557Z
LAST-MODIFIED:20170607T173557Z
UID:13190-1497274200-1497280440@jayceland.com
SUMMARY:The Scarlet Empress screening (2017-Jun-12 @ 1:30 p.m.)
DESCRIPTION:The Dryden will screen The Scarlet Empress (Josef von Sternberg\, U.S. 1934\, 104 min.\, 16mm) as part of the Period Dramas series.  \nOverlooked by both critics and audiences when Paramount released it in 1934\, this breathtaking historical drama is now considered one of the most innovative productions of the sound era. It is certainly an audacious and baroque entry in the Marlene Dietrich—Josef von Sternberg series\, a collaboration that still spellbinds moviegoers around the world. Ostensibly a biography of Catherine the Great\, the film is also a witty exploration of sexuality and gender roles. Dietrich is exhilarating as the cynical empress in one of the most sumptuous films ever made. Free for ages 55 and older. \n [source: George Eastman Museum calendar\, 2017-Jun-5]
URL:https://jayceland.com/blog/event/the-scarlet-empress-screening-2017-jun-12-130-p-m/
LOCATION:Dryden Theatre at George Eastman Museum (formerly George Eastman House)\, 900 East Ave.\, Rochester\, New York\, 14607\, United States
CATEGORIES:JayceLand 2017-Jun-8
END:VEVENT
BEGIN:VEVENT
DTSTART;TZID=America/New_York:20170612T190000
DTEND;TZID=America/New_York:20170612T205800
DTSTAMP:20260422T130900
CREATED:20170607T173559Z
LAST-MODIFIED:20170607T173559Z
UID:13202-1497294000-1497301080@jayceland.com
SUMMARY:Norman: The Moderate Rise and Tragic Fall of a New York Fixer screening (2017-Jun-12 @ 7 p.m.)
DESCRIPTION:The Cinema will screen Norman: The Moderate Rise and Tragic Fall of a New York Fixer (Joseph Cedar\, Israel / U.S. 2016\, 118 min.) "Norman Oppenheimer is a small time operator who befriends a young politician at a low point in his life. Three years later\, when the politician becomes an influential world leader\, Norman's life dramatically changes for better and worse." [source: Cinema Theater coming soon page\, 2017-Jun-7]
URL:https://jayceland.com/blog/event/norman-the-moderate-rise-and-tragic-fall-of-a-new-york-fixer-screening-2017-jun-12-7-p-m/
LOCATION:Cinema Theatre\, 957 S. Clinton Ave.\, Rochester\, New York\, 14620\, United States
CATEGORIES:JayceLand 2017-Jun-8
END:VEVENT
BEGIN:VEVENT
DTSTART;TZID=America/New_York:20170612T210000
DTEND;TZID=America/New_York:20170612T223800
DTSTAMP:20260422T130900
CREATED:20170607T173600Z
LAST-MODIFIED:20170607T173600Z
UID:13209-1497301200-1497307080@jayceland.com
SUMMARY:Going in Style screening (2017-Jun-12 @ 9 p.m.)
DESCRIPTION:The Cinema will screen Going in Style (Zach Braff\, U.S. 2017\, 98 min.) "Desperate to pay the bills and come through for their loved ones\, three lifelong pals risk it all by embarking on a daring bid to knock off the very bank that absconded with their money." [source: Cinema Theater coming soon page\, 2017-Jun-7]
URL:https://jayceland.com/blog/event/going-in-style-screening-2017-jun-12-9-p-m/
LOCATION:Cinema Theatre\, 957 S. Clinton Ave.\, Rochester\, New York\, 14620\, United States
CATEGORIES:JayceLand 2017-Jun-8
END:VEVENT
END:VCALENDAR