BEGIN:VCALENDAR
VERSION:2.0
PRODID:-//JayceLand - ECPv6.15.20//NONSGML v1.0//EN
CALSCALE:GREGORIAN
METHOD:PUBLISH
X-WR-CALNAME:JayceLand
X-ORIGINAL-URL:https://jayceland.com/blog
X-WR-CALDESC:Events for JayceLand
REFRESH-INTERVAL;VALUE=DURATION:PT1H
X-Robots-Tag:noindex
X-PUBLISHED-TTL:PT1H
BEGIN:VTIMEZONE
TZID:America/New_York
BEGIN:DAYLIGHT
TZOFFSETFROM:-0500
TZOFFSETTO:-0400
TZNAME:EDT
DTSTART:20160313T070000
END:DAYLIGHT
BEGIN:STANDARD
TZOFFSETFROM:-0400
TZOFFSETTO:-0500
TZNAME:EST
DTSTART:20161106T060000
END:STANDARD
BEGIN:DAYLIGHT
TZOFFSETFROM:-0500
TZOFFSETTO:-0400
TZNAME:EDT
DTSTART:20170312T070000
END:DAYLIGHT
BEGIN:STANDARD
TZOFFSETFROM:-0400
TZOFFSETTO:-0500
TZNAME:EST
DTSTART:20171105T060000
END:STANDARD
BEGIN:DAYLIGHT
TZOFFSETFROM:-0500
TZOFFSETTO:-0400
TZNAME:EDT
DTSTART:20180311T070000
END:DAYLIGHT
BEGIN:STANDARD
TZOFFSETFROM:-0400
TZOFFSETTO:-0500
TZNAME:EST
DTSTART:20181104T060000
END:STANDARD
END:VTIMEZONE
BEGIN:VEVENT
DTSTART;TZID=America/New_York:20170606T190000
DTEND;TZID=America/New_York:20170606T203800
DTSTAMP:20260423T182335
CREATED:20170503T171137Z
LAST-MODIFIED:20170503T171137Z
UID:12654-1496775600-1496781480@jayceland.com
SUMMARY:Almost Sunrise screening
DESCRIPTION:The Cinema will screen Almost Sunrise (Michael Collins\, U.S. 2016\, 98 min.) as part of the Reel Mind Film Festival.  \nThe moving story of two Iraq veterans\, Tom Voss and Anthony Anderson\, both tormented by depression for years after they returned home and felt pushed to the edge of suicide. Embarking on an extraordinary journey — a 2\,700 mile walk across the country from Wisconsin to California — the two men not only raise awareness of the plight of veterans\, but reflect on their own haunting experiences and ultimately\, fight to save themselves. \n [source: Reel Mind Film Festival website calendar\, 2017-May-1]
URL:https://jayceland.com/blog/event/almost-sunrise-screening/
LOCATION:Cinema Theatre\, 957 S. Clinton Ave.\, Rochester\, New York\, 14620\, United States
CATEGORIES:JayceLand 2017-Jun-1
END:VEVENT
BEGIN:VEVENT
DTSTART;TZID=America/New_York:20170606T193000
DTEND;TZID=America/New_York:20170606T213900
DTSTAMP:20260423T182335
CREATED:20170531T165716Z
LAST-MODIFIED:20170531T165716Z
UID:13100-1496777400-1496785140@jayceland.com
SUMMARY:Fellini Satyricon screening
DESCRIPTION:The Dryden will screen Fellini Satyricon (Federico Fellini\, Italy 1969\, 129 min.\, 35mm; Italian w/subtitles) as part of the Period Dramas series.  \nOf all Fellini's films\, this is perhaps his most quintessentially Fellini-esque\, consistently serving up grotesque carnival excess and spectacle. Loosely adapted from Petronius's lurid Ancient Rome farrago\, Fellini Satyricon freely follows the alternatingly bloody and randy adventures of the young poet Encolpius (Martin Potter)\, whose desperate infatuation with an androgynous piece of jailbait (Max Born) gets him in all kinds of trouble. \n [source: George Eastman Museum calendar\, 2017-May-29]
URL:https://jayceland.com/blog/event/fellini-satyricon-screening/
LOCATION:Dryden Theatre at George Eastman Museum (formerly George Eastman House)\, 900 East Ave.\, Rochester\, New York\, 14607\, United States
CATEGORIES:JayceLand 2017-Jun-1
END:VEVENT
END:VCALENDAR