BEGIN:VCALENDAR
VERSION:2.0
PRODID:-//JayceLand - ECPv6.15.20//NONSGML v1.0//EN
CALSCALE:GREGORIAN
METHOD:PUBLISH
X-WR-CALNAME:JayceLand
X-ORIGINAL-URL:https://jayceland.com/blog
X-WR-CALDESC:Events for JayceLand
REFRESH-INTERVAL;VALUE=DURATION:PT1H
X-Robots-Tag:noindex
X-PUBLISHED-TTL:PT1H
BEGIN:VTIMEZONE
TZID:America/New_York
BEGIN:DAYLIGHT
TZOFFSETFROM:-0500
TZOFFSETTO:-0400
TZNAME:EDT
DTSTART:20160313T070000
END:DAYLIGHT
BEGIN:STANDARD
TZOFFSETFROM:-0400
TZOFFSETTO:-0500
TZNAME:EST
DTSTART:20161106T060000
END:STANDARD
BEGIN:DAYLIGHT
TZOFFSETFROM:-0500
TZOFFSETTO:-0400
TZNAME:EDT
DTSTART:20170312T070000
END:DAYLIGHT
BEGIN:STANDARD
TZOFFSETFROM:-0400
TZOFFSETTO:-0500
TZNAME:EST
DTSTART:20171105T060000
END:STANDARD
BEGIN:DAYLIGHT
TZOFFSETFROM:-0500
TZOFFSETTO:-0400
TZNAME:EDT
DTSTART:20180311T070000
END:DAYLIGHT
BEGIN:STANDARD
TZOFFSETFROM:-0400
TZOFFSETTO:-0500
TZNAME:EST
DTSTART:20181104T060000
END:STANDARD
END:VTIMEZONE
BEGIN:VEVENT
DTSTART;TZID=America/New_York:20170605T133000
DTEND;TZID=America/New_York:20170605T152900
DTSTAMP:20260419T120056
CREATED:20170531T165716Z
LAST-MODIFIED:20170531T165716Z
UID:13099-1496669400-1496676540@jayceland.com
SUMMARY:Pretty Woman screening (2017-Jun-5 @ 1:30 p.m.)
DESCRIPTION:The Dryden will screen Pretty Woman (Garry Marshall\, U.S. 1990\, 119 min.\, 35mm) as part of the Eastman Entertains series.  \nOne of the quintessential romantic movies of the 1990s\, Pretty Woman is a compulsively watchable and immensely entertaining riff on the ancient Cinderella myth of Prince Charming on a white horse. In a breakthrough role\, Julia Roberts shines as a kindhearted hooker rescued by a wealthy businessman in the suave shape of Richard Gere. This colorful catalogue of irresistible clichés has charmed critics and international audiences alike\, while acquiring the status of a proper camp classic in certain circles. \n [source: George Eastman Museum calendar\, 2017-May-8]
URL:https://jayceland.com/blog/event/pretty-woman-screening-2017-jun-5-130-p-m/
LOCATION:Dryden Theatre at George Eastman Museum (formerly George Eastman House)\, 900 East Ave.\, Rochester\, New York\, 14607\, United States
CATEGORIES:JayceLand 2017-Jun-1
END:VEVENT
BEGIN:VEVENT
DTSTART;TZID=America/New_York:20170605T173000
DTEND;TZID=America/New_York:20170605T183000
DTSTAMP:20260419T120056
CREATED:20170531T165715Z
LAST-MODIFIED:20170531T165715Z
UID:13087-1496683800-1496687400@jayceland.com
SUMMARY:Home Preservation of Foods: Preparing for the Summer's Harvest with Master Gardener Melanie Popick
DESCRIPTION:A basic overview of all methods related to food preservation: Canning of fruits\, vegetables\, pickles\, and salsa; Dehydration of fruits\, vegetables\, and herbs; Pressure canning of fruits and vegetables; Freezing of fruits and vegetables; Fermentation. \n [source: Monroe County Library website\, 2017-May-29]
URL:https://jayceland.com/blog/event/home-preservation-of-foods-preparing-for-the-summers-harvest-with-master-gardener-melanie-popick/
LOCATION:Frederick Douglass Community Library (formerly Highland Library)\, 971 South Ave.\, Rochester\, New York\, 14620\, United States
CATEGORIES:JayceLand 2017-Jun-1
END:VEVENT
BEGIN:VEVENT
DTSTART;TZID=America/New_York:20170605T183000
DTEND;TZID=America/New_York:20170605T194200
DTSTAMP:20260419T120056
CREATED:20170531T165714Z
LAST-MODIFIED:20170531T165714Z
UID:13076-1496687400-1496691720@jayceland.com
SUMMARY:Real Boy screening
DESCRIPTION:The Little will screen Real Boy (Shaleece Haas\, U.S. 2016\, 72 min.) followed by a discussion with film subjects Bennett Wallace\, and Joe Stevens as part of the Indie Lens Pop-Up series.  \nReal Boy is the coming-of-age story of Bennett\, a trans teenager with dreams of musical stardom. During the first two years of his gender transition\, as Bennett works to repair a strained relationship with his family\, he is taken under the wing of his friend and musical hero\, celebrated trans folk singer Joe Stevens. \n [source: Little Theatre website\, 2017-May-29]
URL:https://jayceland.com/blog/event/real-boy-screening/
LOCATION:Little Theatre\, 240 East Ave. #100\, Rochester\, New York\, 14604\, United States
CATEGORIES:JayceLand 2017-Jun-1
END:VEVENT
BEGIN:VEVENT
DTSTART;TZID=America/New_York:20170605T190000
DTEND;TZID=America/New_York:20170605T211600
DTSTAMP:20260419T120056
CREATED:20170531T165717Z
LAST-MODIFIED:20170531T165717Z
UID:13113-1496689200-1496697360@jayceland.com
SUMMARY:The Fate of the Furious screening (2017-Jun-5 @ 7 p.m.)
DESCRIPTION:The Cinema will screen The Fate of the Furious (F. Gary Gray\, U.S. 2017\, 136 min.) "When a mysterious woman seduces Dom into the world of terrorism and a betrayal of those closest to him\, the crew face trials that will test them as never before." [source: Cinema Theater coming soon page\, 2017-May-31]
URL:https://jayceland.com/blog/event/the-fate-of-the-furious-screening-2017-jun-5-7-p-m/
LOCATION:Cinema Theatre\, 957 S. Clinton Ave.\, Rochester\, New York\, 14620\, United States
CATEGORIES:JayceLand 2017-Jun-1
END:VEVENT
BEGIN:VEVENT
DTSTART;TZID=America/New_York:20170605T200000
DTEND;TZID=America/New_York:20170605T220000
DTSTAMP:20260419T120056
CREATED:20170531T165715Z
LAST-MODIFIED:20170531T165715Z
UID:13080-1496692800-1496700000@jayceland.com
SUMMARY:David Murray and El'Zabar Duo musical performance
DESCRIPTION:For over 15 years\, Bop Shop Records has had a happy and productive relationship with Aacm master percussionist Kahil El'Zabar. Going back to 2000 when he first brought his main band\, the Ethnic Heritage Ensemble\, to the atrium at Village Gate\, he has graced us with several versions of his various ensembles. Earlier in 2016\, we presented an edition of the Ethnic Heritage Ensemble featuring trombonist Craig Harris and baritone saxophonist Hamiet Blueitt. Back in 2001\, we presented the duo of El'Zabar and violinist Billy Bang. But perhaps our most well-attended concert was a duet set with saxophonist David Murray in 2000. And we are proud that it resulted in the album We Is: Live At The Bop Shop\, released on Delmark Records to great acclaim.  \n [source: Bop Shop website\, 2017-May-29]
URL:https://jayceland.com/blog/event/david-murray-and-elzabar-duo-musical-performance/
LOCATION:Bop Shop Records\, 1460 Monroe Ave.\, Rochester\, New York\, 14618\, United States
CATEGORIES:JayceLand 2017-Jun-1
END:VEVENT
BEGIN:VEVENT
DTSTART;TZID=America/New_York:20170605T212000
DTEND;TZID=America/New_York:20170605T230400
DTSTAMP:20260419T120056
CREATED:20170531T165717Z
LAST-MODIFIED:20170531T165717Z
UID:13119-1496697600-1496703840@jayceland.com
SUMMARY:Get Out screening (2017-Jun-5 @ 9:20 p.m.)
DESCRIPTION:The Cinema will screen Get Out (Jordan Peele\, U.S. 2017\, 104 min.) "It's time for a young African American to meet with his white girlfriend's parents for a weekend in their secluded estate in the woods\, but before long\, the friendly and polite ambience will give way to a nightmare." [source: Cinema Theater coming soon page\, 2017-May-31]
URL:https://jayceland.com/blog/event/get-out-screening-2017-jun-5-920-p-m/
LOCATION:Cinema Theatre\, 957 S. Clinton Ave.\, Rochester\, New York\, 14620\, United States
CATEGORIES:JayceLand 2017-Jun-1
END:VEVENT
END:VCALENDAR