BEGIN:VCALENDAR
VERSION:2.0
PRODID:-//JayceLand - ECPv6.15.20//NONSGML v1.0//EN
CALSCALE:GREGORIAN
METHOD:PUBLISH
X-WR-CALNAME:JayceLand
X-ORIGINAL-URL:https://jayceland.com/blog
X-WR-CALDESC:Events for JayceLand
REFRESH-INTERVAL;VALUE=DURATION:PT1H
X-Robots-Tag:noindex
X-PUBLISHED-TTL:PT1H
BEGIN:VTIMEZONE
TZID:America/New_York
BEGIN:DAYLIGHT
TZOFFSETFROM:-0500
TZOFFSETTO:-0400
TZNAME:EDT
DTSTART:20160313T070000
END:DAYLIGHT
BEGIN:STANDARD
TZOFFSETFROM:-0400
TZOFFSETTO:-0500
TZNAME:EST
DTSTART:20161106T060000
END:STANDARD
BEGIN:DAYLIGHT
TZOFFSETFROM:-0500
TZOFFSETTO:-0400
TZNAME:EDT
DTSTART:20170312T070000
END:DAYLIGHT
BEGIN:STANDARD
TZOFFSETFROM:-0400
TZOFFSETTO:-0500
TZNAME:EST
DTSTART:20171105T060000
END:STANDARD
BEGIN:DAYLIGHT
TZOFFSETFROM:-0500
TZOFFSETTO:-0400
TZNAME:EDT
DTSTART:20180311T070000
END:DAYLIGHT
BEGIN:STANDARD
TZOFFSETFROM:-0400
TZOFFSETTO:-0500
TZNAME:EST
DTSTART:20181104T060000
END:STANDARD
END:VTIMEZONE
BEGIN:VEVENT
DTSTART;TZID=America/New_York:20170517T190000
DTEND;TZID=America/New_York:20170517T211700
DTSTAMP:20260423T015643
CREATED:20170512T205017Z
LAST-MODIFIED:20170512T205017Z
UID:12837-1495047600-1495055820@jayceland.com
SUMMARY:Logan screening (2017-May-17 @ 7 p.m.)
DESCRIPTION:The Cinema will screen Logan (James Mangold\, U.S. / Canada / Australia 2017\, 137 min.) "Wolverine is retired in hiding as he nurses an ailing Professor X as the Mutants are everything but extinct. But then he is recruited to protect a young mutant girl with many of his same powers who is being pursued by nefarious forces." [source: Cinema e-mail\, 2017-May-11]
URL:https://jayceland.com/blog/event/logan-screening-2017-may-17-7-p-m/
LOCATION:Cinema Theatre\, 957 S. Clinton Ave.\, Rochester\, New York\, 14620\, United States
CATEGORIES:JayceLand 2017-May-11
END:VEVENT
BEGIN:VEVENT
DTSTART;TZID=America/New_York:20170517T193000
DTEND;TZID=America/New_York:20170517T212900
DTSTAMP:20260423T015643
CREATED:20170510T192017Z
LAST-MODIFIED:20170510T192017Z
UID:12796-1495049400-1495056540@jayceland.com
SUMMARY:Pretty Woman screening
DESCRIPTION:The Dryden will screen Pretty Woman (Garry Marshall\, U.S. 1990\, 119 min.\, 35mm) as part of the Eastman Entertains series.  \nOne of the quintessential romantic movies of the 1990s\, Pretty Woman is a compulsively watchable and immensely entertaining riff on the ancient Cinderella myth of Prince Charming on a white horse. In a breakthrough role\, Julia Roberts shines as a kindhearted hooker rescued by a wealthy businessman in the suave shape of Richard Gere. This colorful catalogue of irresistible clichés has charmed critics and international audiences alike\, while acquiring the status of a proper camp classic in certain circles. \n [source: George Eastman Museum calendar\, 2017-May-8]
URL:https://jayceland.com/blog/event/pretty-woman-screening/
LOCATION:Dryden Theatre at George Eastman Museum (formerly George Eastman House)\, 900 East Ave.\, Rochester\, New York\, 14607\, United States
CATEGORIES:JayceLand 2017-May-11
END:VEVENT
BEGIN:VEVENT
DTSTART;TZID=America/New_York:20170517T212000
DTEND;TZID=America/New_York:20170517T231800
DTSTAMP:20260423T015643
CREATED:20170512T205017Z
LAST-MODIFIED:20170512T205017Z
UID:12844-1495056000-1495063080@jayceland.com
SUMMARY:Kong: Skull Island screening (2017-May-17 @ 9:20 p.m.)
DESCRIPTION:The Cinema will screen Kong: Skull Island (Jordan Vogt-Roberts\, U.S. / China / Australia / Canada 2017\, 118 min.) "The second feature 'Kong: Skull Island' reimagines the original tale as monster hunters explore an uncharted island in the South Pacific to explore the exotic creatures and hostile landscape when they trespass into the territory of the great creature." [source: Cinema e-mail\, 2017-May-11]
URL:https://jayceland.com/blog/event/kong-skull-island-screening-2017-may-17-920-p-m/
LOCATION:Cinema Theatre\, 957 S. Clinton Ave.\, Rochester\, New York\, 14620\, United States
CATEGORIES:JayceLand 2017-May-11
END:VEVENT
END:VCALENDAR