BEGIN:VCALENDAR
VERSION:2.0
PRODID:-//JayceLand - ECPv6.15.20//NONSGML v1.0//EN
CALSCALE:GREGORIAN
METHOD:PUBLISH
X-ORIGINAL-URL:https://jayceland.com/blog
X-WR-CALDESC:Events for JayceLand
REFRESH-INTERVAL;VALUE=DURATION:PT1H
X-Robots-Tag:noindex
X-PUBLISHED-TTL:PT1H
BEGIN:VTIMEZONE
TZID:America/New_York
BEGIN:DAYLIGHT
TZOFFSETFROM:-0500
TZOFFSETTO:-0400
TZNAME:EDT
DTSTART:20160313T070000
END:DAYLIGHT
BEGIN:STANDARD
TZOFFSETFROM:-0400
TZOFFSETTO:-0500
TZNAME:EST
DTSTART:20161106T060000
END:STANDARD
BEGIN:DAYLIGHT
TZOFFSETFROM:-0500
TZOFFSETTO:-0400
TZNAME:EDT
DTSTART:20170312T070000
END:DAYLIGHT
BEGIN:STANDARD
TZOFFSETFROM:-0400
TZOFFSETTO:-0500
TZNAME:EST
DTSTART:20171105T060000
END:STANDARD
BEGIN:DAYLIGHT
TZOFFSETFROM:-0500
TZOFFSETTO:-0400
TZNAME:EDT
DTSTART:20180311T070000
END:DAYLIGHT
BEGIN:STANDARD
TZOFFSETFROM:-0400
TZOFFSETTO:-0500
TZNAME:EST
DTSTART:20181104T060000
END:STANDARD
END:VTIMEZONE
BEGIN:VEVENT
DTSTART;TZID=America/New_York:20170515T133000
DTEND;TZID=America/New_York:20170515T152500
DTSTAMP:20260420T080721
CREATED:20170510T192017Z
LAST-MODIFIED:20170510T192017Z
UID:12791-1494855000-1494861900@jayceland.com
SUMMARY:Breakfast at Tiffany's screening (2017-May-15 @ 1:30 p.m.)
DESCRIPTION:The Dryden will screen Breakfast at Tiffany's (Blake Edwards\, U.S. 1961\, 115 min.\, 35mm) as part of the Eastman Entertains series.  \nIn her most cherished performance\, Audrey Hepburn stars as Truman Capote's heroine Holly Golightly in one of the most enduring of Hollywood romances. Small-town girl Holly and her pal Cat find a home among the compulsively hip in New York City\, but when Holly falls for George Peppard\, "kept man" of Patricia Neal\, cracks start to show in her mod faÃ§ade. \n [source: George Eastman Museum calendar\, 2017-May-8]
URL:https://jayceland.com/blog/event/breakfast-at-tiffanys-screening-2017-may-15-130-p-m/
LOCATION:Dryden Theatre at George Eastman Museum (formerly George Eastman House)\, 900 East Ave.\, Rochester\, New York\, 14607\, United States
CATEGORIES:JayceLand 2017-May-11
END:VEVENT
BEGIN:VEVENT
DTSTART;TZID=America/New_York:20170515T183000
DTEND;TZID=America/New_York:20170515T203000
DTSTAMP:20260420T080721
CREATED:20170503T171135Z
LAST-MODIFIED:20170503T171135Z
UID:12633-1494873000-1494880200@jayceland.com
SUMMARY:Electric Car Information Session
DESCRIPTION:As a kick-off the Curb Your Car Week\, Kat Fisher\, New York Electric Vehicle Initiative Representative for the national Sierra Club\, will present EV Basics and Advocacy Opportunities. Learn why Sierra Club supports Electric Vehicles; Learn what models are available\, charging options\, incentives\, and how to advocate for clean car policy. Check out Electric Vehicles and ask EV owners questions. \n [source: Color Brighton Green website\, 2017-May-1]
URL:https://jayceland.com/blog/event/electric-car-information-session/
LOCATION:Brighton Memorial Library\, 2300 Elmwood Ave.\, Rochester\, New York\, 14618\, United States
CATEGORIES:JayceLand 2017-May-11
END:VEVENT
BEGIN:VEVENT
DTSTART;TZID=America/New_York:20170515T190000
DTEND;TZID=America/New_York:20170515T200000
DTSTAMP:20260420T080721
CREATED:20170510T192018Z
LAST-MODIFIED:20170510T192018Z
UID:12804-1494874800-1494878400@jayceland.com
SUMMARY:Public Meeting—2017 Water Main Cleaning and Lining Project
DESCRIPTION:The purpose of this meeting is to discuss the 2017 Water Main Cleaning and Lining Project in detail and answer questions. Residents\, property owners and business owners in the project area are encouraged to attend this meeting. \n [source: City of Rochester website\, 2017-May-10]
URL:https://jayceland.com/blog/event/public-meeting-2017-water-main-cleaning-and-lining-project/
LOCATION:Water Bureau\, 10 Felix St.\, Rochester\, New York\, 14608\, United States
CATEGORIES:JayceLand 2017-May-11
END:VEVENT
BEGIN:VEVENT
DTSTART;TZID=America/New_York:20170515T190000
DTEND;TZID=America/New_York:20170515T211700
DTSTAMP:20260420T080721
CREATED:20170512T205017Z
LAST-MODIFIED:20170512T205017Z
UID:12835-1494874800-1494883020@jayceland.com
SUMMARY:Logan screening (2017-May-15 @ 7 p.m.)
DESCRIPTION:The Cinema will screen Logan (James Mangold\, U.S. / Canada / Australia 2017\, 137 min.) "Wolverine is retired in hiding as he nurses an ailing Professor X as the Mutants are everything but extinct. But then he is recruited to protect a young mutant girl with many of his same powers who is being pursued by nefarious forces." [source: Cinema e-mail\, 2017-May-11]
URL:https://jayceland.com/blog/event/logan-screening-2017-may-15-7-p-m/
LOCATION:Cinema Theatre\, 957 S. Clinton Ave.\, Rochester\, New York\, 14620\, United States
CATEGORIES:JayceLand 2017-May-11
END:VEVENT
BEGIN:VEVENT
DTSTART;TZID=America/New_York:20170515T212000
DTEND;TZID=America/New_York:20170515T231800
DTSTAMP:20260420T080721
CREATED:20170512T205017Z
LAST-MODIFIED:20170512T205017Z
UID:12842-1494883200-1494890280@jayceland.com
SUMMARY:Kong: Skull Island screening (2017-May-15 @ 9:20 p.m.)
DESCRIPTION:The Cinema will screen Kong: Skull Island (Jordan Vogt-Roberts\, U.S. / China / Australia / Canada 2017\, 118 min.) "The second feature 'Kong: Skull Island' reimagines the original tale as monster hunters explore an uncharted island in the South Pacific to explore the exotic creatures and hostile landscape when they trespass into the territory of the great creature." [source: Cinema e-mail\, 2017-May-11]
URL:https://jayceland.com/blog/event/kong-skull-island-screening-2017-may-15-920-p-m/
LOCATION:Cinema Theatre\, 957 S. Clinton Ave.\, Rochester\, New York\, 14620\, United States
CATEGORIES:JayceLand 2017-May-11
END:VEVENT
END:VCALENDAR