BEGIN:VCALENDAR
VERSION:2.0
PRODID:-//JayceLand - ECPv6.15.20//NONSGML v1.0//EN
CALSCALE:GREGORIAN
METHOD:PUBLISH
X-WR-CALNAME:JayceLand
X-ORIGINAL-URL:https://jayceland.com/blog
X-WR-CALDESC:Events for JayceLand
REFRESH-INTERVAL;VALUE=DURATION:PT1H
X-Robots-Tag:noindex
X-PUBLISHED-TTL:PT1H
BEGIN:VTIMEZONE
TZID:America/New_York
BEGIN:DAYLIGHT
TZOFFSETFROM:-0500
TZOFFSETTO:-0400
TZNAME:EDT
DTSTART:20160313T070000
END:DAYLIGHT
BEGIN:STANDARD
TZOFFSETFROM:-0400
TZOFFSETTO:-0500
TZNAME:EST
DTSTART:20161106T060000
END:STANDARD
BEGIN:DAYLIGHT
TZOFFSETFROM:-0500
TZOFFSETTO:-0400
TZNAME:EDT
DTSTART:20170312T070000
END:DAYLIGHT
BEGIN:STANDARD
TZOFFSETFROM:-0400
TZOFFSETTO:-0500
TZNAME:EST
DTSTART:20171105T060000
END:STANDARD
BEGIN:DAYLIGHT
TZOFFSETFROM:-0500
TZOFFSETTO:-0400
TZNAME:EDT
DTSTART:20180311T070000
END:DAYLIGHT
BEGIN:STANDARD
TZOFFSETFROM:-0400
TZOFFSETTO:-0500
TZNAME:EST
DTSTART:20181104T060000
END:STANDARD
END:VTIMEZONE
BEGIN:VEVENT
DTSTART;TZID=America/New_York:20170510T180000
DTEND;TZID=America/New_York:20170510T193000
DTSTAMP:20260423T111224
CREATED:20170419T173946Z
LAST-MODIFIED:20170419T173946Z
UID:12406-1494439200-1494444600@jayceland.com
SUMMARY:Understanding and Managing The Impact of Sleep Disorders on Mental Health lecture by Beth Hoh\, LCSW-R\, CGP
DESCRIPTION:Learn about available resources\, treatments and practical strategies you can use to manage the impact of sleep disorders on your daily life. \n [source: Mental Health Association e-mail\, 2017-Apr-13]
URL:https://jayceland.com/blog/event/understanding-and-managing-the-impact-of-sleep-disorders-on-mental-health-lecture-by-beth-hoh-lcsw-r-cgp/
LOCATION:Mental Health Association\, 320 N. Goodman St. Ste. 202\, Rochester\, New York\, 14607\, United States
CATEGORIES:JayceLand 2017-May-4
END:VEVENT
BEGIN:VEVENT
DTSTART;TZID=America/New_York:20170510T183000
DTEND;TZID=America/New_York:20170510T203000
DTSTAMP:20260423T111224
CREATED:20170503T171135Z
LAST-MODIFIED:20170503T171135Z
UID:12637-1494441000-1494448200@jayceland.com
SUMMARY:Genesee Land Trust Presents Native Plant Gardening From Start to Finish with Michael Hannen
DESCRIPTION:Presented by Michael Hannen\, owner and operator of a small\, sustainable perennial nursery in the upper Monroe neighborhood\, grows and propagates over 800 rare and unique perennial varieties for sun and shade\, in his .2 acre backyard lot\, in recycled reusable pots. \n [source: Monroe County Library website\, 2017-May-1]
URL:https://jayceland.com/blog/event/genesee-land-trust-presents-native-plant-gardening-from-start-to-finish-with-michael-hannen/
LOCATION:Brighton Memorial Library\, 2300 Elmwood Ave.\, Rochester\, New York\, 14618\, United States
CATEGORIES:JayceLand 2017-May-4
END:VEVENT
BEGIN:VEVENT
DTSTART;TZID=America/New_York:20170510T190000
DTEND;TZID=America/New_York:20170510T200000
DTSTAMP:20260423T111224
CREATED:20170503T171136Z
LAST-MODIFIED:20170503T171136Z
UID:12636-1494442800-1494446400@jayceland.com
SUMMARY:Beyond Susan B. Anthony Part 2: Hidden Heroes of Women's Suffrage lecture by Jack Kowiak
DESCRIPTION:Jack Kowiak will present a program on the hidden heroes of the women's suffrage movement. In the efforts to honor the contributions of Susan B. Anthony\, Lucretia Mott and Elizabeth Cady Stanton\, we often ignore the contributions of other key individuals. This talk discusses the contributions of Lucy Stone\, Frances Willard\, Carrie Catt and Alice Paul. They were fascinating women who make significant contributions in the dramatic fight for women's suffrage. \n [source: Monroe County Library website\, 2017-May-1]
URL:https://jayceland.com/blog/event/beyond-susan-b-anthony-part-2-hidden-heroes-of-womens-suffrage-lecture-by-jack-kowiak/
LOCATION:Chili Public Library\, 3333 Chili Ave.\, Chili\, New York\, 14624\, United States
CATEGORIES:JayceLand 2017-May-4
END:VEVENT
BEGIN:VEVENT
DTSTART;TZID=America/New_York:20170510T190000
DTEND;TZID=America/New_York:20170510T200000
DTSTAMP:20260423T111224
CREATED:20170503T171139Z
LAST-MODIFIED:20170503T171139Z
UID:12682-1494442800-1494446400@jayceland.com
SUMMARY:Public Meeting—Cleaning and Structurally Lining of Water Mains 2017
DESCRIPTION:Please attend this important meeting to discuss this year's water main cleaning and lining project. The project manager will inform residents about the project and address concerns. \n [source: City of Rochester website\, 2017-May-3]
URL:https://jayceland.com/blog/event/public-meeting-cleaning-and-structurally-lining-of-water-mains-2017/
LOCATION:Water Bureau\, 10 Felix St.\, Rochester\, New York\, 14608\, United States
CATEGORIES:JayceLand 2017-May-4
END:VEVENT
BEGIN:VEVENT
DTSTART;TZID=America/New_York:20170510T190000
DTEND;TZID=America/New_York:20170510T204800
DTSTAMP:20260423T111224
CREATED:20170503T171139Z
LAST-MODIFIED:20170503T171139Z
UID:12673-1494442800-1494449280@jayceland.com
SUMMARY:The Last Word screening (2017-May-10 @ 7 p.m.)
DESCRIPTION:The Cinema will screen The Last Word (Mark Pellington\, U.S. 2017\, 108 min.) "Harriet is a retired businesswoman who tries to control everything around her. When she decides to write her own obituary\, a young journalist takes up the task of finding out the truth resulting in a life-altering friendship." [source: Cinema Theater coming soon page\, 2017-May-3]
URL:https://jayceland.com/blog/event/the-last-word-screening-2017-may-10-7-p-m/
LOCATION:Cinema Theatre\, 957 S. Clinton Ave.\, Rochester\, New York\, 14620\, United States
CATEGORIES:JayceLand 2017-May-4
END:VEVENT
BEGIN:VEVENT
DTSTART;TZID=America/New_York:20170510T193000
DTEND;TZID=America/New_York:20170510T213000
DTSTAMP:20260423T111224
CREATED:20170503T171135Z
LAST-MODIFIED:20170503T171135Z
UID:12630-1494444600-1494451800@jayceland.com
SUMMARY:Chapter Meeting: Corsica's GR20 Trail: The Toughest Long Distance
DESCRIPTION:Don Berens will present a lecture titled Corsica's GR20 Trail: The Toughest Long Distance at the Adirondack Mountain Club\, Genesee Valley Chapter Meeting in the Eisenhart Auditorium of the Rochester Museum and Science Center.  \nEurope has dozens of long-distance hiking trails\, each called a Grande Randonee (French)\, Gran Recorrido (Spanish)\, Grote Routepaden (Dutch)\, or simply "GR." The spectacular 118-mile GR20 traverses Corsica — the French Mediterranean island known as "The Isle of Beauty" and "The Granite Isle"\, 2/3 of which is comprised of mountains featuring 121 summits over 6600'. To do the GR20 means taking on its 41\,000 feet of ascent\, and another 41\,000 feet of descent. \n [source: Adirondack Mountain Club\, Genesee Valley Chapter website\, 2017-May-1]
URL:https://jayceland.com/blog/event/chapter-meeting-corsicas-gr20-trail-the-toughest-long-distance/
LOCATION:Rochester Museum and Science Center (RMSC)\, 657 East Ave.\, Rochester\, New York\, 14607\, United States
CATEGORIES:JayceLand 2017-May-4
END:VEVENT
BEGIN:VEVENT
DTSTART;TZID=America/New_York:20170510T193000
DTEND;TZID=America/New_York:20170510T215800
DTSTAMP:20260423T111224
CREATED:20170503T171138Z
LAST-MODIFIED:20170503T171138Z
UID:12658-1494444600-1494453480@jayceland.com
SUMMARY:Marie Antoinette screening
DESCRIPTION:The Dryden will screen Marie Antoinette (W. S. Van Dyke\, U.S. 1938\, 148 min.\, 35mm) as part of the Eastman Entertains series.  \nAcademy Award winner Norma Shearer stars with Tyrone Power in the story of a beautiful\, intelligent\, and ultimately heroic woman destroyed by the tidal wave of revolution sweeping across Europe: the ill-fated Queen of France\, Marie Antoinette. A young Austrian princess forced to marry the French dauphin to seal an alliance between the two decadent\, crumbling empires\, Marie Antoinette (Shearer) seeks sexual fulfillment outside her marriage and eventually finds love in the arms of the dashing Count Axel de Fersen (Power). But when King Louis XV dies suddenly and Marie Antoinette becomes queen\, she ends her relationship with Fersen and devotes herself to France. Her efforts come too late\, however\, as revolution sweeps the king and queen from power\, and Marie Antoinette fearlessly walks to the guillotine. This lavish production was one of the most successful films of the 1930s\, nominated for four Academy Awards\, and was the last film produced by the legendary Irving Thalberg before his untimely death. \n [source: George Eastman Museum calendar\, 2017-May-1]
URL:https://jayceland.com/blog/event/marie-antoinette-screening/
LOCATION:Dryden Theatre at George Eastman Museum (formerly George Eastman House)\, 900 East Ave.\, Rochester\, New York\, 14607\, United States
CATEGORIES:JayceLand 2017-May-4
END:VEVENT
BEGIN:VEVENT
DTSTART;TZID=America/New_York:20170510T205000
DTEND;TZID=America/New_York:20170510T223400
DTSTAMP:20260423T111224
CREATED:20170503T171139Z
LAST-MODIFIED:20170503T171139Z
UID:12679-1494449400-1494455640@jayceland.com
SUMMARY:Life screening (2017-May-10 @ 8:50 p.m.)
DESCRIPTION:The Cinema will screen Life (Daniel Espinosa\, U.S. 2017\, 104 min.) "A team of scientists aboard the International Space Station discover a rapidly evolving life form\, that caused extinction on Mars\, and now threatens the crew and all life on Earth." [source: Cinema Theater coming soon page\, 2017-May-3]
URL:https://jayceland.com/blog/event/life-screening-2017-may-10-850-p-m/
LOCATION:Cinema Theatre\, 957 S. Clinton Ave.\, Rochester\, New York\, 14620\, United States
CATEGORIES:JayceLand 2017-May-4
END:VEVENT
BEGIN:VEVENT
DTSTART;TZID=America/New_York:20170510T210000
DTEND;TZID=America/New_York:20170510T230000
DTSTAMP:20260423T111224
CREATED:20170503T171135Z
LAST-MODIFIED:20170503T171135Z
UID:12629-1494450000-1494457200@jayceland.com
SUMMARY:Tommy Brunett Band musical performance (2017-May-10 @ 9 p.m.)
DESCRIPTION:[source: Dinosaur Bar-B-Que website\, 2017-May-1]
URL:https://jayceland.com/blog/event/tommy-brunett-band-musical-performance-2017-may-10-9-p-m/
LOCATION:Dinosaur Bar-B-Que\, 99 Court St.\, Rochester\, New York\, 14604\, United States
CATEGORIES:JayceLand 2017-May-4
END:VEVENT
END:VCALENDAR