BEGIN:VCALENDAR
VERSION:2.0
PRODID:-//JayceLand - ECPv6.15.20//NONSGML v1.0//EN
CALSCALE:GREGORIAN
METHOD:PUBLISH
X-ORIGINAL-URL:https://jayceland.com/blog
X-WR-CALDESC:Events for JayceLand
REFRESH-INTERVAL;VALUE=DURATION:PT1H
X-Robots-Tag:noindex
X-PUBLISHED-TTL:PT1H
BEGIN:VTIMEZONE
TZID:America/New_York
BEGIN:DAYLIGHT
TZOFFSETFROM:-0500
TZOFFSETTO:-0400
TZNAME:EDT
DTSTART:20160313T070000
END:DAYLIGHT
BEGIN:STANDARD
TZOFFSETFROM:-0400
TZOFFSETTO:-0500
TZNAME:EST
DTSTART:20161106T060000
END:STANDARD
BEGIN:DAYLIGHT
TZOFFSETFROM:-0500
TZOFFSETTO:-0400
TZNAME:EDT
DTSTART:20170312T070000
END:DAYLIGHT
BEGIN:STANDARD
TZOFFSETFROM:-0400
TZOFFSETTO:-0500
TZNAME:EST
DTSTART:20171105T060000
END:STANDARD
BEGIN:DAYLIGHT
TZOFFSETFROM:-0500
TZOFFSETTO:-0400
TZNAME:EDT
DTSTART:20180311T070000
END:DAYLIGHT
BEGIN:STANDARD
TZOFFSETFROM:-0400
TZOFFSETTO:-0500
TZNAME:EST
DTSTART:20181104T060000
END:STANDARD
END:VTIMEZONE
BEGIN:VEVENT
DTSTART;TZID=America/New_York:20170425T100000
DTEND;TZID=America/New_York:20170425T140000
DTSTAMP:20260422T024917
CREATED:20170412T170514Z
LAST-MODIFIED:20170412T170514Z
UID:12312-1493114400-1493128800@jayceland.com
SUMMARY:Free Community Shred Day
DESCRIPTION:Local residents will have the opportunity to dispose of confidential documents in a safe and secure manner. Documents will be inserted into locked containers\, shredded and sent to a paper mill for recycling\, protecting your identity and the environment at the same time. Please limit three file boxes per person\, no appointment is necessary. \n [source: Classified Scanning & Shredding website\, 2017-Apr-10]
URL:https://jayceland.com/blog/event/free-community-shred-day/
LOCATION:Classified Scanning and Shredding\, 425 Paul Rd.\, Chili\, NY\, 14624\, United States
CATEGORIES:JayceLand 2017-Apr-20
END:VEVENT
BEGIN:VEVENT
DTSTART;TZID=America/New_York:20170425T190000
DTEND;TZID=America/New_York:20170425T203000
DTSTAMP:20260422T024917
CREATED:20170412T170512Z
LAST-MODIFIED:20170412T170512Z
UID:12288-1493146800-1493152200@jayceland.com
SUMMARY:Neve (Snowscape) screening
DESCRIPTION:The Little will screen Neve (Snowscape\, Stefano Incerti\, Italy 2013\, 90 min.) as part of the Italian Film Festival.  \nA man travels in a station wagon\, looking for something\, perhaps the loot from a forgotten robbery. A woman is abandoned then chased by a small-time gangster\, from whom she may have stolen something big. Why does Donato decide to help Norah\, and take along her with him on his mysterious trip? Why doesn't Norah leave Donato? Why does she stay with him to very end\, to find out what´s truly behind his search? A chance encounter between two desperate souls backed into a corner. Against the backdrop of a barely recognizable Italian province. A place-less landscape forever buried in snow. \n [source: Little Theatre website\, 2017-Apr-10]
URL:https://jayceland.com/blog/event/neve-snowscape-screening/
LOCATION:Little Theatre\, 240 East Ave. #100\, Rochester\, New York\, 14604\, United States
CATEGORIES:JayceLand 2017-Apr-20
END:VEVENT
BEGIN:VEVENT
DTSTART;TZID=America/New_York:20170425T190000
DTEND;TZID=America/New_York:20170425T205100
DTSTAMP:20260422T024917
CREATED:20170419T173948Z
LAST-MODIFIED:20170419T173948Z
UID:12435-1493146800-1493153460@jayceland.com
SUMMARY:A United Kingdom screening (2017-Apr-25 @ 7 p.m.)
DESCRIPTION:The Cinema will screen A United Kingdom (Amma Asante\, Czech Republic / U.K. / U.S. 2016\, 111 min.) "The story of King Seretse Khama of Botswana and how his loving but controversial marriage to a British white woman\, Ruth Williams\, put his kingdom into political and diplomatic turmoil." [source: Cinema Theater coming soon page\, 2017-Apr-19]
URL:https://jayceland.com/blog/event/a-united-kingdom-screening-2017-apr-25-7-p-m/
LOCATION:Cinema Theatre\, 957 S. Clinton Ave.\, Rochester\, New York\, 14620\, United States
CATEGORIES:JayceLand 2017-Apr-20
END:VEVENT
BEGIN:VEVENT
DTSTART;TZID=America/New_York:20170425T190000
DTEND;TZID=America/New_York:20170425T210000
DTSTAMP:20260422T024917
CREATED:20170419T173946Z
LAST-MODIFIED:20170419T173946Z
UID:12415-1493146800-1493154000@jayceland.com
SUMMARY:Kinloch Nelson musical performance
DESCRIPTION:Abilene will host talented singer-guitarist Kinloch Nelson.  \nSolo fingerstyle guitarist Kinloch Nelson – Kinloch Nelson performs a synthesis of folk\, jazz\, classical\, rock\, American popular music\, and original compositions. His programs run from J.S. Bach to John B. Sebastian and may include references to Miles Davis\, Franz Schubert\, John Fahey\, Leo Kottke\, The Ventures\, Flatt and Scruggs\, and the occasional TV theme. \n [source: Abilene calendar page\, 2017-Apr-17]
URL:https://jayceland.com/blog/event/kinloch-nelson-musical-performance/
LOCATION:Abilene Bar and Lounge\, 153 Liberty Pole Way\, Rochester\, New York\, 14604\, United States
CATEGORIES:JayceLand 2017-Apr-20
END:VEVENT
BEGIN:VEVENT
DTSTART;TZID=America/New_York:20170425T193000
DTEND;TZID=America/New_York:20170425T210100
DTSTAMP:20260422T024917
CREATED:20170419T173947Z
LAST-MODIFIED:20170419T173947Z
UID:12428-1493148600-1493154060@jayceland.com
SUMMARY:The Whispering Chorus screening
DESCRIPTION:The Dryden will screen The Whispering Chorus (Cecil B. Demille\, U.S. 1918\, 91 min.\, 35mm) with live piano accompaniment by Philip C. Carli as part of both the 12 Postcards from Prison\, and Silent Tuesdays series.  \nAn embezzler fakes his own death and assumes another identity when his firm launches an investigation. Soon he is charged with his own murder\, and then discovers that his wife has remarried and is expecting a child. Will he take his secret to the electric chair to ensure her happiness? DeMille turned heads with his use of double imagery and lighting to show the psychological experience of the protagonist in this technically innovative film. \n [source: George Eastman Museum calendar\, 2017-Apr-17]
URL:https://jayceland.com/blog/event/the-whispering-chorus-screening/
LOCATION:Dryden Theatre at George Eastman Museum (formerly George Eastman House)\, 900 East Ave.\, Rochester\, New York\, 14607\, United States
CATEGORIES:JayceLand 2017-Apr-20
END:VEVENT
BEGIN:VEVENT
DTSTART;TZID=America/New_York:20170425T200000
DTEND;TZID=America/New_York:20170425T220000
DTSTAMP:20260422T024917
CREATED:20170419T173946Z
LAST-MODIFIED:20170419T173946Z
UID:12416-1493150400-1493157600@jayceland.com
SUMMARY:Kinky Friedman\, Brian Molnar musical performances
DESCRIPTION:The slightly unorthodox Texas version of Will Rogers and Mark Twain\, makes a rare Rochester appearance. Kinky is a country singer\, songwriter\, novelist\, humorist\, and politician who styles himself in the mold of popular American satirists. Kinky is known for his satiric songs such as\, "They Ain't Makin' Jews Like Jesus Anymore\," "Asshole from El Paso\," "I'm The Loneliest Man I Ever Met\," and many\, many more classics. \n [source: Abilene calendar page\, 2017-Apr-17]
URL:https://jayceland.com/blog/event/kinky-friedman-brian-molnar-musical-performances/
LOCATION:One East Avenue\, 1 East Ave.\, Rochester\, New York\, 14604\, United States
CATEGORIES:JayceLand 2017-Apr-20
END:VEVENT
BEGIN:VEVENT
DTSTART;TZID=America/New_York:20170425T205500
DTEND;TZID=America/New_York:20170425T230700
DTSTAMP:20260422T024917
CREATED:20170419T173948Z
LAST-MODIFIED:20170419T173948Z
UID:12442-1493153700-1493161620@jayceland.com
SUMMARY:The Shack screening (2017-Apr-25 @ 8:55 p.m.)
DESCRIPTION:The Cinema will screen The Shack (Stuart Hazeldine\, U.S. 2017\, 132 min.) "A grieving man receives a mysterious\, personal invitation to meet with God at a place called 'The Shack.'" [source: Cinema Theater coming soon page\, 2017-Apr-19]
URL:https://jayceland.com/blog/event/the-shack-screening-2017-apr-25-855-p-m/
LOCATION:Cinema Theatre\, 957 S. Clinton Ave.\, Rochester\, New York\, 14620\, United States
CATEGORIES:JayceLand 2017-Apr-20
END:VEVENT
BEGIN:VEVENT
DTSTART;TZID=America/New_York:20170425T210000
DTEND;TZID=America/New_York:20170425T230000
DTSTAMP:20260422T024917
CREATED:20170419T173946Z
LAST-MODIFIED:20170419T173946Z
UID:12414-1493154000-1493161200@jayceland.com
SUMMARY:Dialysis\, Blurring\, Coming Down\, Treadwater musical performances
DESCRIPTION:[source: Facebook\, 2017-Apr-17]
URL:https://jayceland.com/blog/event/dialysis-blurring-coming-down-treadwater-musical-performances/
LOCATION:Bug Jar\, 219 Monroe Ave\, Rochester\, New York\, 14607\, United States
CATEGORIES:JayceLand 2017-Apr-20
END:VEVENT
END:VCALENDAR