BEGIN:VCALENDAR
VERSION:2.0
PRODID:-//JayceLand - ECPv6.15.20//NONSGML v1.0//EN
CALSCALE:GREGORIAN
METHOD:PUBLISH
X-ORIGINAL-URL:https://jayceland.com/blog
X-WR-CALDESC:Events for JayceLand
REFRESH-INTERVAL;VALUE=DURATION:PT1H
X-Robots-Tag:noindex
X-PUBLISHED-TTL:PT1H
BEGIN:VTIMEZONE
TZID:America/New_York
BEGIN:DAYLIGHT
TZOFFSETFROM:-0500
TZOFFSETTO:-0400
TZNAME:EDT
DTSTART:20160313T070000
END:DAYLIGHT
BEGIN:STANDARD
TZOFFSETFROM:-0400
TZOFFSETTO:-0500
TZNAME:EST
DTSTART:20161106T060000
END:STANDARD
BEGIN:DAYLIGHT
TZOFFSETFROM:-0500
TZOFFSETTO:-0400
TZNAME:EDT
DTSTART:20170312T070000
END:DAYLIGHT
BEGIN:STANDARD
TZOFFSETFROM:-0400
TZOFFSETTO:-0500
TZNAME:EST
DTSTART:20171105T060000
END:STANDARD
BEGIN:DAYLIGHT
TZOFFSETFROM:-0500
TZOFFSETTO:-0400
TZNAME:EDT
DTSTART:20180311T070000
END:DAYLIGHT
BEGIN:STANDARD
TZOFFSETFROM:-0400
TZOFFSETTO:-0500
TZNAME:EST
DTSTART:20181104T060000
END:STANDARD
END:VTIMEZONE
BEGIN:VEVENT
DTSTART;TZID=America/New_York:20170424T133000
DTEND;TZID=America/New_York:20170424T155400
DTSTAMP:20260419T174247
CREATED:20170419T173947Z
LAST-MODIFIED:20170419T173947Z
UID:12427-1493040600-1493049240@jayceland.com
SUMMARY:The Shining screening (2017-Apr-24 @ 1:30 p.m.)
DESCRIPTION:The Dryden will screen The Shining (Stanley Kubrick\, U.K./U.S. 1980\, 144 min.\, 35mm).  \nSeeking inspiration and relaxation\, troubled writer Jack Torrance (Jack Nicholson) accepts a job as wintertime caretaker for a hotel in Colorado. Soon\, a case of cabin fever spells trouble for Jack's wife (Shelley Duvall) and psychic young son (Danny Lloyd). The visuals in Kubrick's adaptation of Stephen King's novel have always shocked audiences\, and will never look better than in the gorgeous new 35mm print that the George Eastman Museum acquired recently. \n [source: George Eastman Museum calendar\, 2017-Apr-10]
URL:https://jayceland.com/blog/event/the-shining-screening-2017-apr-24-130-p-m/
LOCATION:Dryden Theatre at George Eastman Museum (formerly George Eastman House)\, 900 East Ave.\, Rochester\, New York\, 14607\, United States
CATEGORIES:JayceLand 2017-Apr-20
END:VEVENT
BEGIN:VEVENT
DTSTART;TZID=America/New_York:20170424T190000
DTEND;TZID=America/New_York:20170424T203200
DTSTAMP:20260419T174247
CREATED:20170421T160422Z
LAST-MODIFIED:20170421T160443Z
UID:12488-1493060400-1493065920@jayceland.com
SUMMARY:National Bird screening
DESCRIPTION:The Little will screen National Bird (Sonia Kennebeck\, U.S. 2016\, 92 min.) as part of the Indie Lens Pop-Up Series.  \nNational Bird follows the dramatic journey of three whistleblowers who are determined to break the silence around one of the most controversial current affairs issues of our time: The secret U. S. drone war. At the center of the film are three U.S. veterans. Tortured by guilt over participating in the killing of faceless people in foreign countries\, they decide to speak out publicly\, despite the possible consequences. Their stories take dramatic turns\, leading one of the protagonists to Afghanistan where she learns about a horrendous incident. But her journey also gives hope for peace and redemption. National Bird gives rare insight into the U.S. drone program through the eyes of veterans and survivors\, connecting their stories as never seen before in a documentary. \n [source: WXXI website\, 2017-Apr-21]
URL:https://jayceland.com/blog/event/national-bird-screening/
LOCATION:Little Theatre\, 240 East Ave. #100\, Rochester\, New York\, 14604\, United States
CATEGORIES:JayceLand 2017-Apr-20
END:VEVENT
BEGIN:VEVENT
DTSTART;TZID=America/New_York:20170424T190000
DTEND;TZID=America/New_York:20170424T205100
DTSTAMP:20260419T174247
CREATED:20170419T173948Z
LAST-MODIFIED:20170419T173948Z
UID:12434-1493060400-1493067060@jayceland.com
SUMMARY:A United Kingdom screening (2017-Apr-24 @ 7 p.m.)
DESCRIPTION:The Cinema will screen A United Kingdom (Amma Asante\, Czech Republic / U.K. / U.S. 2016\, 111 min.) "The story of King Seretse Khama of Botswana and how his loving but controversial marriage to a British white woman\, Ruth Williams\, put his kingdom into political and diplomatic turmoil." [source: Cinema Theater coming soon page\, 2017-Apr-19]
URL:https://jayceland.com/blog/event/a-united-kingdom-screening-2017-apr-24-7-p-m/
LOCATION:Cinema Theatre\, 957 S. Clinton Ave.\, Rochester\, New York\, 14620\, United States
CATEGORIES:JayceLand 2017-Apr-20
END:VEVENT
BEGIN:VEVENT
DTSTART;TZID=America/New_York:20170424T205500
DTEND;TZID=America/New_York:20170424T230700
DTSTAMP:20260419T174247
CREATED:20170419T173948Z
LAST-MODIFIED:20170419T173948Z
UID:12441-1493067300-1493075220@jayceland.com
SUMMARY:The Shack screening (2017-Apr-24 @ 8:55 p.m.)
DESCRIPTION:The Cinema will screen The Shack (Stuart Hazeldine\, U.S. 2017\, 132 min.) "A grieving man receives a mysterious\, personal invitation to meet with God at a place called 'The Shack.'" [source: Cinema Theater coming soon page\, 2017-Apr-19]
URL:https://jayceland.com/blog/event/the-shack-screening-2017-apr-24-855-p-m/
LOCATION:Cinema Theatre\, 957 S. Clinton Ave.\, Rochester\, New York\, 14620\, United States
CATEGORIES:JayceLand 2017-Apr-20
END:VEVENT
END:VCALENDAR