BEGIN:VCALENDAR
VERSION:2.0
PRODID:-//JayceLand - ECPv6.15.20//NONSGML v1.0//EN
CALSCALE:GREGORIAN
METHOD:PUBLISH
X-WR-CALNAME:JayceLand
X-ORIGINAL-URL:https://jayceland.com/blog
X-WR-CALDESC:Events for JayceLand
REFRESH-INTERVAL;VALUE=DURATION:PT1H
X-Robots-Tag:noindex
X-PUBLISHED-TTL:PT1H
BEGIN:VTIMEZONE
TZID:America/New_York
BEGIN:DAYLIGHT
TZOFFSETFROM:-0500
TZOFFSETTO:-0400
TZNAME:EDT
DTSTART:20160313T070000
END:DAYLIGHT
BEGIN:STANDARD
TZOFFSETFROM:-0400
TZOFFSETTO:-0500
TZNAME:EST
DTSTART:20161106T060000
END:STANDARD
BEGIN:DAYLIGHT
TZOFFSETFROM:-0500
TZOFFSETTO:-0400
TZNAME:EDT
DTSTART:20170312T070000
END:DAYLIGHT
BEGIN:STANDARD
TZOFFSETFROM:-0400
TZOFFSETTO:-0500
TZNAME:EST
DTSTART:20171105T060000
END:STANDARD
BEGIN:DAYLIGHT
TZOFFSETFROM:-0500
TZOFFSETTO:-0400
TZNAME:EDT
DTSTART:20180311T070000
END:DAYLIGHT
BEGIN:STANDARD
TZOFFSETFROM:-0400
TZOFFSETTO:-0500
TZNAME:EST
DTSTART:20181104T060000
END:STANDARD
END:VTIMEZONE
BEGIN:VEVENT
DTSTART;TZID=America/New_York:20170418T121200
DTEND;TZID=America/New_York:20170418T125200
DTSTAMP:20260421T231210
CREATED:20170407T142553Z
LAST-MODIFIED:20170407T142553Z
UID:12272-1492517520-1492519920@jayceland.com
SUMMARY:Books Sandwiched In: Jeff DiVeronica reviews Forward: A Memoir by Abby Wambach
DESCRIPTION:In the Kate Gleason Auditorium of the Bausch and Lomb Library Building\, Jeff DiVeronica will review Forward: A memoir by Abby Wambach.  \nAbby Wambach has always pushed the limits of what is possible. But her professional success often masked her inner struggle to reconcile the various parts of herself: ferocious competitor\, daughter\, leader\, wife. Much more than a sports recap\, this memoir highlights our hometown hero facing her life's challenges with fearlessness and heart. \n [source: Friends & Foundation of Rochester Public Library e-mail\, 2017-Apr-6]
URL:https://jayceland.com/blog/event/books-sandwiched-in-jeff-diveronica-reviews-forward-a-memoir-by-abby-wambach/
LOCATION:Bausch and Lomb Library Building\, 110 South Ave.\, Rochester\, New York\, 14604\, United States
CATEGORIES:JayceLand 2017-Apr-13
END:VEVENT
BEGIN:VEVENT
DTSTART;TZID=America/New_York:20170418T163000
DTEND;TZID=America/New_York:20170418T181400
DTSTAMP:20260421T231210
CREATED:20170412T170516Z
LAST-MODIFIED:20170412T170516Z
UID:12335-1492533000-1492539240@jayceland.com
SUMMARY:The Lego Batman Movie screening (2017-Apr-18 @ 4:30 p.m.)
DESCRIPTION:The Cinema will screen The Lego Batman Movie (Chris McKay\, U.S. / Denmark 2017\, 104 min.) "A cooler-than-ever Bruce Wayne must deal with the usual suspects as they plan to rule Gotham City\, while discovering that he has accidentally adopted a teenage orphan who wishes to become his sidekick." [source: Cinema Theater coming soon page\, 2017-Apr-12]
URL:https://jayceland.com/blog/event/the-lego-batman-movie-screening-2017-apr-18-430-p-m/
LOCATION:Cinema Theatre\, 957 S. Clinton Ave.\, Rochester\, New York\, 14620\, United States
CATEGORIES:JayceLand 2017-Apr-13
END:VEVENT
BEGIN:VEVENT
DTSTART;TZID=America/New_York:20170418T190000
DTEND;TZID=America/New_York:20170418T210000
DTSTAMP:20260421T231210
CREATED:20170412T170513Z
LAST-MODIFIED:20170412T170513Z
UID:12296-1492542000-1492549200@jayceland.com
SUMMARY:Hard Hitting Songs for Hard Hit People — A Performance from Mat Callahan and Yvonne Moore
DESCRIPTION:Mat and Yvonne present a new repertoire of songs selected at the request of the Brooklyn Folk Festival\, where they perform April 29 th\, 2017. The program commemorates the 50th anniversary of the publication of a songbook\, "Hard Hitting Songs for Hard Hit People." This songbook was compiled by Alan Lomax\, Woody Guthrie and Pete Seeger and contains more than one hundred songs composed by American workers and farmers in the 1920's\, '30's and '40's. The duet's performance features the songs of Sara Ogan Gunning\, Aunt Molly Jackson\, Jim Garland\, Ella May Wiggins\, John Handcox and Woody Guthrie and includes history as well as music.  \n [source: Flying Squirrel website\, 2017-Apr-10]
URL:https://jayceland.com/blog/event/hard-hitting-songs-for-hard-hit-people-a-performance-from-mat-callahan-and-yvonne-moore/
LOCATION:Flying Squirrel Community Space\, 285 Clarissa St.\, Rochester\, New York\, 14608\, United States
CATEGORIES:JayceLand 2017-Apr-13
END:VEVENT
BEGIN:VEVENT
DTSTART;TZID=America/New_York:20170418T190000
DTEND;TZID=America/New_York:20170418T210200
DTSTAMP:20260421T231210
CREATED:20170412T170515Z
LAST-MODIFIED:20170412T170515Z
UID:12321-1492542000-1492549320@jayceland.com
SUMMARY:John Wick: Chapter 2 screening (2017-Apr-18 @ 7 p.m.)
DESCRIPTION:The Cinema will screen John Wick: Chapter 2 (Chad Stahelski\, U.S. 2017\, 122 min.) "After returning to the criminal underworld to repay a debt\, John Wick discovers that a large bounty has been put on his life." [source: Cinema Theater coming soon page\, 2017-Apr-12]
URL:https://jayceland.com/blog/event/john-wick-chapter-2-screening-2017-apr-18-7-p-m/
LOCATION:Cinema Theatre\, 957 S. Clinton Ave.\, Rochester\, New York\, 14620\, United States
CATEGORIES:JayceLand 2017-Apr-13
END:VEVENT
BEGIN:VEVENT
DTSTART;TZID=America/New_York:20170418T193000
DTEND;TZID=America/New_York:20170418T205300
DTSTAMP:20260421T231210
CREATED:20170412T170514Z
LAST-MODIFIED:20170412T170514Z
UID:12310-1492543800-1492548780@jayceland.com
SUMMARY:Caged Heat screening
DESCRIPTION:The Dryden will screen Caged Heat (Jonathan Demme\, U.S. 1974\, 83 min.\, 35mm) as part of the 12 Postcards from Prison series.  \nA sadistic\, wheelchair-bound warden subjects her inmates to shock treatments and lobotomies in Caged Heat\, a cult favorite among women-in-prison movie fans and a feature debut of Jonathan Demme who later returned to a prison setting in a more respectable The Silence of the Lambs. The musical score is by Ex-Velvet Underground member John Cale. \n [source: George Eastman Museum calendar\, 2017-Apr-10]
URL:https://jayceland.com/blog/event/caged-heat-screening/
LOCATION:Dryden Theatre at George Eastman Museum (formerly George Eastman House)\, 900 East Ave.\, Rochester\, New York\, 14607\, United States
CATEGORIES:JayceLand 2017-Apr-13
END:VEVENT
BEGIN:VEVENT
DTSTART;TZID=America/New_York:20170418T210500
DTEND;TZID=America/New_York:20170418T224800
DTSTAMP:20260421T231210
CREATED:20170412T170515Z
LAST-MODIFIED:20170412T170515Z
UID:12328-1492549500-1492555680@jayceland.com
SUMMARY:The Great Wall screening (2017-Apr-18 @ 9:05 p.m.)
DESCRIPTION:The Cinema will screen The Great Wall (Yimou Zhang\, U.S. / China / Hong Kong / Australia / Canada 2016\, 103 min.) "European mercenaries searching for black powder become embroiled in the defense of the Great Wall of China against a horde of monstrous creatures." [source: Cinema Theater coming soon page\, 2017-Apr-12]
URL:https://jayceland.com/blog/event/the-great-wall-screening-2017-apr-18-905-p-m/
LOCATION:Cinema Theatre\, 957 S. Clinton Ave.\, Rochester\, New York\, 14620\, United States
CATEGORIES:JayceLand 2017-Apr-13
END:VEVENT
END:VCALENDAR