BEGIN:VCALENDAR
VERSION:2.0
PRODID:-//JayceLand - ECPv6.15.20//NONSGML v1.0//EN
CALSCALE:GREGORIAN
METHOD:PUBLISH
X-ORIGINAL-URL:https://jayceland.com/blog
X-WR-CALDESC:Events for JayceLand
REFRESH-INTERVAL;VALUE=DURATION:PT1H
X-Robots-Tag:noindex
X-PUBLISHED-TTL:PT1H
BEGIN:VTIMEZONE
TZID:America/New_York
BEGIN:DAYLIGHT
TZOFFSETFROM:-0500
TZOFFSETTO:-0400
TZNAME:EDT
DTSTART:20160313T070000
END:DAYLIGHT
BEGIN:STANDARD
TZOFFSETFROM:-0400
TZOFFSETTO:-0500
TZNAME:EST
DTSTART:20161106T060000
END:STANDARD
BEGIN:DAYLIGHT
TZOFFSETFROM:-0500
TZOFFSETTO:-0400
TZNAME:EDT
DTSTART:20170312T070000
END:DAYLIGHT
BEGIN:STANDARD
TZOFFSETFROM:-0400
TZOFFSETTO:-0500
TZNAME:EST
DTSTART:20171105T060000
END:STANDARD
BEGIN:DAYLIGHT
TZOFFSETFROM:-0500
TZOFFSETTO:-0400
TZNAME:EDT
DTSTART:20180311T070000
END:DAYLIGHT
BEGIN:STANDARD
TZOFFSETFROM:-0400
TZOFFSETTO:-0500
TZNAME:EST
DTSTART:20181104T060000
END:STANDARD
END:VTIMEZONE
BEGIN:VEVENT
DTSTART;TZID=America/New_York:20170414T103000
DTEND;TZID=America/New_York:20170414T113000
DTSTAMP:20260422T101552
CREATED:20170412T170513Z
LAST-MODIFIED:20170412T170513Z
UID:12297-1492165800-1492169400@jayceland.com
SUMMARY:Eastman School of Music's tetRoc 4tet musical performance
DESCRIPTION:[source: Monroe County Library website\, 2017-Apr-10]
URL:https://jayceland.com/blog/event/eastman-school-of-musics-tetroc-4tet-musical-performance/
LOCATION:Brighton Memorial Library\, 2300 Elmwood Ave.\, Rochester\, New York\, 14618\, United States
CATEGORIES:JayceLand 2017-Apr-13
END:VEVENT
BEGIN:VEVENT
DTSTART;TZID=America/New_York:20170414T140000
DTEND;TZID=America/New_York:20170414T154400
DTSTAMP:20260422T101552
CREATED:20170412T170515Z
LAST-MODIFIED:20170412T170515Z
UID:12331-1492178400-1492184640@jayceland.com
SUMMARY:The Lego Batman Movie screening (2017-Apr-14 @ 2 p.m.)
DESCRIPTION:The Cinema will screen The Lego Batman Movie (Chris McKay\, U.S. / Denmark 2017\, 104 min.) "A cooler-than-ever Bruce Wayne must deal with the usual suspects as they plan to rule Gotham City\, while discovering that he has accidentally adopted a teenage orphan who wishes to become his sidekick." [source: Cinema Theater coming soon page\, 2017-Apr-12]
URL:https://jayceland.com/blog/event/the-lego-batman-movie-screening-2017-apr-14-2-p-m/
LOCATION:Cinema Theatre\, 957 S. Clinton Ave.\, Rochester\, New York\, 14620\, United States
CATEGORIES:JayceLand 2017-Apr-13
END:VEVENT
BEGIN:VEVENT
DTSTART;TZID=America/New_York:20170414T161500
DTEND;TZID=America/New_York:20170414T181300
DTSTAMP:20260422T101552
CREATED:20170412T170516Z
LAST-MODIFIED:20170412T170516Z
UID:12339-1492186500-1492193580@jayceland.com
SUMMARY:Lion screening (2017-Apr-14 @ 4:15 p.m.)
DESCRIPTION:The Cinema will screen Lion (Garth Davis\, U.S. / Australia / U.K. 2016\, 118 min.) "A five-year-old Indian boy gets lost on the streets of Calcutta\, thousands of kilometers from home. He survives many challenges before being adopted by a couple in Australia; 25 years later\, he sets out to find his lost family." [source: Cinema Theater coming soon page\, 2017-Apr-12]
URL:https://jayceland.com/blog/event/lion-screening-2017-apr-14-415-p-m/
LOCATION:Cinema Theatre\, 957 S. Clinton Ave.\, Rochester\, New York\, 14620\, United States
CATEGORIES:JayceLand 2017-Apr-13
END:VEVENT
BEGIN:VEVENT
DTSTART;TZID=America/New_York:20170414T180000
DTEND;TZID=America/New_York:20170414T210000
DTSTAMP:20260422T101552
CREATED:20170412T170513Z
LAST-MODIFIED:20170412T170513Z
UID:12303-1492192800-1492203600@jayceland.com
SUMMARY:Friday Fling: Ceramics (2017-Apr-14 @ 6 p.m.)
DESCRIPTION:Advanced registration and payment required. The perfect date night — come to the studio and learn to throw a bowl! We provide the clay\, the tools\, and of course the wine/beer and snacks. You just come ready to get dirty!  Start your weekend off right! Create with us while you sip your favorite adult beverage. Supplies and drinks are provided and instructors will walk you through the process as you create your unique piece of art. Pre—registration is required and flings fill up fast\, so reserve your spot today! (21+ only) \n [source: Flower City Arts Center website\, 2017-Apr-10]
URL:https://jayceland.com/blog/event/friday-fling-ceramics-2017-apr-14-6-p-m/
LOCATION:Flower City Arts Center (formerly Genesee Center for Arts and Education)\, 713 Monroe Ave.\, Rochester\, New York\, 14607\, United States
CATEGORIES:JayceLand 2017-Apr-13
END:VEVENT
BEGIN:VEVENT
DTSTART;TZID=America/New_York:20170414T180000
DTEND;TZID=America/New_York:20170414T210000
DTSTAMP:20260422T101552
CREATED:20170412T170513Z
LAST-MODIFIED:20170412T170513Z
UID:12304-1492192800-1492203600@jayceland.com
SUMMARY:Opening Reception: Unforeseen Structures
DESCRIPTION:At the Flower City Arts Center is the Opening Reception for Unforeseen Structures by Mitch Goldstein\, on display through May 20.  \nUnforeseen Structures is artist Mitch Goldstein's examination of emergent form using darkroom photography techniques\, specifically the photogram. Photograms use no cameras or lenses — instead\, objects are placed on or near unexposed photographic paper and briefly exposed to light. This process results in abstract black and white compositions\, which emerge unpredictably from the physical materials used in their creation. Goldstein relinquishes control\, relying instead on intuition and chance to allow form and structure to develop from the process. \n [source: Flower City Arts Center website\, 2017-Apr-10]
URL:https://jayceland.com/blog/event/opening-reception-unforeseen-structures/
LOCATION:Flower City Arts Center (formerly Genesee Center for Arts and Education)\, 713 Monroe Ave.\, Rochester\, New York\, 14607\, United States
CATEGORIES:JayceLand 2017-Apr-13
END:VEVENT
BEGIN:VEVENT
DTSTART;TZID=America/New_York:20170414T190000
DTEND;TZID=America/New_York:20170414T210200
DTSTAMP:20260422T101552
CREATED:20170412T170514Z
LAST-MODIFIED:20170412T170514Z
UID:12317-1492196400-1492203720@jayceland.com
SUMMARY:John Wick: Chapter 2 screening (2017-Apr-14 @ 7 p.m.)
DESCRIPTION:The Cinema will screen John Wick: Chapter 2 (Chad Stahelski\, U.S. 2017\, 122 min.) "After returning to the criminal underworld to repay a debt\, John Wick discovers that a large bounty has been put on his life." [source: Cinema Theater coming soon page\, 2017-Apr-12]
URL:https://jayceland.com/blog/event/john-wick-chapter-2-screening-2017-apr-14-7-p-m/
LOCATION:Cinema Theatre\, 957 S. Clinton Ave.\, Rochester\, New York\, 14620\, United States
CATEGORIES:JayceLand 2017-Apr-13
END:VEVENT
BEGIN:VEVENT
DTSTART;TZID=America/New_York:20170414T193000
DTEND;TZID=America/New_York:20170414T203000
DTSTAMP:20260422T101552
CREATED:20170412T170514Z
LAST-MODIFIED:20170412T170514Z
UID:12307-1492198200-1492201800@jayceland.com
SUMMARY:The Illinois Parables screening
DESCRIPTION:The Dryden will screen The Illinois Parables (Deborah Stratman\, U.S. 2016\, 60 min.\, 16mm) followed by a discussion with filmmaker Deborah Stratman.  \nAn experimental documentary made up of regional vignettes about faith\, force\, technology\, and exodus. Eleven chapters relay histories of settlement\, removal\, technological breakthrough\, violence\, messianism\, and resistance—all occurring in Illinois. The state is a convenient structural ruse\, its histories becoming allegories to explore how humans are shaped by conviction and ideology. The film uses reenactment\, archival footage\, observational shooting\, intertitles\, and voiceover to tell its stories\, and it is an extension of Stratman's previous works in which she questions foundational American tenets. \n [source: George Eastman Museum calendar\, 2017-Apr-10]
URL:https://jayceland.com/blog/event/the-illinois-parables-screening/
LOCATION:Dryden Theatre at George Eastman Museum (formerly George Eastman House)\, 900 East Ave.\, Rochester\, New York\, 14607\, United States
CATEGORIES:JayceLand 2017-Apr-13
END:VEVENT
BEGIN:VEVENT
DTSTART;TZID=America/New_York:20170414T210500
DTEND;TZID=America/New_York:20170414T224800
DTSTAMP:20260422T101552
CREATED:20170412T170515Z
LAST-MODIFIED:20170412T170515Z
UID:12324-1492203900-1492210080@jayceland.com
SUMMARY:The Great Wall screening (2017-Apr-14 @ 9:05 p.m.)
DESCRIPTION:The Cinema will screen The Great Wall (Yimou Zhang\, U.S. / China / Hong Kong / Australia / Canada 2016\, 103 min.) "European mercenaries searching for black powder become embroiled in the defense of the Great Wall of China against a horde of monstrous creatures." [source: Cinema Theater coming soon page\, 2017-Apr-12]
URL:https://jayceland.com/blog/event/the-great-wall-screening-2017-apr-14-905-p-m/
LOCATION:Cinema Theatre\, 957 S. Clinton Ave.\, Rochester\, New York\, 14620\, United States
CATEGORIES:JayceLand 2017-Apr-13
END:VEVENT
BEGIN:VEVENT
DTSTART;TZID=America/New_York:20170414T213000
DTEND;TZID=America/New_York:20170414T233000
DTSTAMP:20260422T101552
CREATED:20170412T170513Z
LAST-MODIFIED:20170412T170513Z
UID:12293-1492205400-1492212600@jayceland.com
SUMMARY:The Keelers musical performance
DESCRIPTION:[source: Skylark website\, 2017-Apr-10]
URL:https://jayceland.com/blog/event/the-keelers-musical-performance/
LOCATION:Skylark Lounge\, 40 South Union St.\, Rochester\, New York\, 14607\, United States
CATEGORIES:JayceLand 2017-Apr-13
END:VEVENT
END:VCALENDAR