BEGIN:VCALENDAR
VERSION:2.0
PRODID:-//JayceLand - ECPv6.15.20//NONSGML v1.0//EN
CALSCALE:GREGORIAN
METHOD:PUBLISH
X-WR-CALNAME:JayceLand
X-ORIGINAL-URL:https://jayceland.com/blog
X-WR-CALDESC:Events for JayceLand
REFRESH-INTERVAL;VALUE=DURATION:PT1H
X-Robots-Tag:noindex
X-PUBLISHED-TTL:PT1H
BEGIN:VTIMEZONE
TZID:America/New_York
BEGIN:DAYLIGHT
TZOFFSETFROM:-0500
TZOFFSETTO:-0400
TZNAME:EDT
DTSTART:20160313T070000
END:DAYLIGHT
BEGIN:STANDARD
TZOFFSETFROM:-0400
TZOFFSETTO:-0500
TZNAME:EST
DTSTART:20161106T060000
END:STANDARD
BEGIN:DAYLIGHT
TZOFFSETFROM:-0500
TZOFFSETTO:-0400
TZNAME:EDT
DTSTART:20170312T070000
END:DAYLIGHT
BEGIN:STANDARD
TZOFFSETFROM:-0400
TZOFFSETTO:-0500
TZNAME:EST
DTSTART:20171105T060000
END:STANDARD
BEGIN:DAYLIGHT
TZOFFSETFROM:-0500
TZOFFSETTO:-0400
TZNAME:EDT
DTSTART:20180311T070000
END:DAYLIGHT
BEGIN:STANDARD
TZOFFSETFROM:-0400
TZOFFSETTO:-0500
TZNAME:EST
DTSTART:20181104T060000
END:STANDARD
END:VTIMEZONE
BEGIN:VEVENT
DTSTART;TZID=America/New_York:20170412T170000
DTEND;TZID=America/New_York:20170412T190000
DTSTAMP:20260422T235407
CREATED:20170405T173229Z
LAST-MODIFIED:20170405T173229Z
UID:12175-1492016400-1492023600@jayceland.com
SUMMARY:Training: Responding to Racist Remarks
DESCRIPTION:Training by Kathy Castania and other members of the SURJ ROC Ed Committee; for SURJ members. \n [source: Flying Squirrel website\, 2017-Apr-3]
URL:https://jayceland.com/blog/event/training-responding-to-racist-remarks/
LOCATION:Flying Squirrel Community Space\, 285 Clarissa St.\, Rochester\, New York\, 14608\, United States
CATEGORIES:JayceLand 2017-Apr-6
END:VEVENT
BEGIN:VEVENT
DTSTART;TZID=America/New_York:20170412T180000
DTEND;TZID=America/New_York:20170412T190000
DTSTAMP:20260422T235407
CREATED:20170405T173230Z
LAST-MODIFIED:20170405T173230Z
UID:12188-1492020000-1492023600@jayceland.com
SUMMARY:Renegade Tour: The Secret Life of Objects
DESCRIPTION:This tour of Robert Cumming: The Secret Life of Objects begins with an introduction to the exhibition by assistant curator Will Green\, followed by a scavenger hunt\, selfie challenge\, and more. Following the tour\, guests will have the opportunity to create their own Robert Cumming—inspired mail art. \n [source: George Eastman Museum calendar\, 2017-Apr-3]
URL:https://jayceland.com/blog/event/renegade-tour-the-secret-life-of-objects/
LOCATION:George Eastman Museum (formerly George Eastman House)\, 900 East Ave.\, Rochester\, New York\, 14607\, United States
CATEGORIES:JayceLand 2017-Apr-6
END:VEVENT
BEGIN:VEVENT
DTSTART;TZID=America/New_York:20170412T190000
DTEND;TZID=America/New_York:20170412T200000
DTSTAMP:20260422T235407
CREATED:20170405T173230Z
LAST-MODIFIED:20170405T173230Z
UID:12197-1492023600-1492027200@jayceland.com
SUMMARY:Seed Starting 101 Workshop
DESCRIPTION:Join Edible Landscaper Rawson Duckett on Wednesday April 12\, 2017 from 7-8 p.m. for this intro to gardening workshop: Seed Starting 101 Workshop. Participants will learn how to start seeds properly\, where to start seeds\, and when to start seeds. This is a hands on style class and participants should bring gloves\, and a container to be prepared to leave with a seed starting kit. \n [source: Facebook\, 2017-Apr-3]
URL:https://jayceland.com/blog/event/seed-starting-101-workshop/
LOCATION:540WMain Community Arts Education and Cultural Center\, 540 W. Main St.\, Rochester\, New York\, 14608\, United States
CATEGORIES:JayceLand 2017-Apr-6
END:VEVENT
BEGIN:VEVENT
DTSTART;TZID=America/New_York:20170412T190000
DTEND;TZID=America/New_York:20170412T205800
DTSTAMP:20260422T235407
CREATED:20170405T173231Z
LAST-MODIFIED:20170405T173231Z
UID:12203-1492023600-1492030680@jayceland.com
SUMMARY:Lion screening (2017-Apr-12 @ 7 p.m.)
DESCRIPTION:The Cinema will screen Lion (Garth Davis\, U.S. / Australia / U.K. 2016\, 118 min.) "A five-year-old Indian boy gets lost on the streets of Calcutta\, thousands of kilometers from home. He survives many challenges before being adopted by a couple in Australia; 25 years later\, he sets out to find his lost family." [source: Cinema Theater coming soon page\, 2017-Apr-5]
URL:https://jayceland.com/blog/event/lion-screening-2017-apr-12-7-p-m/
LOCATION:Cinema Theatre\, 957 S. Clinton Ave.\, Rochester\, New York\, 14620\, United States
CATEGORIES:JayceLand 2017-Apr-6
END:VEVENT
BEGIN:VEVENT
DTSTART;TZID=America/New_York:20170412T193000
DTEND;TZID=America/New_York:20170412T210900
DTSTAMP:20260422T235407
CREATED:20170405T173230Z
LAST-MODIFIED:20170405T173230Z
UID:12189-1492025400-1492031340@jayceland.com
SUMMARY:The Maelstrom: A Family Chronicle\, Aufschub (Respite) screenings
DESCRIPTION:The Dryden will screen The Maelstrom: A Family Chronicle (Péter Forgács\, Netherlands 1997\, 60 min.\, digital\, Dutch w/subtitles)\, and Aufschub (Respite\, Harun Farocki\, Germany/Netherlands 2007\, 39 min.\, digital).  \nThe Maelstrom makes extraordinarily artful use of a considerable cache of home movies shot in the Netherlands before and during World War II. Information is conveyed through subtitles and a soundtrack of period sound—mostly radio broadcasts—and brooding\, disturbing jazz by Tibor SzemzÅ'. We see a Jewish family first living unknowingly in the shadow of the Holocaust and then trying to cope with it\, still unaware of what it will finally mean. A shot of the film's photographer\, Max Peereboom\, and his family cheerfully sewing and doing general preparation for a trip to a "work camp"—when their destination was the nightmare of Auschwitz—adds a devastating dimension to our understanding that no Hollywood movie\, no other documentary\, has been able to provide.  Respite consists of silent black-and-white films shot at Westerbork\, a Dutch refugee camp established in 1939 for Jews fleeing Germany. In 1942\, after the occupation of Holland\, its function was reversed by the Nazis and it became a "transit camp." In 1944\, the camp commander commissioned a film\, shot by a prisoner\, photographer Rudolf Breslauer.  \n [source: George Eastman Museum calendar\, 2017-Apr-3]
URL:https://jayceland.com/blog/event/the-maelstrom-a-family-chronicle-aufschub-respite-screenings/
LOCATION:Dryden Theatre at George Eastman Museum (formerly George Eastman House)\, 900 East Ave.\, Rochester\, New York\, 14607\, United States
CATEGORIES:JayceLand 2017-Apr-6
END:VEVENT
BEGIN:VEVENT
DTSTART;TZID=America/New_York:20170412T200000
DTEND;TZID=America/New_York:20170412T220000
DTSTAMP:20260422T235407
CREATED:20170405T173229Z
LAST-MODIFIED:20170405T173229Z
UID:12178-1492027200-1492034400@jayceland.com
SUMMARY:Eastman Musica Nova musical performance (2017-Apr-12 @ 8 p.m.)
DESCRIPTION:[source: Eastman School of Music Calendar\, 2017-Apr-3]
URL:https://jayceland.com/blog/event/eastman-musica-nova-musical-performance-2017-apr-12-8-p-m/
LOCATION:Kilbourn Hall at Eastman School of Music\, 60 Gibbs St.\, Rochester\, New York\, 14604\, United States
CATEGORIES:JayceLand 2017-Apr-6
END:VEVENT
BEGIN:VEVENT
DTSTART;TZID=America/New_York:20170412T210000
DTEND;TZID=America/New_York:20170412T223800
DTSTAMP:20260422T235407
CREATED:20170405T173231Z
LAST-MODIFIED:20170405T173231Z
UID:12210-1492030800-1492036680@jayceland.com
SUMMARY:Before I Fall screening (2017-Apr-12 @ 9 p.m.)
DESCRIPTION:The Cinema will screen Before I Fall (Ry Russo-Young\, U.S. 2017\, 98 min.) "February 12 is just another day in Sam's charmed life\, until it turns out to be her last. Stuck reliving her last day over one inexplicable week\, Sam untangles the mystery around her death and discovers everything she's losing." [source: Cinema Theater coming soon page\, 2017-Apr-5]
URL:https://jayceland.com/blog/event/before-i-fall-screening-2017-apr-12-9-p-m/
LOCATION:Cinema Theatre\, 957 S. Clinton Ave.\, Rochester\, New York\, 14620\, United States
CATEGORIES:JayceLand 2017-Apr-6
END:VEVENT
BEGIN:VEVENT
DTSTART;TZID=America/New_York:20170412T210000
DTEND;TZID=America/New_York:20170412T230000
DTSTAMP:20260422T235407
CREATED:20170405T173229Z
LAST-MODIFIED:20170405T173229Z
UID:12173-1492030800-1492038000@jayceland.com
SUMMARY:Diet Cig\, Daddy Issues\, Secret Pizza\, Full Body musical performances
DESCRIPTION:[source: Facebook\, 2017-Apr-3]
URL:https://jayceland.com/blog/event/diet-cig-daddy-issues-secret-pizza-full-body-musical-performances/
LOCATION:Bug Jar\, 219 Monroe Ave\, Rochester\, New York\, 14607\, United States
CATEGORIES:JayceLand 2017-Apr-6
END:VEVENT
END:VCALENDAR