BEGIN:VCALENDAR
VERSION:2.0
PRODID:-//JayceLand - ECPv6.15.20//NONSGML v1.0//EN
CALSCALE:GREGORIAN
METHOD:PUBLISH
X-WR-CALNAME:JayceLand
X-ORIGINAL-URL:https://jayceland.com/blog
X-WR-CALDESC:Events for JayceLand
REFRESH-INTERVAL;VALUE=DURATION:PT1H
X-Robots-Tag:noindex
X-PUBLISHED-TTL:PT1H
BEGIN:VTIMEZONE
TZID:America/New_York
BEGIN:DAYLIGHT
TZOFFSETFROM:-0500
TZOFFSETTO:-0400
TZNAME:EDT
DTSTART:20160313T070000
END:DAYLIGHT
BEGIN:STANDARD
TZOFFSETFROM:-0400
TZOFFSETTO:-0500
TZNAME:EST
DTSTART:20161106T060000
END:STANDARD
BEGIN:DAYLIGHT
TZOFFSETFROM:-0500
TZOFFSETTO:-0400
TZNAME:EDT
DTSTART:20170312T070000
END:DAYLIGHT
BEGIN:STANDARD
TZOFFSETFROM:-0400
TZOFFSETTO:-0500
TZNAME:EST
DTSTART:20171105T060000
END:STANDARD
BEGIN:DAYLIGHT
TZOFFSETFROM:-0500
TZOFFSETTO:-0400
TZNAME:EDT
DTSTART:20180311T070000
END:DAYLIGHT
BEGIN:STANDARD
TZOFFSETFROM:-0400
TZOFFSETTO:-0500
TZNAME:EST
DTSTART:20181104T060000
END:STANDARD
END:VTIMEZONE
BEGIN:VEVENT
DTSTART;TZID=America/New_York:20170410T133000
DTEND;TZID=America/New_York:20170410T150800
DTSTAMP:20260424T201649
CREATED:20170405T173230Z
LAST-MODIFIED:20170405T173230Z
UID:12185-1491831000-1491836880@jayceland.com
SUMMARY:Brute Force screening (2017-Apr-10 @ 1:30 p.m.)
DESCRIPTION:The Dryden will screen Brute Force (Jules Dassin\, U.S. 1947\, 98 min.\, 35mm) as part of the 12 Postcards from Prison series.  \nIn this atmospheric film noir from the director of Rififi and The Naked City\, Burt Lancaster plays tough-hearted Joe Collins\, a prisoner locked up in a penitentiary under the watch of cruelly sadistic Captain Munsey (Hume Cronyn). Fed-up with Munsey's fascistic tactics\, Collins plans the ultimate escape\, putting both his and his fellow prisoners' lives at stake. Though its portrayal of violence may pale in comparison to films today\, Brute Force maintains its position as one of the first honest and revealing portraits of prisoner hardships. \n [source: George Eastman Museum calendar\, 2017-Mar-27]
URL:https://jayceland.com/blog/event/brute-force-screening-2017-apr-10-130-p-m/
LOCATION:Dryden Theatre at George Eastman Museum (formerly George Eastman House)\, 900 East Ave.\, Rochester\, New York\, 14607\, United States
CATEGORIES:JayceLand 2017-Apr-6
END:VEVENT
BEGIN:VEVENT
DTSTART;TZID=America/New_York:20170410T170000
DTEND;TZID=America/New_York:20170410T200800
DTSTAMP:20260424T201649
CREATED:20170405T173230Z
LAST-MODIFIED:20170405T173230Z
UID:12186-1491843600-1491854880@jayceland.com
SUMMARY:Spotlight screening\, reception\, discussion
DESCRIPTION:The Curtis Theatre in the George Eastman Museum will host a Reception prior to the screening of Spotlight (Tom McCarthy\, U.S./Canada 2015\, 128 min.\, DCP) in the Dryden. The screening will be followed by a Panel Discussion of child abuse in partnership with Bivona Child Advocacy Center moderated by Todd Butler.  \nUnder the direction of new editor Marty Baron (Liev Schreiber)\, the Boston Globe's elite investigative team\, known as Spotlight\, is tasked with delving into decades' worth of child-abuse claims against the Catholic Church. Led by Walter "Robby" Robinson (Michael Keaton)\, the journalists begin to uncover a massive scandal involving sexual abuse and the willful ignorance perpetrated by the Church within the city of Boston. Facing political opposition and resistance from the far-reaching in uence of the Church\, the reporters put together an explosive exposé on a corrupt system. Based on the true events of the 2002 investigation by the Globe\, the star-studded Spotlight also features Rachel McAdams\, Mark Ruffalo\, John Slattery\, Billy Crudup\, and Stanley Tucci. \n [source: George Eastman Museum calendar\, 2017-Apr-3]
URL:https://jayceland.com/blog/event/spotlight-screening-reception-discussion/
LOCATION:Dryden Theatre at George Eastman Museum (formerly George Eastman House)\, 900 East Ave.\, Rochester\, New York\, 14607\, United States
CATEGORIES:JayceLand 2017-Apr-6
END:VEVENT
BEGIN:VEVENT
DTSTART;TZID=America/New_York:20170410T183000
DTEND;TZID=America/New_York:20170410T203000
DTSTAMP:20260424T201649
CREATED:20170118T211307Z
LAST-MODIFIED:20170118T211307Z
UID:10890-1491849000-1491856200@jayceland.com
SUMMARY:Evidence Based Treatment for Bipolar Disorder
DESCRIPTION:Bipolar disorder affects approximately 5.7 million adult Americans or about 2.6% of the U.S. population age 18 and older every year. The median age of onset for bipolar disorder is 25 years although the illness can start in early childhood or as late as the 40's and 50's.  An informational presentation on this subject will be presented Dr. Laurence Guttmacher\, Clinical Director at the Rochester Psychiatric Center and Clinical Professor of Psychiatry and Medical Humanities at the University Of Rochester School Of Medicine and Dentistry. Dr Guttmacher will review the most recent evidence based treatment for Bipolar Disorder. \n [source: Mental Health Association e-mail\, 2017-Jan-9]
URL:https://jayceland.com/blog/event/evidence-based-treatment-for-bipolar-disorder/
LOCATION:Rochester Psychiatric Center\, 1111 Elmwood Ave.\, Rochester\, New York\, 14620\, United States
CATEGORIES:JayceLand 2017-Apr-6
END:VEVENT
BEGIN:VEVENT
DTSTART;TZID=America/New_York:20170410T190000
DTEND;TZID=America/New_York:20170410T205800
DTSTAMP:20260424T201649
CREATED:20170405T173231Z
LAST-MODIFIED:20170405T173231Z
UID:12201-1491850800-1491857880@jayceland.com
SUMMARY:Lion screening (2017-Apr-10 @ 7 p.m.)
DESCRIPTION:The Cinema will screen Lion (Garth Davis\, U.S. / Australia / U.K. 2016\, 118 min.) "A five-year-old Indian boy gets lost on the streets of Calcutta\, thousands of kilometers from home. He survives many challenges before being adopted by a couple in Australia; 25 years later\, he sets out to find his lost family." [source: Cinema Theater coming soon page\, 2017-Apr-5]
URL:https://jayceland.com/blog/event/lion-screening-2017-apr-10-7-p-m/
LOCATION:Cinema Theatre\, 957 S. Clinton Ave.\, Rochester\, New York\, 14620\, United States
CATEGORIES:JayceLand 2017-Apr-6
END:VEVENT
BEGIN:VEVENT
DTSTART;TZID=America/New_York:20170410T190000
DTEND;TZID=America/New_York:20170410T210000
DTSTAMP:20260424T201649
CREATED:20170329T172834Z
LAST-MODIFIED:20170329T172834Z
UID:12086-1491850800-1491858000@jayceland.com
SUMMARY:David Cay Johnston\, Trump: Should We Be Afraid?
DESCRIPTION:David Cay Johnston will present a lecture titled  \nTrump: Should We Be Afraid? \n [source: Rochester Arts and Lectures website\, 2017-Mar-27]
URL:https://jayceland.com/blog/event/david-cay-johnston-trump-should-we-be-afraid/
LOCATION:Rochester Academy of Medicine\, 1441 East Ave. #100\, Rochester\, New York\, 14610\, United States
CATEGORIES:JayceLand 2017-Apr-6
END:VEVENT
BEGIN:VEVENT
DTSTART;TZID=America/New_York:20170410T210000
DTEND;TZID=America/New_York:20170410T223800
DTSTAMP:20260424T201649
CREATED:20170405T173231Z
LAST-MODIFIED:20170405T173231Z
UID:12208-1491858000-1491863880@jayceland.com
SUMMARY:Before I Fall screening (2017-Apr-10 @ 9 p.m.)
DESCRIPTION:The Cinema will screen Before I Fall (Ry Russo-Young\, U.S. 2017\, 98 min.) "February 12 is just another day in Sam's charmed life\, until it turns out to be her last. Stuck reliving her last day over one inexplicable week\, Sam untangles the mystery around her death and discovers everything she's losing." [source: Cinema Theater coming soon page\, 2017-Apr-5]
URL:https://jayceland.com/blog/event/before-i-fall-screening-2017-apr-10-9-p-m/
LOCATION:Cinema Theatre\, 957 S. Clinton Ave.\, Rochester\, New York\, 14620\, United States
CATEGORIES:JayceLand 2017-Apr-6
END:VEVENT
END:VCALENDAR